Uber Exif Photo
Make : Leica Camera AG
Camera Model Name : M8 Digital Camera
Software : 1.102
Modify Date : 2007:08:31 23:43:05
Exposure Time : 1/60
Exposure Program : Aperture-priority AE
ISO : 160
Date/Time Original : 2007:06:22 02:32:34
Create Date : 2007:06:22 02:32:34
Shutter Speed Value : 1/60
Exposure Compensation : 0
Max Aperture Value : 2.0
Metering Mode : Center-weighted average
Light Source : Unknown
Focal Length : 90.0 mm
Scene Type : Directly photographed
White Balance : Auto
Digital Zoom Ratio : 0
Focal Length In 35mm Format : 121 mm
Scene Capture Type : Standard
Time Zone Offset : -7 -7
Profile Description : Adobe RGB (1998)
Orientation : Horizontal (normal)
Date/Time Digitized : 2007:06:22 02:32:34-07:00
Creator Tool : Adobe Photoshop Lightroom
Serial Number : 3107553
Version : 1.0
Color Temperature : 6500
Tint : +10
Exposure : -0.71
Shadows : 33
Brightness : +50
Contrast : +25
Saturation : 0
Sharpness : 25
Luminance Smoothing : 0
Color Noise Reduction : 25
Chromatic Aberration R : 0
Chromatic Aberration B : 0
Vignette Amount : 0
Shadow Tint : 0
Red Hue : 0
Red Saturation : 0
Green Hue : 0
Green Saturation : 0
Blue Hue : 0
Blue Saturation : 0
Fill Light : 40
Vibrance : +48
Highlight Recovery : 66
Clarity : 14
Defringe : 0
Hue Adjustment Red : 0
Hue Adjustment Orange : 0
Hue Adjustment Yellow : 0
Hue Adjustment Green : 0
Hue Adjustment Aqua : 0
Hue Adjustment Blue : 0
Hue Adjustment Purple : 0
Hue Adjustment Magenta : 0
Saturation Adjustment Red : 0
Saturation Adjustment Orange : 0
Saturation Adjustment Yellow : 0
Saturation Adjustment Green : 0
Saturation Adjustment Aqua : 0
Saturation Adjustment Blue : 0
Saturation Adjustment Purple : 0
Saturation Adjustment Magenta : 0
Luminance Adjustment Red : 0
Luminance Adjustment Orange : 0
Luminance Adjustment Yellow : 0
Luminance Adjustment Green : 0
Luminance Adjustment Aqua : 0
Luminance Adjustment Blue : 0
Luminance Adjustment Purple : 0
Luminance Adjustment Magenta : 0
Split Toning Shadow Hue : 0
Split Toning Shadow Saturation : 0
Split Toning Highlight Hue : 0
Split Toning Highlight Saturation : 0
Split Toning Balance : 0
Parametric Shadows : 0
Parametric Darks : -9
Parametric Lights : -27
Parametric Highlights : 0
Parametric Shadow Split : 25
Parametric Midtone Split : 50
Parametric Highlight Split : 75
Sharpen Radius : +1.0
Sharpen Detail : 25
Sharpen Edge Masking : 0
Convert To Grayscale : False
Tone Curve Name : Medium Contrast
Camera Profile : ACR 3.6
Has Settings : True
Crop Top : 0.088646
Crop Left : 0.020706
Crop Bottom : 0.942356
Crop Right : 0.795231
Crop Angle : 1.650957
Crop Width : 3096
Crop Height : 2160
Crop Unit : pixels
Has Crop : True
Already Applied : True
Flash Fired : False
Flash Return : No return detection
Flash Mode : Auto
Flash Function : False
Flash Red Eye Mode : False
Tone Curve : 0, 0, 32, 22, 64, 56, 128, 128, 192, 196, 255, 255
Saved Settings Name : Import
Saved Settings Type : Snapshot
Saved Settings Parameters White Balance : As Shot
Saved Settings Parameters Incremental Temperature : 0
Saved Settings Parameters Incremental Tint : 0
Saved Settings Parameters Exposure : 0.00
Saved Settings Parameters Shadows : 0
Saved Settings Parameters Brightness : 0
Saved Settings Parameters Contrast : 0
Saved Settings Parameters Saturation : 0
Saved Settings Parameters Sharpness : 0
Saved Settings Parameters Luminance Smoothing : 0
Saved Settings Parameters Color Noise Reduction : 0
Saved Settings Parameters Chromatic Aberration R : 0
Saved Settings Parameters Chromatic Aberration B : 0
Saved Settings Parameters Vignette Amount : 0
Saved Settings Parameters Shadow Tint : 0
Saved Settings Parameters Red Hue : 0
Saved Settings Parameters Red Saturation : 0
Saved Settings Parameters Green Hue : 0
Saved Settings Parameters Green Saturation : 0
Saved Settings Parameters Blue Hue : 0
Saved Settings Parameters Blue Saturation : 0
Saved Settings Parameters Fill Light : 0
Saved Settings Parameters Vibrance : 0
Saved Settings Parameters Highlight Recovery : 0
Saved Settings Parameters Clarity : 0
Saved Settings Parameters Defringe : 0
Saved Settings Parameters Hue Adjustment Red : 0
Saved Settings Parameters Hue Adjustment Orange : 0
Saved Settings Parameters Hue Adjustment Yellow : 0
Saved Settings Parameters Hue Adjustment Green : 0
Saved Settings Parameters Hue Adjustment Aqua : 0
Saved Settings Parameters Hue Adjustment Blue : 0
Saved Settings Parameters Hue Adjustment Purple : 0
Saved Settings Parameters Hue Adjustment Magenta : 0
Saved Settings Parameters Saturation Adjustment Red : 0
Saved Settings Parameters Saturation Adjustment Orange : 0
Saved Settings Parameters Saturation Adjustment Yellow : 0
Saved Settings Parameters Saturation Adjustment Green : 0
Saved Settings Parameters Saturation Adjustment Aqua : 0
Saved Settings Parameters Saturation Adjustment Blue : 0
Saved Settings Parameters Saturation Adjustment Purple : 0
Saved Settings Parameters Saturation Adjustment Magenta : 0
Saved Settings Parameters Luminance Adjustment Red : 0
Saved Settings Parameters Luminance Adjustment Orange : 0
Saved Settings Parameters Luminance Adjustment Yellow : 0
Saved Settings Parameters Luminance Adjustment Green : 0
Saved Settings Parameters Luminance Adjustment Aqua : 0
Saved Settings Parameters Luminance Adjustment Blue : 0
Saved Settings Parameters Luminance Adjustment Purple : 0
Saved Settings Parameters Luminance Adjustment Magenta : 0
Saved Settings Parameters Split Toning Shadow Hue : 0
Saved Settings Parameters Split Toning Shadow Saturation : 0
Saved Settings Parameters Split Toning Highlight Hue : 0
Saved Settings Parameters Split Toning Highlight Saturation : 0
Saved Settings Parameters Split Toning Balance : 0
Saved Settings Parameters Parametric Shadows : 0
Saved Settings Parameters Parametric Darks : 0
Saved Settings Parameters Parametric Lights : 0
Saved Settings Parameters Parametric Highlights : 0
Saved Settings Parameters Parametric Shadow Split : 25
Saved Settings Parameters Parametric Midtone Split : 50
Saved Settings Parameters Parametric Highlight Split : 75
Saved Settings Parameters Sharpen Radius : +1.0
Saved Settings Parameters Sharpen Detail : 25
Saved Settings Parameters Sharpen Edge Masking : 0
Saved Settings Parameters Convert To Grayscale : False
Saved Settings Parameters Tone Curve Name : Linear
Saved Settings Parameters Camera Profile : Embedded
Saved Settings Parameters Tone Curve : 0, 0, 255, 255
Image Width : 209
Image Height : 300
Bits Per Sample : 8
Color Components : 3
Image Size : 209x300
Megapixels : 0.063
Scale Factor To 35 mm Equivalent : 1.3
Shutter Speed : 1/60
Flash : Auto, Did not fire
Circle Of Confusion : 0.022 mm
Field Of View : 16.9 deg
Focal Length : 90.0 mm (35 mm equivalent: 121.0 mm)