Uber Exif Photo
Make : Leica Camera AG
Camera Model Name : LEICA M (Typ 240)
Orientation : Horizontal (normal)
Software : Adobe Photoshop CS6 (Macintosh)
Modify Date : 2015:04:10 16:27:26
Exposure Time : 1/1000
F Number : 4.0
Exposure Program : Aperture-priority AE
ISO : 1600
Date/Time Original : 2015:03:30 04:45:20
Create Date : 2015:03:30 04:45:20
Shutter Speed Value : 1/1000
Aperture Value : 4.0
Exposure Compensation : 0
Max Aperture Value : 2.0
Metering Mode : Multi-spot
Light Source : Unknown
Flash : No Flash
Focal Length : 35.0 mm
Color Space : Uncalibrated
Exif Image Width : 2400
Exif Image Height : 1603
Scene Type : Directly photographed
Custom Rendered : Normal
Exposure Mode : Auto
White Balance : Auto
Digital Zoom Ratio : 0
Scene Capture Type : Standard
Contrast : Normal
Saturation : Normal
Sharpness : Normal
Serial Number : 4827649
Lens Model : Summicron-M 1:2/35 ASPH.
GPS Version ID : 2.2.0.0
GPS Altitude Ref : Above Sea Level
GPS Time Stamp : 00:00:00
GPS Status : Measurement Void
GPS Dilution Of Precision : 0
GPS Speed : 0
GPS Track : 0
GPS Date Stamp : 2000:00:00
Profile Description : Adobe RGB (1998)
Creator Tool : 2.0.0.12
Rating : 0
Lens : Summicron-M 1:2/35 ASPH.
Date Created : 2015:03:30 04:45:20
Color Mode : RGB
ICC Profile Name : Adobe RGB (1998)
Format : image/jpeg
Raw File Name : L1003384.DNG
Version : 8.7.1
Process Version : 6.7
Auto White Version : 134348800
Color Temperature : 6200
Tint : -2
Luminance Smoothing : 0
Color Noise Reduction : 25
Vignette Amount : 0
Shadow Tint : 0
Red Hue : 0
Red Saturation : 0
Green Hue : 0
Green Saturation : 0
Blue Hue : 0
Blue Saturation : 0
Vibrance : 0
Hue Adjustment Red : 0
Hue Adjustment Orange : 0
Hue Adjustment Yellow : 0
Hue Adjustment Green : 0
Hue Adjustment Aqua : 0
Hue Adjustment Blue : 0
Hue Adjustment Purple : 0
Hue Adjustment Magenta : 0
Saturation Adjustment Red : 0
Saturation Adjustment Orange : 0
Saturation Adjustment Yellow : 0
Saturation Adjustment Green : 0
Saturation Adjustment Aqua : 0
Saturation Adjustment Blue : 0
Saturation Adjustment Purple : 0
Saturation Adjustment Magenta : 0
Luminance Adjustment Red : 0
Luminance Adjustment Orange : 0
Luminance Adjustment Yellow : 0
Luminance Adjustment Green : 0
Luminance Adjustment Aqua : 0
Luminance Adjustment Blue : 0
Luminance Adjustment Purple : 0
Luminance Adjustment Magenta : 0
Split Toning Shadow Hue : 0
Split Toning Shadow Saturation : 0
Split Toning Highlight Hue : 0
Split Toning Highlight Saturation : 0
Split Toning Balance : 0
Parametric Shadows : 0
Parametric Darks : 0
Parametric Lights : 0
Parametric Highlights : 0
Parametric Shadow Split : 25
Parametric Midtone Split : 50
Parametric Highlight Split : 75
Sharpen Radius : +1.0
Sharpen Detail : 25
Sharpen Edge Masking : 0
Post Crop Vignette Amount : 0
Grain Amount : 0
Color Noise Reduction Detail : 50
Color Noise Reduction Smoothness : 50
Lens Profile Enable : 0
Lens Manual Distortion Amount : 0
Perspective Vertical : 0
Perspective Horizontal : 0
Perspective Rotate : 0.0
Perspective Scale : 100
Perspective Aspect : 0
Perspective Upright : Off
Auto Lateral CA : 0
Exposure 2012 : -1.30
Contrast 2012 : -2
Highlights 2012 : -100
Shadows 2012 : 0
Whites 2012 : +31
Blacks 2012 : -42
Clarity 2012 : 0
Defringe Purple Amount : 0
Defringe Purple Hue Lo : 30
Defringe Purple Hue Hi : 70
Defringe Green Amount : 0
Defringe Green Hue Lo : 40
Defringe Green Hue Hi : 60
Convert To Grayscale : False
Tone Curve Name : Medium Contrast
Tone Curve Name 2012 : Linear
Camera Profile : Adobe Standard
Lens Profile Setup : LensDefaults
Has Settings : True
Has Crop : False
Already Applied : True
Tone Curve : 0, 0, 32, 22, 64, 56, 128, 128, 192, 196, 255, 255
Tone Curve Red : 0, 0, 255, 255
Tone Curve Green : 0, 0, 255, 255
Tone Curve Blue : 0, 0, 255, 255
Tone Curve PV2012 : 0, 0, 255, 255
Tone Curve PV2012 Red : 0, 0, 255, 255
Tone Curve PV2012 Green : 0, 0, 255, 255
Tone Curve PV2012 Blue : 0, 0, 255, 255
Image Width : 300
Image Height : 200
Bits Per Sample : 8
Color Components : 3
Aperture : 4.0
Image Size : 300x200
Megapixels : 0.060
Scale Factor To 35 mm Equivalent : 2.5
Shutter Speed : 1/1000
GPS Altitude : 0 m Above Sea Level
GPS Date/Time : 2000:00:00 00:00:00Z
Circle Of Confusion : 0.012 mm
Field Of View : 23.4 deg
Focal Length : 35.0 mm (35 mm equivalent: 86.7 mm)
Hyperfocal Distance : 25.26 m
Light Value : 10.0
Lens ID : Summicron-M 1:2/35 ASPH.