Uber Exif Photo
Object Name : Rhodes, Dec.2014
Keywords : Rhodes
By-line : Dimitris V. Georgopoulos
By-line Title : Photographer at Large
Copyright Notice : © 2014 Dimitris V. Georgopoulos
Writer-Editor : Dimitris V. Georgopoulos
Copyright Flag : True
URL : © 2014 Dimitris V. Georgopoulos. All Rights Reserved
Make : Leica Camera AG
Camera Model Name : LEICA M (Typ 240)
Software : Adobe Photoshop Lightroom 5.7 (Macintosh)
Modify Date : 2015:06:21 23:29:40
Artist : Dimitris V. Georgopoulos
Copyright : © 2014 Dimitris V. Georgopoulos
Exposure Time : 1/350
F Number : 16.0
Exposure Program : Manual
ISO : 800
Date/Time Original : 2014:12:31 11:51:23
Create Date : 2014:12:31 11:51:23
Shutter Speed Value : 1/350
Aperture Value : 16.0
Exposure Compensation : 0
Max Aperture Value : 2.0
Metering Mode : Spot
Light Source : Unknown
Flash : No Flash
Focal Length : 75.0 mm
Scene Type : Directly photographed
Custom Rendered : Normal
Exposure Mode : Manual
White Balance : Auto
Digital Zoom Ratio : 0
Scene Capture Type : Standard
Contrast : Normal
Saturation : Normal
Sharpness : Normal
Serial Number : 4826822
Lens Info : 75mm f/2-16
Lens Make : Leica Camera AG
Lens Model : Apo-Summicron-M 1:2/75 ASPH .
Lens Serial Number : -------
Profile Description : sRGB IEC61966-2.1
Rating : 3
Label : Blue
Creator Tool : Adobe Photoshop Lightroom 5.7 (Macintosh)
Format : image/jpeg
Lens : Apo-Summicron-M 1:2/75 ASPH .
Date Created : 2014:12:31 11:51:23
Authors Position : Photographer at Large
Caption Writer : Dimitris V. Georgopoulos
Marked : True
Web Statement : © 2014 Dimitris V. Georgopoulos. All Rights Reserved
Property Release Status : Limited or Incomplete Property Releases
PLUS Version : 1.2.0
Digital Source Type : nil
Version : 8.7
Process Version : 6.7
Auto White Version : 134348800
Incremental Temperature : 0
Incremental Tint : 0
Luminance Smoothing : 0
Color Noise Reduction : 0
Vignette Amount : 0
Shadow Tint : 0
Red Hue : 0
Red Saturation : 0
Green Hue : 0
Green Saturation : 0
Blue Hue : 0
Blue Saturation : 0
Vibrance : 0
Hue Adjustment Red : 0
Hue Adjustment Orange : 0
Hue Adjustment Yellow : 0
Hue Adjustment Green : 0
Hue Adjustment Aqua : 0
Hue Adjustment Blue : 0
Hue Adjustment Purple : 0
Hue Adjustment Magenta : 0
Saturation Adjustment Red : 0
Saturation Adjustment Orange : 0
Saturation Adjustment Yellow : 0
Saturation Adjustment Green : 0
Saturation Adjustment Aqua : 0
Saturation Adjustment Blue : 0
Saturation Adjustment Purple : 0
Saturation Adjustment Magenta : 0
Luminance Adjustment Red : 0
Luminance Adjustment Orange : 0
Luminance Adjustment Yellow : 0
Luminance Adjustment Green : 0
Luminance Adjustment Aqua : 0
Luminance Adjustment Blue : 0
Luminance Adjustment Purple : 0
Luminance Adjustment Magenta : 0
Split Toning Shadow Hue : 0
Split Toning Shadow Saturation : 0
Split Toning Highlight Hue : 0
Split Toning Highlight Saturation : 0
Split Toning Balance : 0
Parametric Shadows : 0
Parametric Darks : 0
Parametric Lights : 0
Parametric Highlights : 0
Parametric Shadow Split : 25
Parametric Midtone Split : 50
Parametric Highlight Split : 75
Sharpen Radius : +1.0
Sharpen Detail : 25
Sharpen Edge Masking : 0
Post Crop Vignette Amount : 0
Grain Amount : 0
Lens Profile Enable : 0
Lens Manual Distortion Amount : 0
Perspective Vertical : 0
Perspective Horizontal : 0
Perspective Rotate : 0.0
Perspective Scale : 100
Perspective Aspect : 0
Perspective Upright : Off
Auto Lateral CA : 0
Exposure 2012 : 0.00
Contrast 2012 : 0
Highlights 2012 : 0
Shadows 2012 : 0
Whites 2012 : 0
Blacks 2012 : 0
Clarity 2012 : +1
Defringe Purple Amount : 0
Defringe Purple Hue Lo : 30
Defringe Purple Hue Hi : 70
Defringe Green Amount : 0
Defringe Green Hue Lo : 40
Defringe Green Hue Hi : 60
Convert To Grayscale : False
Tone Curve Name : Linear
Tone Curve Name 2012 : Linear
Camera Profile : Embedded
Lens Profile Setup : LensDefaults
Has Settings : True
Crop Top : 0.152285
Crop Left : 0
Crop Bottom : 0.898959
Crop Right : 0.997564
Crop Angle : 0
Crop Constrain To Warp : 0
Has Crop : True
Already Applied : True
Creator : Dimitris V. Georgopoulos
Title : Rhodes, Dec.2014
Rights : © 2014 Dimitris V. Georgopoulos
Subject : Rhodes
Usage Terms : All Rights Reserved
Property Release ID : All Rights Reserved
Creator Country : Greece
Creator Work Email : dvggeorg@otenet.gr
Creator City : Athens
Creator Work URL : dvgphotography.net
Hierarchical Subject : Rhodes
Tone Curve : 0, 0, 255, 255
Tone Curve Red : 0, 0, 255, 255
Tone Curve Green : 0, 0, 255, 255
Tone Curve Blue : 0, 0, 255, 255
Tone Curve PV2012 : 0, 0, 255, 255
Tone Curve PV2012 Red : 0, 0, 255, 255
Tone Curve PV2012 Green : 0, 0, 255, 255
Tone Curve PV2012 Blue : 0, 0, 255, 255
Image Width : 255
Image Height : 128
Bits Per Sample : 8
Color Components : 3
Aperture : 16.0
Image Size : 255x128
Megapixels : 0.033
Scale Factor To 35 mm Equivalent : 25.1
Shutter Speed : 1/350
Circle Of Confusion : 0.001 mm
Field Of View : 1.1 deg
Focal Length : 75.0 mm (35 mm equivalent: 1880.3 mm)
Hyperfocal Distance : 293.35 m
Light Value : 13.5
Lens ID : Apo-Summicron-M 1:2/75 ASPH .