Uber Exif Photo
By-line : Matt MacDonald
Copyright Notice : Matt MacDonald Photography
Make : Leica Camera AG
Camera Model Name : M9 Digital Camera
Software : 1.162
Modify Date : 2011:07:05 22:47:45
Artist : Matt MacDonald
Copyright : Matt MacDonald Photography
Exposure Time : 1/8
F Number : 4.0
Exposure Program : Manual
ISO : 640
Sensitivity Type : Unknown
Date/Time Original : 2011:07:02 17:40:12
Create Date : 2011:07:02 17:40:12
Shutter Speed Value : 1/8
Aperture Value : 4.0
Exposure Compensation : +0.664
Max Aperture Value : 2.8
Metering Mode : Center-weighted average
Light Source : Unknown
Focal Length : 21.0 mm
Scene Type : Directly photographed
Exposure Mode : Manual
White Balance : Auto
Digital Zoom Ratio : 0
Focal Length In 35mm Format : 21 mm
Scene Capture Type : Standard
Serial Number : 3803769
Lens Model : Leica Elmarit-M 21mm f/2.8
Profile Description : Adobe RGB (1998)
Date/Time Digitized : 2011:07:02 17:40:12+09:00
Exif Image Width : 2500
Exif Image Height : 2148
Color Space : Uncalibrated
Creator Tool : Adobe Photoshop Lightroom
Lens : Leica Elmarit-M 21mm f/2.8
Marked : True
Format : image/tiff
Version : 6.2
Process Version : 5.7
Incremental Temperature : 0
Incremental Tint : 0
Exposure : +0.23
Shadows : 0
Brightness : 0
Contrast : 0
Saturation : 0
Sharpness : 0
Luminance Smoothing : 0
Color Noise Reduction : 0
Chromatic Aberration R : 0
Chromatic Aberration B : 0
Vignette Amount : 0
Shadow Tint : 0
Red Hue : 0
Red Saturation : 0
Green Hue : 0
Green Saturation : 0
Blue Hue : 0
Blue Saturation : 0
Fill Light : 18
Vibrance : 0
Highlight Recovery : 13
Clarity : 0
Defringe : 0
Hue Adjustment Red : 0
Hue Adjustment Orange : 0
Hue Adjustment Yellow : 0
Hue Adjustment Green : 0
Hue Adjustment Aqua : 0
Hue Adjustment Blue : 0
Hue Adjustment Purple : 0
Hue Adjustment Magenta : 0
Saturation Adjustment Red : 0
Saturation Adjustment Orange : 0
Saturation Adjustment Yellow : 0
Saturation Adjustment Green : 0
Saturation Adjustment Aqua : 0
Saturation Adjustment Blue : 0
Saturation Adjustment Purple : 0
Saturation Adjustment Magenta : 0
Luminance Adjustment Red : 0
Luminance Adjustment Orange : 0
Luminance Adjustment Yellow : 0
Luminance Adjustment Green : 0
Luminance Adjustment Aqua : 0
Luminance Adjustment Blue : 0
Luminance Adjustment Purple : 0
Luminance Adjustment Magenta : 0
Split Toning Shadow Hue : 0
Split Toning Shadow Saturation : 0
Split Toning Highlight Hue : 0
Split Toning Highlight Saturation : 0
Split Toning Balance : 0
Parametric Shadows : 0
Parametric Darks : 0
Parametric Lights : 0
Parametric Highlights : 0
Parametric Shadow Split : 25
Parametric Midtone Split : 50
Parametric Highlight Split : 75
Sharpen Radius : +1.0
Sharpen Detail : 25
Sharpen Edge Masking : 0
Post Crop Vignette Amount : 0
Grain Amount : 0
Lens Profile Enable : 0
Lens Manual Distortion Amount : 0
Perspective Vertical : 0
Perspective Horizontal : 0
Perspective Rotate : 0.0
Perspective Scale : 100
Convert To Grayscale : False
Tone Curve Name : Linear
Camera Profile : Embedded
Lens Profile Setup : LensDefaults
Has Settings : True
Has Crop : False
Already Applied : True
Flash Fired : False
Flash Return : No return detection
Flash Mode : Unknown
Flash Function : False
Flash Red Eye Mode : False
Creator : Matt MacDonald
Rights : Matt MacDonald Photography
Creator Work Email : macmatt78@hotmail.com
Creator Work URL : http://www.flickr.com/photos/matt_macdonald_shots/
Tone Curve : 0, 0, 255, 255
Image Width : 300
Image Height : 258
Bits Per Sample : 8
Color Components : 3
Aperture : 4.0
Image Size : 300x258
Megapixels : 0.077
Scale Factor To 35 mm Equivalent : 1.0
Shutter Speed : 1/8
Flash : No Flash
Circle Of Confusion : 0.030 mm
Field Of View : 81.2 deg
Focal Length : 21.0 mm (35 mm equivalent: 21.0 mm)
Hyperfocal Distance : 3.67 m
Light Value : 4.3
Lens ID : Elmarit-M 21mm f/2.8