Uber Exif Photo
By-line : Matt MacDonald
Keywords : 32 birthday cake, D700, Fall, October 2010, colors
Copyright Notice : Matt MacDonald Photography
Copyright Flag : True
Make : NIKON CORPORATION
Camera Model Name : NIKON D700
Orientation : Horizontal (normal)
Software : Adobe Photoshop CS4 Windows
Modify Date : 2010:10:12 00:03:40
Artist : Matt MacDonald
Copyright : Matt MacDonald Photography
F Number : 11.0
Exposure Program : Manual
ISO : 200
Date/Time Original : 2010:10:11 15:04:40
Create Date : 2010:10:11 15:04:40
Aperture Value : 11.0
Exposure Compensation : +2/3
Max Aperture Value : 1.0
Metering Mode : Multi-segment
Light Source : Cloudy
Focal Length : 35.0 mm
Color Space : Uncalibrated
Exif Image Width : 1132
Exif Image Height : 2000
Sensing Method : One-chip color area
Scene Type : Directly photographed
Custom Rendered : Normal
Exposure Mode : Manual
White Balance : Manual
Digital Zoom Ratio : 1
Focal Length In 35mm Format : 35 mm
Scene Capture Type : Standard
Gain Control : None
Contrast : Normal
Saturation : Normal
Sharpness : Normal
Subject Distance Range : Unknown
Profile Description : Adobe RGB (1998)
Date/Time Digitized : 2010:10:11 15:04:40.00+09:00
Creator Tool : Adobe Photoshop Lightroom
Rating : 3
Serial Number : 2024489
Lens Info : 0mm f/0
Lens : 0.0 mm f/0.0
Image Number : 32567
Format : image/jpeg
Color Mode : RGB
ICC Profile Name : Adobe RGB (1998)
Marked : True
Version : 5.2
Incremental Temperature : 0
Incremental Tint : 0
Exposure : 0.00
Shadows : 5
Brightness : +18
Luminance Smoothing : 0
Color Noise Reduction : 0
Chromatic Aberration R : 0
Chromatic Aberration B : 0
Vignette Amount : 0
Shadow Tint : 0
Red Hue : 0
Red Saturation : 0
Green Hue : 0
Green Saturation : 0
Blue Hue : 0
Blue Saturation : 0
Fill Light : 5
Vibrance : +10
Highlight Recovery : 100
Clarity : 0
Defringe : 0
Hue Adjustment Red : -48
Hue Adjustment Orange : 0
Hue Adjustment Yellow : -62
Hue Adjustment Green : +29
Hue Adjustment Aqua : 0
Hue Adjustment Blue : 0
Hue Adjustment Purple : 0
Hue Adjustment Magenta : 0
Saturation Adjustment Red : 0
Saturation Adjustment Orange : 0
Saturation Adjustment Yellow : 0
Saturation Adjustment Green : 0
Saturation Adjustment Aqua : 0
Saturation Adjustment Blue : 0
Saturation Adjustment Purple : 0
Saturation Adjustment Magenta : 0
Luminance Adjustment Red : 0
Luminance Adjustment Orange : 0
Luminance Adjustment Yellow : 0
Luminance Adjustment Green : 0
Luminance Adjustment Aqua : 0
Luminance Adjustment Blue : 0
Luminance Adjustment Purple : 0
Luminance Adjustment Magenta : 0
Split Toning Shadow Hue : 0
Split Toning Shadow Saturation : 0
Split Toning Highlight Hue : 0
Split Toning Highlight Saturation : 0
Split Toning Balance : 0
Parametric Shadows : 0
Parametric Darks : 0
Parametric Lights : 0
Parametric Highlights : 0
Parametric Shadow Split : 25
Parametric Midtone Split : 50
Parametric Highlight Split : 75
Sharpen Radius : +1.0
Sharpen Detail : 25
Sharpen Edge Masking : 100
Post Crop Vignette Amount : 0
Convert To Grayscale : False
Tone Curve Name : Linear
Camera Profile : Embedded
Has Settings : True
Has Crop : False
Already Applied : True
Flash Fired : False
Flash Return : No return detection
Flash Mode : Unknown
Flash Function : False
Flash Red Eye Mode : False
Creator : Matt MacDonald
Rights : Matt MacDonald Photography
Subject : 32 birthday cake, D700, Fall, October 2010, colors
Tone Curve : 0, 0, 255, 255
Creator Work URL : www.flickr.com/photos/matt_macdonald_shots/
Image Width : 170
Image Height : 300
Bits Per Sample : 8
Color Components : 3
Aperture : 11.0
Image Size : 170x300
Megapixels : 0.051
Scale Factor To 35 mm Equivalent : 1.0
Create Date : 2010:10:11 15:04:40.00
Date/Time Original : 2010:10:11 15:04:40.00
Flash : No Flash
Circle Of Confusion : 0.030 mm
Field Of View : 54.4 deg
Focal Length : 35.0 mm (35 mm equivalent: 35.0 mm)
Hyperfocal Distance : 3.71 m
Lens ID : 0.0mm f/0.0