Uber Exif Photo
Make : LEICA
Camera Model Name : V-LUX 2
Orientation : Horizontal (normal)
Software : Adobe Photoshop Elements 9.0 Macintosh
Modify Date : 2011:02:09 08:25:35
Exposure Time : 1/1000
F Number : 5.2
Exposure Program : Program AE
ISO : 200
Sensitivity Type : Unknown
Date/Time Original : 2011:02:08 11:26:12
Create Date : 2011:02:08 11:26:12
Shutter Speed Value : 1/1000
Aperture Value : 5.2
Exposure Compensation : 0
Max Aperture Value : 2.8
Metering Mode : Spot
Focal Length : 108.0 mm
Color Space : sRGB
Exif Image Width : 4320
Exif Image Height : 2880
Focal Length In 35mm Format : 624 mm
Profile Description : sRGB IEC61966-2.1
Date/Time Digitized : 2011:02:08 11:26:12+08:00
Rating : 0
Raw File Name : L1000292.RWL
Version : 6.3
Process Version : 5.7
White Balance : Custom
Color Temperature : 5400
Tint : +3
Exposure : 0.00
Shadows : 17
Brightness : +63
Contrast : +55
Saturation : 0
Sharpness : 25
Luminance Smoothing : 0
Color Noise Reduction : 25
Chromatic Aberration R : 0
Chromatic Aberration B : 0
Vignette Amount : 0
Shadow Tint : 0
Red Hue : 0
Red Saturation : 0
Green Hue : 0
Green Saturation : 0
Blue Hue : 0
Blue Saturation : 0
Fill Light : 26
Vibrance : +15
Highlight Recovery : 44
Clarity : +30
Defringe : 0
Hue Adjustment Red : 0
Hue Adjustment Orange : 0
Hue Adjustment Yellow : 0
Hue Adjustment Green : 0
Hue Adjustment Aqua : 0
Hue Adjustment Blue : 0
Hue Adjustment Purple : 0
Hue Adjustment Magenta : 0
Saturation Adjustment Red : 0
Saturation Adjustment Orange : 0
Saturation Adjustment Yellow : 0
Saturation Adjustment Green : 0
Saturation Adjustment Aqua : 0
Saturation Adjustment Blue : 0
Saturation Adjustment Purple : 0
Saturation Adjustment Magenta : 0
Luminance Adjustment Red : 0
Luminance Adjustment Orange : 0
Luminance Adjustment Yellow : 0
Luminance Adjustment Green : 0
Luminance Adjustment Aqua : 0
Luminance Adjustment Blue : 0
Luminance Adjustment Purple : 0
Luminance Adjustment Magenta : 0
Split Toning Shadow Hue : 0
Split Toning Shadow Saturation : 0
Split Toning Highlight Hue : 0
Split Toning Highlight Saturation : 0
Split Toning Balance : 0
Parametric Shadows : 0
Parametric Darks : 0
Parametric Lights : 0
Parametric Highlights : 0
Parametric Shadow Split : 25
Parametric Midtone Split : 50
Parametric Highlight Split : 75
Sharpen Radius : +1.0
Sharpen Detail : 25
Sharpen Edge Masking : 0
Post Crop Vignette Amount : 0
Grain Amount : 0
Color Noise Reduction Detail : 50
Lens Profile Enable : 0
Lens Manual Distortion Amount : 0
Perspective Vertical : 0
Perspective Horizontal : 0
Perspective Rotate : 0.0
Perspective Scale : 100
Convert To Grayscale : False
Tone Curve Name : Medium Contrast
Camera Profile : Adobe Standard
Lens Profile Setup : LensDefaults
Has Settings : True
Has Crop : False
Already Applied : True
Sidecar For Extension : RWL
Color Mode : RGB
ICC Profile Name : sRGB IEC61966-2.1
Format : image/jpeg
Flash Fired : False
Flash Return : No return detection
Flash Mode : Off
Flash Function : False
Flash Red Eye Mode : False
Tone Curve : 0, 0, 32, 22, 64, 56, 128, 128, 192, 196, 255, 255
Image Width : 300
Image Height : 200
Bits Per Sample : 8
Color Components : 3
Aperture : 5.2
Image Size : 300x200
Megapixels : 0.060
Scale Factor To 35 mm Equivalent : 5.8
Shutter Speed : 1/1000
Flash : Off, Did not fire
Circle Of Confusion : 0.005 mm
Field Of View : 3.3 deg
Focal Length : 108.0 mm (35 mm equivalent: 624.0 mm)
Hyperfocal Distance : 431.33 m
Light Value : 13.7