Uber Exif Photo
Make : LEICA CAMERA AG
Camera Model Name : LEICA X1
Software : 1.0
Modify Date : 2010:12:18 14:10:20
Exposure Time : 1/400
F Number : 5.0
Exposure Program : Program AE
ISO : 400
Sensitivity Type : Unknown
Date/Time Original : 2010:12:18 10:22:58
Create Date : 2010:12:18 10:22:58
Shutter Speed Value : 1/400
Aperture Value : 5.0
Exposure Compensation : 0
Max Aperture Value : 2.8
Subject Distance : 4.5 m
Metering Mode : Multi-segment
Light Source : Unknown
Focal Length : 24.0 mm
Original File Name : L9992400.DNG
Original Directory : 999LEICA
Focus Distance : 4.5 m
Exposure Mode : Program AE
File Index : 2400
Film Mode : Vivid
WB RGB Levels : 0.5289256198 1 0.7293447293
Internal Serial Number : 000000000000
Sensing Method : One-chip color area
Custom Rendered : Custom
White Balance : Auto
Digital Zoom Ratio : 1
Focal Length In 35mm Format : 35 mm
Scene Capture Type : Landscape
Contrast : Normal
Saturation : Normal
Sharpness : Normal
Serial Number : 000003826660
Lens Info : 24mm f/2.8
Lens Model : 24.0 mm f/2.8
Maker Note Safety : Safe
Profile Description : Adobe RGB (1998)
Date/Time Digitized : 2010:12:18 10:22:58+08:00
Exif Image Width : 4272
Exif Image Height : 2856
Creator Tool : Adobe Photoshop Lightroom 3.3
Lens : 24.0 mm f/2.8
Approximate Focus Distance : 4.5
Version : 6.3
Process Version : 5.7
Color Temperature : 5300
Tint : +13
Exposure : -1.35
Shadows : 24
Brightness : +72
Luminance Smoothing : 0
Color Noise Reduction : 25
Chromatic Aberration R : 0
Chromatic Aberration B : 0
Vignette Amount : 0
Shadow Tint : 0
Red Hue : 0
Red Saturation : 0
Green Hue : 0
Green Saturation : 0
Blue Hue : 0
Blue Saturation : 0
Fill Light : 67
Vibrance : +16
Highlight Recovery : 89
Clarity : +32
Defringe : 0
Hue Adjustment Red : 0
Hue Adjustment Orange : 0
Hue Adjustment Yellow : 0
Hue Adjustment Green : 0
Hue Adjustment Aqua : 0
Hue Adjustment Blue : 0
Hue Adjustment Purple : 0
Hue Adjustment Magenta : 0
Saturation Adjustment Red : 0
Saturation Adjustment Orange : 0
Saturation Adjustment Yellow : 0
Saturation Adjustment Green : 0
Saturation Adjustment Aqua : 0
Saturation Adjustment Blue : 0
Saturation Adjustment Purple : 0
Saturation Adjustment Magenta : 0
Luminance Adjustment Red : 0
Luminance Adjustment Orange : 0
Luminance Adjustment Yellow : 0
Luminance Adjustment Green : 0
Luminance Adjustment Aqua : 0
Luminance Adjustment Blue : 0
Luminance Adjustment Purple : 0
Luminance Adjustment Magenta : 0
Split Toning Shadow Hue : 0
Split Toning Shadow Saturation : 0
Split Toning Highlight Hue : 0
Split Toning Highlight Saturation : 0
Split Toning Balance : 0
Parametric Shadows : 0
Parametric Darks : 0
Parametric Lights : +3
Parametric Highlights : +10
Parametric Shadow Split : 25
Parametric Midtone Split : 50
Parametric Highlight Split : 75
Sharpen Radius : +1.0
Sharpen Detail : 25
Sharpen Edge Masking : 0
Post Crop Vignette Amount : -14
Post Crop Vignette Midpoint : 50
Post Crop Vignette Feather : 72
Post Crop Vignette Roundness : 0
Post Crop Vignette Style : Highlight Priority
Post Crop Vignette Highlight Contrast : 32
Grain Amount : 0
Color Noise Reduction Detail : 50
Lens Profile Enable : 0
Lens Manual Distortion Amount : 0
Perspective Vertical : 0
Perspective Horizontal : 0
Perspective Rotate : 0.0
Perspective Scale : 100
Convert To Grayscale : False
Tone Curve Name : Strong Contrast
Camera Profile : Adobe Standard
Lens Profile Setup : LensDefaults
Has Settings : True
Has Crop : False
Already Applied : True
Flash Fired : False
Flash Return : No return detection
Flash Mode : Off
Flash Function : False
Flash Red Eye Mode : False
Tone Curve : 0, 0, 32, 16, 64, 50, 128, 128, 192, 202, 255, 255
Image Width : 300
Image Height : 201
Bits Per Sample : 8
Color Components : 3
Aperture : 5.0
Blue Balance : 0.729345
Image Size : 300x201
Megapixels : 0.060
Red Balance : 0.528926
Scale Factor To 35 mm Equivalent : 1.5
Shutter Speed : 1/400
Flash : Off, Did not fire
Circle Of Confusion : 0.021 mm
Depth Of Field : 20.06 m (2.50 - 22.56 m)
Field Of View : 54.2 deg (4.60 m)
Focal Length : 24.0 mm (35 mm equivalent: 35.0 mm)
Hyperfocal Distance : 5.59 m
Light Value : 11.3
Lens ID : 24.0mm f/2.8