Uber Exif Photo
Writer-Editor : Sol
By-line : Sol Marrades
By-line Title : Proprietary image
Object Name : STREET SCENE-15w
Copyright Notice : ©solmarrades. All rights reserved. Obligatory mention the author..©solmarrades. Todos los derechos reservados.Mención obligad
Copyright Flag : True
Make : Leica Camera AG
Camera Model Name : M9 Digital Camera
Orientation : Horizontal (normal)
Software : Adobe Photoshop CS6 (Windows)
Modify Date : 2015:06:08 17:55:00
Artist : Sol Marrades
Copyright : ©solmarrades. All rights reserved. Obligatory mention the author..©solmarrades. Todos los derechos reservados.Mención obligada de autor.
Maker Note Safety : Safe
Exposure Time : 1/4000
F Number : 1.7
Exposure Program : Manual
ISO : 160
Date/Time Original : 2015:05:31 11:06:19
Create Date : 2015:05:31 11:06:19
Shutter Speed Value : 1/4000
Aperture Value : 1.7
Exposure Compensation : -0.664
Max Aperture Value : 1.0
Metering Mode : Center-weighted average
Light Source : Unknown
Flash : No Flash
Color Space : Uncalibrated
Exif Image Width : 1482
Exif Image Height : 1074
Scene Type : Directly photographed
Exposure Mode : Manual
White Balance : Auto
Digital Zoom Ratio : 0
Scene Capture Type : Standard
Serial Number : 3834493
Creator Tool : 1.196
Rating : 0
Date Created : 2015:05:31 11:06:19
Color Mode : RGB
ICC Profile Name : Adobe RGB (1998)
Authors Position : Proprietary image
Caption Writer : Sol
Format : image/jpeg
Raw File Name : L1000601.DNG
Version : 7.0
Process Version : 6.7
Color Temperature : 4750
Tint : +19
Exposure : 0.00
Shadows : 5
Brightness : +50
Contrast : +25
Saturation : 0
Sharpness : 25
Luminance Smoothing : 0
Color Noise Reduction : 25
Vignette Amount : 0
Shadow Tint : 0
Red Hue : 0
Red Saturation : 0
Green Hue : 0
Green Saturation : 0
Blue Hue : 0
Blue Saturation : 0
Fill Light : 0
Vibrance : 0
Highlight Recovery : 0
Clarity : 0
Defringe : 0
Hue Adjustment Red : 0
Hue Adjustment Orange : 0
Hue Adjustment Yellow : 0
Hue Adjustment Green : 0
Hue Adjustment Aqua : 0
Hue Adjustment Blue : 0
Hue Adjustment Purple : 0
Hue Adjustment Magenta : 0
Saturation Adjustment Red : 0
Saturation Adjustment Orange : 0
Saturation Adjustment Yellow : 0
Saturation Adjustment Green : 0
Saturation Adjustment Aqua : 0
Saturation Adjustment Blue : 0
Saturation Adjustment Purple : 0
Saturation Adjustment Magenta : 0
Luminance Adjustment Red : 0
Luminance Adjustment Orange : 0
Luminance Adjustment Yellow : 0
Luminance Adjustment Green : 0
Luminance Adjustment Aqua : 0
Luminance Adjustment Blue : 0
Luminance Adjustment Purple : 0
Luminance Adjustment Magenta : 0
Split Toning Shadow Hue : 0
Split Toning Shadow Saturation : 0
Split Toning Highlight Hue : 0
Split Toning Highlight Saturation : 0
Split Toning Balance : 0
Parametric Shadows : 0
Parametric Darks : 0
Parametric Lights : 0
Parametric Highlights : 0
Parametric Shadow Split : 25
Parametric Midtone Split : 50
Parametric Highlight Split : 75
Sharpen Radius : +1.0
Sharpen Detail : 25
Sharpen Edge Masking : 0
Post Crop Vignette Amount : 0
Grain Amount : 0
Color Noise Reduction Detail : 50
Lens Profile Enable : 0
Lens Manual Distortion Amount : 0
Perspective Vertical : 0
Perspective Horizontal : 0
Perspective Rotate : 0.0
Perspective Scale : 100
Auto Lateral CA : 0
Exposure 2012 : -0.15
Contrast 2012 : -3
Highlights 2012 : -2
Shadows 2012 : -36
Whites 2012 : -17
Blacks 2012 : +2
Clarity 2012 : 0
Convert To Grayscale : False
Tone Curve Name : Medium Contrast
Tone Curve Name 2012 : Linear
Camera Profile : Adobe Standard
Lens Profile Setup : LensDefaults
Has Settings : True
Has Crop : False
Already Applied : True
Marked : True
Title : STREET SCENE-15w
Creator : Sol Marrades
Rights : ©solmarrades. All rights reserved. Obligatory mention the author..©solmarrades. Todos los derechos reservados.Mención obligada de autor.
Tone Curve : 0, 0, 32, 22, 64, 56, 128, 128, 192, 196, 255, 255
Tone Curve Red : 0, 0, 255, 255
Tone Curve Green : 0, 0, 255, 255
Tone Curve Blue : 0, 0, 255, 255
Tone Curve PV2012 : 0, 0, 255, 255
Tone Curve PV2012 Red : 0, 0, 255, 255
Tone Curve PV2012 Green : 0, 0, 255, 255
Tone Curve PV2012 Blue : 0, 0, 255, 255
Image Width : 255
Image Height : 185
Bits Per Sample : 8
Color Components : 1
Aperture : 1.7
Image Size : 255x185
Megapixels : 0.047
Scale Factor To 35 mm Equivalent : 3.4
Shutter Speed : 1/4000
Circle Of Confusion : 0.009 mm
Light Value : 12.8