Uber Exif Photo
By-line : Picasa
Make : Leica Camera AG
Camera Model Name : M8 Digital Camera
Software : Adobe Photoshop Lightroom 4.4 (Windows)
Modify Date : 2013:05:21 18:21:02
Artist : Picasa
Exposure Time : 1/4000
F Number : 11.0
Exposure Program : Aperture-priority AE
ISO : 160
Date/Time Original : 2010:12:14 17:35:00
Create Date : 2010:12:14 17:35:00
Shutter Speed Value : 1/4000
Aperture Value : 11.0
Exposure Compensation : 0
Max Aperture Value : 2.5
Metering Mode : Center-weighted average
Light Source : Unknown
Flash : Auto, Did not fire
Focal Length : 35.0 mm
Exif Image Width : 1200
Exif Image Height : 838
Related Image Width : 1878
Related Image Height : 1311
Scene Type : Directly photographed
White Balance : Auto
Digital Zoom Ratio : 0
Focal Length In 35mm Format : 47 mm
Scene Capture Type : Standard
Creator Tool : Adobe Photoshop Lightroom 4.4 (Windows)
Format : image/jpeg
Date Created : 2010:12:14 17:35:00Z
Version : 7.4
Process Version : 6.7
Incremental Temperature : 0
Incremental Tint : 0
Sharpness : 0
Luminance Smoothing : 0
Color Noise Reduction : 0
Vignette Amount : 0
Shadow Tint : 0
Red Hue : 0
Red Saturation : 0
Green Hue : 0
Green Saturation : 0
Blue Hue : 0
Blue Saturation : 0
Gray Mixer Red : -2
Gray Mixer Orange : -10
Gray Mixer Yellow : -14
Gray Mixer Green : -21
Gray Mixer Aqua : -20
Gray Mixer Blue : +3
Gray Mixer Purple : +12
Gray Mixer Magenta : +6
Split Toning Shadow Hue : 0
Split Toning Shadow Saturation : 0
Split Toning Highlight Hue : 0
Split Toning Highlight Saturation : 0
Split Toning Balance : 0
Parametric Shadows : 0
Parametric Darks : 0
Parametric Lights : 0
Parametric Highlights : 0
Parametric Shadow Split : 25
Parametric Midtone Split : 50
Parametric Highlight Split : 75
Sharpen Radius : +1.0
Sharpen Detail : 25
Sharpen Edge Masking : 0
Post Crop Vignette Amount : -3
Post Crop Vignette Midpoint : 50
Post Crop Vignette Feather : 56
Post Crop Vignette Roundness : 0
Post Crop Vignette Style : Highlight Priority
Post Crop Vignette Highlight Contrast : 0
Grain Amount : 0
Lens Profile Enable : 0
Lens Manual Distortion Amount : 0
Perspective Vertical : 0
Perspective Horizontal : 0
Perspective Rotate : 0.0
Perspective Scale : 100
Auto Lateral CA : 0
Exposure 2012 : -0.84
Contrast 2012 : +36
Highlights 2012 : -50
Shadows 2012 : +7
Whites 2012 : +23
Blacks 2012 : +1
Clarity 2012 : +30
Convert To Grayscale : True
Tone Curve Name 2012 : Linear
Camera Profile : Embedded
Lens Profile Setup : LensDefaults
Has Settings : True
Crop Top : 0.047619
Crop Left : 0.01417
Crop Bottom : 1
Crop Right : 1
Crop Angle : 0
Crop Constrain To Warp : 0
Crop Width : 1878
Crop Height : 1311
Crop Unit : pixels
Has Crop : True
Already Applied : True
Creator : Picasa
Tone Curve PV2012 : 0, 0, 255, 255
Tone Curve PV2012 Red : 0, 0, 255, 255
Tone Curve PV2012 Green : 0, 0, 255, 255
Tone Curve PV2012 Blue : 0, 0, 255, 255
Image Width : 300
Image Height : 210
Bits Per Sample : 8
Color Components : 1
Aperture : 11.0
Image Size : 300x210
Megapixels : 0.063
Scale Factor To 35 mm Equivalent : 1.3
Shutter Speed : 1/4000
Circle Of Confusion : 0.022 mm
Field Of View : 41.9 deg
Focal Length : 35.0 mm (35 mm equivalent: 47.0 mm)
Hyperfocal Distance : 4.98 m
Light Value : 18.2