Uber Exif Photo
Make : SONY
Camera Model Name : NEX-7
Orientation : Horizontal (normal)
Software : Adobe Photoshop CS6 (Macintosh)
Modify Date : 2013:10:09 11:34:04
Exposure Time : 1/160
Exposure Program : Manual
ISO : 100
Sensitivity Type : Recommended Exposure Index
Recommended Exposure Index : 100
Date/Time Original : 2013:05:26 22:28:53
Create Date : 2013:05:26 22:28:53
Shutter Speed Value : 1/160
Brightness Value : 1.28671875
Exposure Compensation : 0
Max Aperture Value : 1.0
Metering Mode : Multi-segment
Light Source : Daylight
Flash : Off, Did not fire
Color Space : Uncalibrated
Exif Image Width : 6000
Exif Image Height : 4000
Scene Type : Directly photographed
Custom Rendered : Normal
Exposure Mode : Manual
White Balance : Manual
Scene Capture Type : Standard
Contrast : Normal
Saturation : Normal
Sharpness : Normal
Lens Model : ----
Profile Description : Adobe RGB (1998)
Creator Tool : NEX-7 v1.02
Rating : 0
Lens : ----
Date Created : 2013:05:26 22:28:53
Color Mode : RGB
ICC Profile Name : Adobe RGB (1998)
Raw File Name : DSC09013.ARW
Version : 7.0
Process Version : 6.7
Color Temperature : 5200
Tint : +2
Exposure : 0.00
Shadows : 5
Brightness : +50
Luminance Smoothing : 0
Color Noise Reduction : 25
Vignette Amount : 0
Shadow Tint : 0
Red Hue : 0
Red Saturation : 0
Green Hue : 0
Green Saturation : 0
Blue Hue : 0
Blue Saturation : 0
Fill Light : 0
Vibrance : 0
Highlight Recovery : 0
Clarity : 0
Defringe : 0
Hue Adjustment Red : 0
Hue Adjustment Orange : 0
Hue Adjustment Yellow : 0
Hue Adjustment Green : 0
Hue Adjustment Aqua : 0
Hue Adjustment Blue : 0
Hue Adjustment Purple : 0
Hue Adjustment Magenta : 0
Saturation Adjustment Red : 0
Saturation Adjustment Orange : 0
Saturation Adjustment Yellow : 0
Saturation Adjustment Green : 0
Saturation Adjustment Aqua : 0
Saturation Adjustment Blue : 0
Saturation Adjustment Purple : 0
Saturation Adjustment Magenta : 0
Luminance Adjustment Red : 0
Luminance Adjustment Orange : 0
Luminance Adjustment Yellow : 0
Luminance Adjustment Green : 0
Luminance Adjustment Aqua : 0
Luminance Adjustment Blue : 0
Luminance Adjustment Purple : 0
Luminance Adjustment Magenta : 0
Split Toning Shadow Hue : 0
Split Toning Shadow Saturation : 0
Split Toning Highlight Hue : 0
Split Toning Highlight Saturation : 0
Split Toning Balance : 0
Parametric Shadows : 0
Parametric Darks : 0
Parametric Lights : 0
Parametric Highlights : 0
Parametric Shadow Split : 25
Parametric Midtone Split : 50
Parametric Highlight Split : 75
Sharpen Radius : +1.0
Sharpen Detail : 25
Sharpen Edge Masking : 0
Post Crop Vignette Amount : 0
Grain Amount : 0
Color Noise Reduction Detail : 50
Lens Profile Enable : 0
Lens Manual Distortion Amount : 0
Perspective Vertical : 0
Perspective Horizontal : 0
Perspective Rotate : 0.0
Perspective Scale : 100
Auto Lateral CA : 0
Exposure 2012 : +0.70
Contrast 2012 : 0
Highlights 2012 : +42
Shadows 2012 : +13
Whites 2012 : 0
Blacks 2012 : -22
Clarity 2012 : 0
Convert To Grayscale : False
Tone Curve Name : Medium Contrast
Tone Curve Name 2012 : Linear
Camera Profile : Adobe Standard
Lens Profile Setup : LensDefaults
Has Settings : True
Has Crop : False
Already Applied : True
Format : image/jpeg
Tone Curve : 0, 0, 32, 22, 64, 56, 128, 128, 192, 196, 255, 255
Tone Curve Red : 0, 0, 255, 255
Tone Curve Green : 0, 0, 255, 255
Tone Curve Blue : 0, 0, 255, 255
Tone Curve PV2012 : 0, 0, 255, 255
Tone Curve PV2012 Red : 0, 0, 255, 255
Tone Curve PV2012 Green : 0, 0, 255, 255
Tone Curve PV2012 Blue : 0, 0, 255, 255
Image Width : 300
Image Height : 200
Bits Per Sample : 8
Color Components : 3
Image Size : 300x200
Megapixels : 0.060
Scale Factor To 35 mm Equivalent : 1.5
Shutter Speed : 1/160
Circle Of Confusion : 0.020 mm