Uber Exif Photo
Make : Leica Camera AG
Camera Model Name : M9 Digital Camera
Software : Adobe Photoshop Lightroom 4.4 (Macintosh)
Modify Date : 2013:12:20 17:00:54
Exposure Time : 1/1000
F Number : 2.0
Exposure Program : Manual
ISO : 400
Date/Time Original : 2013:12:20 15:40:45
Create Date : 2013:12:20 15:40:45
Shutter Speed Value : 1/1000
Aperture Value : 2.0
Exposure Compensation : 0
Max Aperture Value : 1.4
Metering Mode : Center-weighted average
Light Source : Unknown
Flash : No Flash
Focal Length : 50.0 mm
Scene Type : Directly photographed
Exposure Mode : Manual
White Balance : Auto
Digital Zoom Ratio : 0
Focal Length In 35mm Format : 50 mm
Scene Capture Type : Standard
Serial Number : 4421392
Lens Model : Leica Summilux-M 50mm f/1.4 ASPH.
Creator Tool : Adobe Photoshop Lightroom 4.4 (Macintosh)
Lens : Leica Summilux-M 50mm f/1.4 ASPH.
Date Created : 2013:12:20 15:40:45
Format : image/jpeg
Version : 7.4
Process Version : 6.7
Color Temperature : 6678
Tint : -2
Sharpness : 40
Luminance Smoothing : 10
Color Noise Reduction : 25
Vignette Amount : -48
Vignette Midpoint : 7
Shadow Tint : -5
Red Hue : +12
Red Saturation : -11
Green Hue : +6
Green Saturation : +10
Blue Hue : -9
Blue Saturation : -29
Gray Mixer Red : -8
Gray Mixer Orange : +21
Gray Mixer Yellow : +22
Gray Mixer Green : -25
Gray Mixer Aqua : -19
Gray Mixer Blue : -5
Gray Mixer Purple : +14
Gray Mixer Magenta : +4
Split Toning Shadow Hue : 0
Split Toning Shadow Saturation : 0
Split Toning Highlight Hue : 0
Split Toning Highlight Saturation : 0
Split Toning Balance : 0
Parametric Shadows : +10
Parametric Darks : +5
Parametric Lights : 0
Parametric Highlights : 0
Parametric Shadow Split : 25
Parametric Midtone Split : 50
Parametric Highlight Split : 75
Sharpen Radius : +1.0
Sharpen Detail : 40
Sharpen Edge Masking : 25
Post Crop Vignette Amount : 0
Grain Amount : 10
Grain Size : 18
Grain Frequency : 48
Luminance Noise Reduction Detail : 50
Color Noise Reduction Detail : 50
Luminance Noise Reduction Contrast : 0
Lens Profile Enable : 0
Lens Manual Distortion Amount : 0
Perspective Vertical : 0
Perspective Horizontal : 0
Perspective Rotate : 0.0
Perspective Scale : 100
Auto Lateral CA : 0
Exposure 2012 : 0.00
Contrast 2012 : +23
Highlights 2012 : -20
Shadows 2012 : +42
Whites 2012 : +57
Blacks 2012 : -2
Clarity 2012 : +8
Convert To Grayscale : True
Tone Curve Name 2012 : Custom
Camera Profile : Adobe Standard
Lens Profile Setup : LensDefaults
Has Settings : True
Crop Top : 0
Crop Left : 0
Crop Bottom : 0.947325
Crop Right : 0.947325
Crop Angle : 0
Crop Constrain To Warp : 0
Crop Width : 2000
Crop Height : 1331
Crop Unit : pixels
Has Crop : True
Already Applied : True
Tone Curve PV2012 : 0, 5, 66, 66, 114, 131, 155, 171, 194, 199, 255, 235
Tone Curve PV2012 Red : 0, 0, 255, 255
Tone Curve PV2012 Green : 0, 0, 255, 255
Tone Curve PV2012 Blue : 0, 0, 255, 255
Image Width : 300
Image Height : 200
Bits Per Sample : 8
Color Components : 1
Aperture : 2.0
Image Size : 300x200
Megapixels : 0.060
Scale Factor To 35 mm Equivalent : 1.0
Shutter Speed : 1/1000
Circle Of Confusion : 0.030 mm
Field Of View : 39.6 deg
Focal Length : 50.0 mm (35 mm equivalent: 50.0 mm)
Hyperfocal Distance : 41.60 m
Light Value : 10.0
Lens ID : Summilux-M 50mm f/1.4 ASPH.