Uber Exif Photo
Make : Leica Camera AG
Camera Model Name : M9 Digital Camera
Software : Adobe Photoshop Lightroom 4.4 (Macintosh)
Modify Date : 2013:10:31 17:05:23
Exposure Time : 1/125
F Number : 1.7
Exposure Program : Manual
ISO : 160
Date/Time Original : 2013:07:29 19:45:29
Create Date : 2013:07:29 19:45:29
Shutter Speed Value : 1/125
Aperture Value : 1.7
Exposure Compensation : 0
Max Aperture Value : 1.4
Metering Mode : Center-weighted average
Light Source : Unknown
Flash : No Flash
Focal Length : 50.0 mm
Scene Type : Directly photographed
Exposure Mode : Manual
White Balance : Auto
Digital Zoom Ratio : 0
Focal Length In 35mm Format : 50 mm
Scene Capture Type : Standard
Serial Number : 4421392
Lens Model : Leica Summilux-M 50mm f/1.4 ASPH.
Profile Description : Adobe RGB (1998)
Creator Tool : Adobe Photoshop Lightroom 4.4 (Macintosh)
Lens : Leica Summilux-M 50mm f/1.4 ASPH.
Date Created : 2013:07:29 19:45:29
Format : image/jpeg
Version : 7.4
Process Version : 6.7
Color Temperature : 6100
Tint : -6
Saturation : -5
Sharpness : 15
Luminance Smoothing : 0
Color Noise Reduction : 25
Vignette Amount : -45
Vignette Midpoint : 10
Shadow Tint : -5
Red Hue : +12
Red Saturation : -11
Green Hue : +6
Green Saturation : +10
Blue Hue : -9
Blue Saturation : -29
Vibrance : +10
Hue Adjustment Red : -19
Hue Adjustment Orange : 0
Hue Adjustment Yellow : 0
Hue Adjustment Green : +20
Hue Adjustment Aqua : 0
Hue Adjustment Blue : 0
Hue Adjustment Purple : 0
Hue Adjustment Magenta : 0
Saturation Adjustment Red : -10
Saturation Adjustment Orange : -10
Saturation Adjustment Yellow : -15
Saturation Adjustment Green : -15
Saturation Adjustment Aqua : 0
Saturation Adjustment Blue : 0
Saturation Adjustment Purple : 0
Saturation Adjustment Magenta : 0
Luminance Adjustment Red : +10
Luminance Adjustment Orange : +8
Luminance Adjustment Yellow : -12
Luminance Adjustment Green : -40
Luminance Adjustment Aqua : 0
Luminance Adjustment Blue : 0
Luminance Adjustment Purple : 0
Luminance Adjustment Magenta : 0
Split Toning Shadow Hue : 0
Split Toning Shadow Saturation : 0
Split Toning Highlight Hue : 0
Split Toning Highlight Saturation : 0
Split Toning Balance : 0
Parametric Shadows : 0
Parametric Darks : 0
Parametric Lights : 0
Parametric Highlights : 0
Parametric Shadow Split : 25
Parametric Midtone Split : 50
Parametric Highlight Split : 75
Sharpen Radius : +1.0
Sharpen Detail : 25
Sharpen Edge Masking : 0
Post Crop Vignette Amount : 0
Grain Amount : 15
Grain Size : 18
Grain Frequency : 48
Color Noise Reduction Detail : 50
Lens Profile Enable : 0
Lens Manual Distortion Amount : 0
Perspective Vertical : 0
Perspective Horizontal : 0
Perspective Rotate : 0.0
Perspective Scale : 100
Auto Lateral CA : 0
Exposure 2012 : 0.00
Contrast 2012 : 0
Highlights 2012 : -40
Shadows 2012 : 0
Whites 2012 : -15
Blacks 2012 : 0
Clarity 2012 : -10
Defringe Purple Amount : 0
Defringe Purple Hue Lo : 30
Defringe Purple Hue Hi : 70
Defringe Green Amount : 0
Defringe Green Hue Lo : 40
Defringe Green Hue Hi : 60
Convert To Grayscale : False
Tone Curve Name 2012 : Custom
Camera Profile : Adobe Standard
Lens Profile Setup : LensDefaults
Has Settings : True
Crop Top : 0.028459
Crop Left : 0.040722
Crop Bottom : 0.971541
Crop Right : 0.959278
Crop Angle : -1.19866
Crop Constrain To Warp : 0
Crop Width : 2000
Crop Height : 1429
Crop Unit : pixels
Has Crop : True
Already Applied : True
Tone Curve PV2012 : 0, 19, 51, 43, 127, 127, 193, 187, 224, 208, 255, 222
Tone Curve PV2012 Red : 0, 2, 67, 93, 126, 156, 201, 225, 255, 255
Tone Curve PV2012 Green : 0, 6, 132, 163, 192, 218, 255, 252
Tone Curve PV2012 Blue : 0, 0, 26, 39, 61, 83, 129, 156, 192, 209, 255, 250
Image Width : 300
Image Height : 214
Bits Per Sample : 8
Color Components : 3
Aperture : 1.7
Image Size : 300x214
Megapixels : 0.064
Scale Factor To 35 mm Equivalent : 1.0
Shutter Speed : 1/125
Circle Of Confusion : 0.030 mm
Field Of View : 39.6 deg
Focal Length : 50.0 mm (35 mm equivalent: 50.0 mm)
Hyperfocal Distance : 48.94 m
Light Value : 7.8
Lens ID : Summilux-M 50mm f/1.4 ASPH.