Uber Exif Photo
Keywords : M8
Copyright Notice : Havard Ramstad
Copyright Flag : True
Make : Leica Camera AG
Camera Model Name : M8 Digital Camera
Orientation : Horizontal (normal)
Software : Adobe Photoshop Elements 9.0 Windows
Modify Date : 2010:11:04 17:36:51
Copyright : Havard Ramstad
Exposure Time : 1/180
F Number : 2.8
Exposure Program : Aperture-priority AE
ISO : 160
Sensitivity Type : Unknown
Date/Time Original : 2010:09:28 16:24:45
Create Date : 2010:09:28 16:24:45
Shutter Speed Value : 1/180
Aperture Value : 2.8
Exposure Compensation : 0
Max Aperture Value : 2.0
Metering Mode : Center-weighted average
Light Source : Unknown
Focal Length : 50.0 mm
Color Space : sRGB
Exif Image Width : 1000
Exif Image Height : 673
Scene Type : Directly photographed
White Balance : Auto
Digital Zoom Ratio : 0
Focal Length In 35mm Format : 67 mm
Scene Capture Type : Standard
Serial Number : 3101460
Lens Model : Leica Summicron-M 50mm f/2 (III)
Profile Description : sRGB IEC61966-2.1
Date/Time Digitized : 2010:09:28 16:24:45+02:00
Creator Tool : Adobe Photoshop Elements 7.0 Windows
Label : Green
Lens : Leica Summicron-M 50mm f/2 (III)
Marked : True
Version : 6.2
Process Version : 5.7
Color Temperature : 7600
Tint : +19
Exposure : 0.00
Shadows : 13
Brightness : +32
Contrast : +37
Saturation : 0
Sharpness : 91
Luminance Smoothing : 0
Color Noise Reduction : 25
Chromatic Aberration R : 0
Chromatic Aberration B : 0
Vignette Amount : 0
Shadow Tint : 0
Red Hue : 0
Red Saturation : 0
Green Hue : 0
Green Saturation : 0
Blue Hue : 0
Blue Saturation : 0
Fill Light : 0
Vibrance : 0
Highlight Recovery : 25
Clarity : 0
Defringe : 0
Hue Adjustment Red : 0
Hue Adjustment Orange : 0
Hue Adjustment Yellow : 0
Hue Adjustment Green : 0
Hue Adjustment Aqua : 0
Hue Adjustment Blue : 0
Hue Adjustment Purple : 0
Hue Adjustment Magenta : 0
Saturation Adjustment Red : 0
Saturation Adjustment Orange : 0
Saturation Adjustment Yellow : 0
Saturation Adjustment Green : 0
Saturation Adjustment Aqua : 0
Saturation Adjustment Blue : 0
Saturation Adjustment Purple : 0
Saturation Adjustment Magenta : 0
Luminance Adjustment Red : 0
Luminance Adjustment Orange : 0
Luminance Adjustment Yellow : 0
Luminance Adjustment Green : 0
Luminance Adjustment Aqua : 0
Luminance Adjustment Blue : 0
Luminance Adjustment Purple : 0
Luminance Adjustment Magenta : 0
Split Toning Shadow Hue : 0
Split Toning Shadow Saturation : 0
Split Toning Highlight Hue : 0
Split Toning Highlight Saturation : 0
Split Toning Balance : 0
Parametric Shadows : 0
Parametric Darks : 0
Parametric Lights : 0
Parametric Highlights : 0
Parametric Shadow Split : 25
Parametric Midtone Split : 50
Parametric Highlight Split : 75
Sharpen Radius : +1.0
Sharpen Detail : 25
Sharpen Edge Masking : 0
Post Crop Vignette Amount : 0
Grain Amount : 0
Color Noise Reduction Detail : 50
Lens Profile Enable : 0
Lens Manual Distortion Amount : 0
Perspective Vertical : 0
Perspective Horizontal : 0
Perspective Rotate : 0.0
Perspective Scale : 100
Convert To Grayscale : False
Tone Curve Name : Medium Contrast
Camera Profile : Adobe Standard
Lens Profile Setup : LensDefaults
Has Settings : True
Has Crop : False
Already Applied : True
Color Mode : RGB
ICC Profile Name : sRGB IEC61966-2.1
Format : image/jpeg
Flash Fired : False
Flash Return : No return detection
Flash Mode : Auto
Flash Function : False
Flash Red Eye Mode : False
Tone Curve : 0, 0, 32, 22, 64, 56, 128, 128, 192, 196, 255, 255
Rights : Havard Ramstad
Subject : M8
Image Width : 300
Image Height : 202
Bits Per Sample : 8
Color Components : 3
Aperture : 2.8
Image Size : 300x202
Megapixels : 0.061
Scale Factor To 35 mm Equivalent : 1.3
Shutter Speed : 1/180
Flash : Auto, Did not fire
Circle Of Confusion : 0.022 mm
Field Of View : 30.1 deg
Focal Length : 50.0 mm (35 mm equivalent: 67.0 mm)
Hyperfocal Distance : 39.82 m
Light Value : 9.8
Lens ID : Summicron-M 50mm f/2 (III)