Uber Exif Photo
By-line : Ivan Ana Rankovic
Copyright Notice : Copyright (C) Ivan&Ana Rankovic
Make : Canon
Camera Model Name : Canon EOS 60D
Software : Adobe Photoshop Lightroom 3.5 (Windows)
Modify Date : 2012:02:14 23:18:28
Artist : Ivan Ana Rankovic
Copyright : Copyright (C) Ivan&Ana Rankovic
Exposure Time : 1/160
F Number : 5.6
Exposure Program : Aperture-priority AE
ISO : 400
Sensitivity Type : Recommended Exposure Index
Recommended Exposure Index : 400
Date/Time Original : 2012:02:13 22:12:35
Create Date : 2012:02:13 22:12:35
Shutter Speed Value : 1/160
Aperture Value : 5.6
Exposure Compensation : -2/3
Max Aperture Value : 2.0
Metering Mode : Multi-segment
Flash : Off, Did not fire
Focal Length : 100.0 mm
Custom Rendered : Normal
Exposure Mode : Auto
White Balance : Auto
Scene Capture Type : Standard
Serial Number : 0780401362
Lens Info : 100mm f/?
Lens Model : Zeiss Makro-Planar T* 2/100 ZE
Lens Serial Number : 0000000000
Profile Description : sRGB IEC61966-2.1
Creator Tool : Adobe Photoshop Lightroom 3.5 (Windows)
Lens : Zeiss Makro-Planar T* 2/100 ZE
Image Number : 0
Flash Compensation : 0
Firmware : 1.0.9
Date Created : 2012:02:13 22:12:35.72
Version : 6.5
Process Version : 5.7
Color Temperature : 3850
Tint : 0
Exposure : 0.00
Shadows : 9
Brightness : +50
Contrast : +41
Saturation : 0
Sharpness : 59
Luminance Smoothing : 28
Color Noise Reduction : 25
Chromatic Aberration R : 0
Chromatic Aberration B : 0
Vignette Amount : 0
Shadow Tint : 0
Red Hue : 0
Red Saturation : 0
Green Hue : 0
Green Saturation : 0
Blue Hue : 0
Blue Saturation : 0
Fill Light : 0
Vibrance : 0
Highlight Recovery : 31
Clarity : +13
Defringe : 0
Hue Adjustment Red : 0
Hue Adjustment Orange : 0
Hue Adjustment Yellow : 0
Hue Adjustment Green : 0
Hue Adjustment Aqua : 0
Hue Adjustment Blue : 0
Hue Adjustment Purple : 0
Hue Adjustment Magenta : 0
Saturation Adjustment Red : 0
Saturation Adjustment Orange : 0
Saturation Adjustment Yellow : 0
Saturation Adjustment Green : 0
Saturation Adjustment Aqua : 0
Saturation Adjustment Blue : 0
Saturation Adjustment Purple : 0
Saturation Adjustment Magenta : 0
Luminance Adjustment Red : 0
Luminance Adjustment Orange : 0
Luminance Adjustment Yellow : 0
Luminance Adjustment Green : 0
Luminance Adjustment Aqua : 0
Luminance Adjustment Blue : -11
Luminance Adjustment Purple : 0
Luminance Adjustment Magenta : +25
Split Toning Shadow Hue : 79
Split Toning Shadow Saturation : 3
Split Toning Highlight Hue : 91
Split Toning Highlight Saturation : 5
Split Toning Balance : -49
Parametric Shadows : +9
Parametric Darks : -7
Parametric Lights : +5
Parametric Highlights : +39
Parametric Shadow Split : 25
Parametric Midtone Split : 50
Parametric Highlight Split : 75
Sharpen Radius : +1.4
Sharpen Detail : 10
Sharpen Edge Masking : 24
Post Crop Vignette Amount : -13
Post Crop Vignette Midpoint : 50
Post Crop Vignette Feather : 80
Post Crop Vignette Roundness : 0
Post Crop Vignette Style : Highlight Priority
Post Crop Vignette Highlight Contrast : 0
Grain Amount : 0
Luminance Noise Reduction Detail : 23
Color Noise Reduction Detail : 50
Luminance Noise Reduction Contrast : 22
Lens Profile Enable : 1
Lens Manual Distortion Amount : 0
Perspective Vertical : 0
Perspective Horizontal : 0
Perspective Rotate : 0.0
Perspective Scale : 100
Convert To Grayscale : False
Tone Curve Name : Medium Contrast
Camera Profile : Adobe Standard
Lens Profile Setup : LensDefaults
Lens Profile Name : Adobe (Zeiss Makro-Planar T* 2/100 ZE)
Lens Profile Filename : Canon (Zeiss Makro-Planar T 100 f2 ZE).lcp
Lens Profile Distortion Scale : 100
Lens Profile Chromatic Aberration Scale : 100
Lens Profile Vignetting Scale : 100
Has Settings : True
Has Crop : False
Already Applied : True
Creator : Ivan Ana Rankovic
Rights : Copyright (C) Ivan&Ana Rankovic
Tone Curve : 0, 0, 32, 22, 64, 56, 128, 128, 192, 196, 255, 255
Image Width : 200
Image Height : 300
Bits Per Sample : 8
Color Components : 3
Aperture : 5.6
Image Size : 200x300
Megapixels : 0.060
Scale Factor To 35 mm Equivalent : 1.6
Shutter Speed : 1/160
Create Date : 2012:02:13 22:12:35.72
Date/Time Original : 2012:02:13 22:12:35.72
Circle Of Confusion : 0.019 mm
Field Of View : 13.1 deg
Focal Length : 100.0 mm (35 mm equivalent: 157.3 mm)
Hyperfocal Distance : 93.47 m
Light Value : 10.3
Lens ID : Carl Zeiss Makro-Planar T* 100mm f/2 ZE