Uber Exif Photo
Keywords : 75mm Summicron, Varanasi
Photometric Interpretation : RGB
Make : Leica Camera AG
Camera Model Name : M9 Digital Camera
Orientation : Horizontal (normal)
Software : Adobe Photoshop CS5 Macintosh
Modify Date : 2011:02:10 07:23:02
Maker Note Safety : Safe
Exposure Time : 1/30
F Number : 2.0
Exposure Program : Manual
ISO : 800
Sensitivity Type : Unknown
Date/Time Original : 2011:02:01 20:56:09
Create Date : 2011:02:01 20:56:09
Shutter Speed Value : 1/30
Aperture Value : 2.0
Exposure Compensation : 0
Max Aperture Value : 2.0
Metering Mode : Center-weighted average
Light Source : Unknown
Flash : No Flash
Focal Length : 75.0 mm
Color Space : sRGB
Exif Image Width : 1000
Exif Image Height : 668
Scene Type : Directly photographed
Exposure Mode : Manual
White Balance : Auto
Digital Zoom Ratio : 0
Focal Length In 35mm Format : 75 mm
Scene Capture Type : Standard
Serial Number : 3839903
Lens Model : Leica Apo-Summicron-M 75mm f/2 ASPH.
Profile Description : sRGB IEC61966-2.1
Creator Tool : 1.138
Label : Red
Rating : 5
Lens : Leica Apo-Summicron-M 75mm f/2 ASPH.
Version : 6.3
Process Version : 5.7
Color Temperature : 3850
Tint : -17
Exposure : 0.00
Shadows : 5
Brightness : +50
Contrast : +25
Saturation : 0
Sharpness : 28
Luminance Smoothing : 0
Color Noise Reduction : 25
Chromatic Aberration R : 0
Chromatic Aberration B : 0
Vignette Amount : 0
Shadow Tint : 0
Red Hue : 0
Red Saturation : 0
Green Hue : 0
Green Saturation : 0
Blue Hue : 0
Blue Saturation : 0
Fill Light : 10
Vibrance : 0
Highlight Recovery : 0
Clarity : 0
Defringe : 0
Hue Adjustment Red : 0
Hue Adjustment Orange : 0
Hue Adjustment Yellow : 0
Hue Adjustment Green : 0
Hue Adjustment Aqua : 0
Hue Adjustment Blue : 0
Hue Adjustment Purple : 0
Hue Adjustment Magenta : 0
Saturation Adjustment Red : 0
Saturation Adjustment Orange : -5
Saturation Adjustment Yellow : 0
Saturation Adjustment Green : 0
Saturation Adjustment Aqua : 0
Saturation Adjustment Blue : -22
Saturation Adjustment Purple : 0
Saturation Adjustment Magenta : 0
Luminance Adjustment Red : -27
Luminance Adjustment Orange : +20
Luminance Adjustment Yellow : -24
Luminance Adjustment Green : -24
Luminance Adjustment Aqua : +4
Luminance Adjustment Blue : -1
Luminance Adjustment Purple : +2
Luminance Adjustment Magenta : +2
Split Toning Shadow Hue : 0
Split Toning Shadow Saturation : 0
Split Toning Highlight Hue : 0
Split Toning Highlight Saturation : 0
Split Toning Balance : 0
Parametric Shadows : 0
Parametric Darks : 0
Parametric Lights : +10
Parametric Highlights : +30
Parametric Shadow Split : 25
Parametric Midtone Split : 50
Parametric Highlight Split : 75
Sharpen Radius : +1.0
Sharpen Detail : 25
Sharpen Edge Masking : 0
Post Crop Vignette Amount : 0
Grain Amount : 0
Color Noise Reduction Detail : 50
Lens Profile Enable : 0
Lens Manual Distortion Amount : 0
Perspective Vertical : 0
Perspective Horizontal : 0
Perspective Rotate : 0.0
Perspective Scale : 100
Convert To Grayscale : False
Tone Curve Name : Medium Contrast
Camera Profile : Adobe Standard
Lens Profile Setup : LensDefaults
Has Settings : True
Has Crop : False
Already Applied : True
Color Mode : RGB
ICC Profile Name : sRGB IEC61966-2.1
Date Created : 2011:02:01 20:56:09
Format : image/jpeg
Tone Curve : 0, 0, 32, 22, 64, 56, 128, 128, 192, 196, 255, 255
Subject : 75mm Summicron, Varanasi
Image Width : 300
Image Height : 200
Bits Per Sample : 8
Color Components : 3
Aperture : 2.0
Image Size : 300x200
Megapixels : 0.060
Scale Factor To 35 mm Equivalent : 1.0
Shutter Speed : 1/30
Circle Of Confusion : 0.030 mm
Field Of View : 27.0 deg
Focal Length : 75.0 mm (35 mm equivalent: 75.0 mm)
Hyperfocal Distance : 93.61 m
Light Value : 3.9
Lens ID : Apo-Summicron-M 75mm f/2 ASPH.