Uber Exif Photo
Object Name : Waiting For Breakfast
By-line : Adam Marelli
Copyright Notice : Adam Marelli
Make : Leica Camera AG
Camera Model Name : M9 Digital Camera
Software : 1.138
Modify Date : 2011:01:09 10:21:20
Copyright : Adam Marelli
Exposure Time : 1/6
F Number : 2.8
Exposure Program : Manual
ISO : 800
Sensitivity Type : Unknown
Date/Time Original : 2010:11:19 19:55:04
Create Date : 2010:11:19 19:55:04
Shutter Speed Value : 1/6
Aperture Value : 2.8
Exposure Compensation : 0
Max Aperture Value : 2.0
Metering Mode : Center-weighted average
Light Source : Unknown
Focal Length : 50.0 mm
Contrast : Normal
Sharpening : Normal
Saturation : Normal
White Balance : Auto
JPEG Quality : Fine
WB RGB Levels : 0.4265222711 1 0.6379565454
User Profile : 50mm f2
JPEG Size : 5216x3472
Firmware Version : 1.138
Base ISO : 160
Sensor Width : 5270
Sensor Height : 3516
Sensor Bit Depth : 14
Camera Temperature : 21 C
Lens Type : Summicron-M 50mm f/2 (IV, V)
Approximate F Number : 3.0
Measured LV : -0.31
External Sensor Brightness Value : -1.66
Scene Type : Directly photographed
Exposure Mode : Manual
Digital Zoom Ratio : 0
Focal Length In 35mm Format : 50 mm
Scene Capture Type : Standard
Serial Number : 3839903
Lens Model : Leica Summicron-M 50mm f/2 (IV, V)
Maker Note Safety : Safe
Profile Description : sRGB IEC61966-2.1
Date/Time Digitized : 2010:11:19 19:55:04-05:00
Exif Image Width : 685
Exif Image Height : 456
Creator Tool : Adobe Photoshop Lightroom 3.3
Label : Green
Lens : Leica Summicron-M 50mm f/2 (IV, V)
Version : 6.3
Process Version : 5.7
Color Temperature : 4750
Tint : +63
Exposure : 0.00
Shadows : 5
Brightness : +50
Sharpness : 25
Luminance Smoothing : 0
Color Noise Reduction : 25
Chromatic Aberration R : 0
Chromatic Aberration B : 0
Vignette Amount : 0
Shadow Tint : 0
Red Hue : 0
Red Saturation : 0
Green Hue : 0
Green Saturation : 0
Blue Hue : 0
Blue Saturation : 0
Fill Light : 20
Vibrance : 0
Highlight Recovery : 0
Clarity : 0
Defringe : 0
Hue Adjustment Red : 0
Hue Adjustment Orange : 0
Hue Adjustment Yellow : 0
Hue Adjustment Green : 0
Hue Adjustment Aqua : 0
Hue Adjustment Blue : 0
Hue Adjustment Purple : 0
Hue Adjustment Magenta : 0
Saturation Adjustment Red : 0
Saturation Adjustment Orange : 0
Saturation Adjustment Yellow : 0
Saturation Adjustment Green : 0
Saturation Adjustment Aqua : 0
Saturation Adjustment Blue : 0
Saturation Adjustment Purple : 0
Saturation Adjustment Magenta : 0
Luminance Adjustment Red : 0
Luminance Adjustment Orange : 0
Luminance Adjustment Yellow : 0
Luminance Adjustment Green : 0
Luminance Adjustment Aqua : 0
Luminance Adjustment Blue : 0
Luminance Adjustment Purple : 0
Luminance Adjustment Magenta : 0
Split Toning Shadow Hue : 0
Split Toning Shadow Saturation : 0
Split Toning Highlight Hue : 0
Split Toning Highlight Saturation : 0
Split Toning Balance : 0
Parametric Shadows : 0
Parametric Darks : 0
Parametric Lights : 0
Parametric Highlights : 0
Parametric Shadow Split : 25
Parametric Midtone Split : 50
Parametric Highlight Split : 75
Sharpen Radius : +1.0
Sharpen Detail : 25
Sharpen Edge Masking : 0
Post Crop Vignette Amount : 0
Grain Amount : 0
Color Noise Reduction Detail : 50
Lens Profile Enable : 0
Lens Manual Distortion Amount : 0
Perspective Vertical : 0
Perspective Horizontal : 0
Perspective Rotate : 0.0
Perspective Scale : 100
Convert To Grayscale : False
Tone Curve Name : Medium Contrast
Camera Profile : Adobe Standard
Lens Profile Setup : LensDefaults
Has Settings : True
Crop Top : 0
Crop Left : 0.044034
Crop Bottom : 1
Crop Right : 0.955966
Crop Angle : 2.47692
Crop Constrain To Warp : 0
Crop Width : 685
Crop Height : 456
Crop Unit : pixels
Has Crop : True
Already Applied : True
Flash Fired : False
Flash Return : No return detection
Flash Mode : Unknown
Flash Function : False
Flash Red Eye Mode : False
Creator : Adam Marelli
Title : Waiting For Breakfast
Rights : Adam Marelli
Tone Curve : 0, 0, 32, 22, 64, 56, 128, 128, 192, 196, 255, 255
Image Width : 300
Image Height : 200
Bits Per Sample : 8
Color Components : 3
Aperture : 2.8
Blue Balance : 0.637957
Image Size : 300x200
Lens ID : Leica Summicron-M 50mm f/2 (IV, V)
Megapixels : 0.060
Red Balance : 0.426522
Scale Factor To 35 mm Equivalent : 1.0
Shutter Speed : 1/6
Flash : No Flash
Circle Of Confusion : 0.030 mm
Field Of View : 39.6 deg
Focal Length : 50.0 mm (35 mm equivalent: 50.0 mm)
Hyperfocal Distance : 29.72 m
Light Value : 2.6