Uber Exif Photo
Make : Leica Camera AG
Camera Model Name : M9 Digital Camera
Software : 1.138
Modify Date : 2010:12:19 08:35:00
Exposure Time : 1/30
F Number : 3.4
Exposure Program : Manual
ISO : 640
Sensitivity Type : Unknown
Date/Time Original : 2010:11:08 17:57:02
Create Date : 2010:11:08 17:57:02
Shutter Speed Value : 1/30
Aperture Value : 3.4
Exposure Compensation : 0
Max Aperture Value : 2.0
Metering Mode : Center-weighted average
Light Source : Unknown
Focal Length : 50.0 mm
Contrast : Normal
Sharpening : Normal
Saturation : Normal
White Balance : Auto
JPEG Quality : Fine
WB RGB Levels : 0.6345222881 1 0.4899961121
User Profile : 28mm f28
JPEG Size : 5216x3472
Firmware Version : 1.138
Base ISO : 160
Sensor Width : 5270
Sensor Height : 3516
Sensor Bit Depth : 14
Camera Temperature : 18 C
Lens Type : Summicron-M 50mm f/2 (IV, V)
Approximate F Number : 3.5
Measured LV : 0.90
External Sensor Brightness Value : -0.16
Scene Type : Directly photographed
Exposure Mode : Manual
Digital Zoom Ratio : 0
Focal Length In 35mm Format : 50 mm
Scene Capture Type : Standard
Serial Number : 3839903
Lens Model : Leica Summicron-M 50mm f/2 (IV, V)
Maker Note Safety : Safe
Profile Description : sRGB IEC61966-2.1
Date/Time Digitized : 2010:11:08 17:57:02-05:00
Exif Image Width : 685
Exif Image Height : 456
Creator Tool : Adobe Photoshop Lightroom 3.3
Label : Yellow
Rating : 1
Lens : Leica Summicron-M 50mm f/2 (IV, V)
Version : 6.3
Process Version : 5.7
Color Temperature : 2795
Tint : +22
Exposure : 0.00
Shadows : 5
Brightness : +50
Sharpness : 25
Luminance Smoothing : 0
Color Noise Reduction : 25
Chromatic Aberration R : 0
Chromatic Aberration B : 0
Vignette Amount : 0
Shadow Tint : 0
Red Hue : 0
Red Saturation : 0
Green Hue : 0
Green Saturation : 0
Blue Hue : 0
Blue Saturation : 0
Fill Light : 0
Highlight Recovery : 0
Clarity : 0
Defringe : 0
Gray Mixer Red : -15
Gray Mixer Orange : +31
Gray Mixer Yellow : +47
Gray Mixer Green : -26
Gray Mixer Aqua : +15
Gray Mixer Blue : +32
Gray Mixer Purple : -50
Gray Mixer Magenta : +4
Split Toning Shadow Hue : 0
Split Toning Shadow Saturation : 0
Split Toning Highlight Hue : 0
Split Toning Highlight Saturation : 0
Split Toning Balance : 0
Parametric Shadows : -10
Parametric Darks : 0
Parametric Lights : +30
Parametric Highlights : +30
Parametric Shadow Split : 25
Parametric Midtone Split : 50
Parametric Highlight Split : 75
Sharpen Radius : +1.0
Sharpen Detail : 25
Sharpen Edge Masking : 0
Post Crop Vignette Amount : 0
Grain Amount : 0
Color Noise Reduction Detail : 50
Lens Profile Enable : 0
Lens Manual Distortion Amount : 0
Perspective Vertical : 0
Perspective Horizontal : 0
Perspective Rotate : 0.0
Perspective Scale : 100
Convert To Grayscale : True
Tone Curve Name : Medium Contrast
Camera Profile : Adobe Standard
Lens Profile Setup : LensDefaults
Has Settings : True
Crop Top : 0
Crop Left : 0.126825
Crop Bottom : 1
Crop Right : 0.873175
Crop Angle : 8.07843
Crop Constrain To Warp : 0
Crop Width : 685
Crop Height : 456
Crop Unit : pixels
Has Crop : True
Already Applied : True
Flash Fired : False
Flash Return : No return detection
Flash Mode : Unknown
Flash Function : False
Flash Red Eye Mode : False
Tone Curve : 0, 0, 32, 22, 64, 56, 128, 128, 192, 196, 255, 255
Image Width : 300
Image Height : 200
Bits Per Sample : 8
Color Components : 3
Aperture : 3.4
Blue Balance : 0.489996
Image Size : 300x200
Lens ID : Leica Summicron-M 50mm f/2 (IV, V)
Megapixels : 0.060
Red Balance : 0.634522
Scale Factor To 35 mm Equivalent : 1.0
Shutter Speed : 1/30
Flash : No Flash
Circle Of Confusion : 0.030 mm
Field Of View : 39.6 deg
Focal Length : 50.0 mm (35 mm equivalent: 50.0 mm)
Hyperfocal Distance : 24.47 m
Light Value : 5.8