Uber Exif Photo
Object Name : Potenial
Keywords : 28mm Summicron, Architecture, Catacombs, Catacumbas, Ektar 100, Igreja S. Francisco, Leica M6 TTL, Porto
Make : NORITSU KOKI
Camera Model Name : QSS-29
Software : Adobe Photoshop CS2 Windows
Modify Date : 2010:11:09 15:02:16
Sensitivity Type : Unknown
Profile Description : sRGB IEC61966-2.1
Creator Tool : Adobe Photoshop Lightroom
Create Date : 2009:01:22 12:48:32-05:00
Label : Green
Rating : 4
Color Space : sRGB
Exif Image Width : 685
Exif Image Height : 454
Date/Time Original :
Date/Time Digitized : Document ID : uuid:480D0AE2ACE8DD11AA82FA2C9F722F43
Format : image/jpeg
Version : 6.2
Process Version : 5.0
White Balance : Custom
Incremental Temperature : -7
Incremental Tint : +8
Exposure : 0.00
Shadows : 0
Brightness : 0
Contrast : 0
Saturation : 0
Sharpness : 10
Luminance Smoothing : 0
Color Noise Reduction : 0
Chromatic Aberration R : 0
Chromatic Aberration B : 0
Vignette Amount : 0
Shadow Tint : 0
Red Hue : 0
Red Saturation : 0
Green Hue : 0
Green Saturation : 0
Blue Hue : 0
Blue Saturation : 0
Fill Light : 15
Vibrance : +20
Highlight Recovery : 100
Clarity : 0
Defringe : 0
Hue Adjustment Red : 0
Hue Adjustment Orange : 0
Hue Adjustment Yellow : 0
Hue Adjustment Green : 0
Hue Adjustment Aqua : 0
Hue Adjustment Blue : 0
Hue Adjustment Purple : 0
Hue Adjustment Magenta : 0
Saturation Adjustment Red : 0
Saturation Adjustment Orange : 0
Saturation Adjustment Yellow : +18
Saturation Adjustment Green : +7
Saturation Adjustment Aqua : -4
Saturation Adjustment Blue : -36
Saturation Adjustment Purple : 0
Saturation Adjustment Magenta : 0
Luminance Adjustment Red : 0
Luminance Adjustment Orange : +10
Luminance Adjustment Yellow : +15
Luminance Adjustment Green : +10
Luminance Adjustment Aqua : 0
Luminance Adjustment Blue : 0
Luminance Adjustment Purple : 0
Luminance Adjustment Magenta : 0
Split Toning Shadow Hue : 0
Split Toning Shadow Saturation : 0
Split Toning Highlight Hue : 0
Split Toning Highlight Saturation : 0
Split Toning Balance : 0
Parametric Shadows : -18
Parametric Darks : -6
Parametric Lights : +8
Parametric Highlights : +28
Parametric Shadow Split : 17
Parametric Midtone Split : 43
Parametric Highlight Split : 75
Sharpen Radius : +1.0
Sharpen Detail : 25
Sharpen Edge Masking : 0
Post Crop Vignette Amount : 0
Grain Amount : 0
Lens Profile Enable : 0
Lens Manual Distortion Amount : 0
Perspective Vertical : 0
Perspective Horizontal : 0
Perspective Rotate : 0.0
Perspective Scale : 100
Convert To Grayscale : False
Tone Curve Name : Linear
Camera Profile : Embedded
Lens Profile Setup : LensDefaults
Has Settings : True
Has Crop : False
Already Applied : True
Title : Potenial
Subject : 28mm Summicron, Architecture, Catacombs, Catacumbas, Ektar 100, Igreja S. Francisco, Leica M6 TTL, Porto
Tone Curve : 0, 0, 255, 255
Image Width : 300
Image Height : 199
Bits Per Sample : 8
Color Components : 3
Image Size : 300x199
Megapixels : 0.060