Uber Exif Photo
Photometric Interpretation : RGB
Make : Panasonic
Camera Model Name : DC-S5
Orientation : Horizontal (normal)
Samples Per Pixel : 3
Software : Adobe Photoshop 26.4 (Windows)
Modify Date : 2025:03:19 23:39:55
Artist : JRA
Copyright : JOHN ANGARONI
Exposure Time : 1/640
F Number : 8.0
Exposure Program : Aperture-priority AE
ISO : 100
Date/Time Original : 2025:03:18 15:09:27
Create Date : 2025:03:18 15:09:27
Shutter Speed Value : 1/640
Aperture Value : 8.0
Exposure Compensation : 0
Max Aperture Value : 5.6
Metering Mode : Multi-segment
Light Source : Unknown
Flash : Off, Did not fire
Focal Length : 60.0 mm
Color Space : sRGB
Exif Image Width : 3000
Exif Image Height : 2000
Sensing Method : One-chip color area
Scene Type : Directly photographed
Custom Rendered : Custom
Exposure Mode : Auto
White Balance : Auto
Digital Zoom Ratio : 0
Focal Length In 35mm Format : 60 mm
Scene Capture Type : Standard
Gain Control : None
Contrast : High
Saturation : Normal
Sharpness : Soft
Serial Number : WJ3CB001079
Lens Model : LUMIX S 20-60/F3.5-5.6
Lens Serial Number : 1374
By-line : JRA
Copyright Notice : JOHN ANGARONI
Creator Tool : Adobe Photoshop Lightroom Classic 14.2 (Windows)
Preserved File Name : P1001760.RW2
Format : image/jpeg
Lens : LUMIX S 20-60/F3.5-5.6
Distortion Correction Already Applied : True
Lateral Chromatic Aberration Correction Already Applied : True
Date Created : 2025:03:18 15:09:27.529-05:00
Color Mode : RGB
ICC Profile Name : sRGB IEC61966-2.1
Pick : 0
Raw File Name : P1001760.RW2
Version : 17.2
Compatible Version : 268632064
Process Version : 15.4
Color Temperature : 5100
Tint : +20
Exposure 2012 : 0.00
Contrast 2012 : 0
Highlights 2012 : 0
Shadows 2012 : 0
Whites 2012 : 0
Blacks 2012 : 0
Texture : 0
Clarity 2012 : +21
Dehaze : 0
Vibrance : +19
Parametric Shadows : 0
Parametric Darks : 0
Parametric Lights : 0
Parametric Highlights : 0
Parametric Shadow Split : 25
Parametric Midtone Split : 50
Parametric Highlight Split : 75
Sharpen Radius : +3.0
Sharpen Detail : 100
Sharpen Edge Masking : 50
Luminance Smoothing : 18
Luminance Noise Reduction Detail : 50
Luminance Noise Reduction Contrast : 0
Color Noise Reduction : 19
Color Noise Reduction Detail : 50
Color Noise Reduction Smoothness : 50
Hue Adjustment Red : +16
Hue Adjustment Orange : -2
Hue Adjustment Yellow : -12
Hue Adjustment Green : +9
Hue Adjustment Aqua : +13
Hue Adjustment Blue : -12
Hue Adjustment Purple : -2
Hue Adjustment Magenta : +45
Saturation Adjustment Red : -2
Saturation Adjustment Orange : -9
Saturation Adjustment Yellow : -14
Saturation Adjustment Green : -14
Saturation Adjustment Aqua : +8
Saturation Adjustment Blue : +7
Saturation Adjustment Purple : -11
Saturation Adjustment Magenta : -2
Luminance Adjustment Red : +5
Luminance Adjustment Orange : +8
Luminance Adjustment Yellow : +7
Luminance Adjustment Green : +12
Luminance Adjustment Aqua : -4
Luminance Adjustment Blue : -5
Luminance Adjustment Purple : -2
Luminance Adjustment Magenta : +8
Split Toning Shadow Hue : 0
Split Toning Shadow Saturation : 0
Split Toning Highlight Hue : 0
Split Toning Highlight Saturation : 0
Split Toning Balance : 0
Color Grade Midtone Hue : 0
Color Grade Midtone Sat : 0
Color Grade Shadow Lum : 0
Color Grade Midtone Lum : 0
Color Grade Highlight Lum : 0
Color Grade Blending : 50
Color Grade Global Hue : 0
Color Grade Global Sat : 0
Color Grade Global Lum : 0
Auto Lateral CA : 0
Lens Profile Enable : 1
Lens Manual Distortion Amount : 0
Vignette Amount : 0
Defringe Purple Amount : 0
Defringe Purple Hue Lo : 30
Defringe Purple Hue Hi : 70
Defringe Green Amount : 0
Defringe Green Hue Lo : 40
Defringe Green Hue Hi : 60
Perspective Upright : Off
Perspective Vertical : 0
Perspective Horizontal : 0
Perspective Rotate : 0.0
Perspective Aspect : 0
Perspective Scale : 100
Perspective X : 0.00
Perspective Y : 0.00
Grain Amount : 0
Post Crop Vignette Amount : 0
Shadow Tint : 0
Red Hue : 0
Red Saturation : 0
Green Hue : 0
Green Saturation : 0
Blue Hue : 0
Blue Saturation : 0
HDR Edit Mode : 0
Curve Refine Saturation : 100
Convert To Grayscale : False
Override Look Vignette : False
Tone Curve Name 2012 : Custom
Camera Profile : Adobe Standard
Lens Profile Setup : LensDefaults
Lens Profile Name : Camera Settings
Lens Profile Is Embedded : True
Lens Profile Distortion Scale : 100
Lens Profile Vignetting Scale : 100
Has Settings : True
Crop Top : 0
Crop Left : 0
Crop Bottom : 1
Crop Right : 1
Crop Angle : 0
Crop Constrain To Warp : 0
Has Crop : False
Already Applied : True
Creator : JRA
Rights : JOHN ANGARONI
Camera Profiles Author : Adobe
Camera Profiles Make : Panasonic
Camera Profiles Model : DC-S5
Camera Profiles Unique Camera Model : Panasonic DC-S5
Camera Profiles Camera Raw Profile : True
Camera Profiles Auto Scale : False
Camera Profiles Lens : LUMIX S 20-60/F3.5-5.6
Camera Profiles Camera Pretty Name : Panasonic DC-S5
Camera Profiles Lens Pretty Name : LUMIX S 20-60/F3.5-5.6
Camera Profiles Profile Name : Camera Settings
Camera Profiles Sensor Format Factor : 1
Camera Profiles Focal Length : 60
Camera Profiles Focus Distance : 10000
Camera Profiles Aperture Value : 6
Camera Profiles Perspective Model Version : 2
Camera Profiles Perspective Model Image X Center : 0.499668
Camera Profiles Perspective Model Image Y Center : 0.5
Camera Profiles Perspective Model Scale Factor : 0.97997
Camera Profiles Perspective Model Radial Distort Param 1 : 0.09185
Camera Profiles Perspective Model Radial Distort Param 2 : 0.336951
Camera Profiles Perspective Model Radial Distort Param 3 : 0.516017
Tone Curve PV2012 : 0, 0, 50, 35, 106, 95, 133, 127, 154, 153, 162, 161, 170, 172, 179, 181, 186, 191, 194, 200, 213, 222, 222, 231, 238, 245, 255, 255
Tone Curve PV2012 Red : 0, 0, 105, 106, 154, 155, 193, 192, 221, 221, 255, 255
Tone Curve PV2012 Green : 0, 0, 106, 107, 154, 155, 194, 194, 255, 255
Tone Curve PV2012 Blue : 0, 0, 108, 108, 155, 156, 222, 221, 244, 245, 255, 255
Point Colors : -1.000000, -1.000000, -1.000000, -1.000000, -1.000000, -1.000000, -1.000000, -1.000000, -1.000000, -1.000000, -1.000000, -1.000000, -1.000000, -1.000000, -1.000000, -1.000000, -1.000000, -1.000000, -1.000000
Remove Areas Spot Type : heal_patchmatch
Remove Areas Source State : sourceAutoComputed
Remove Areas Opacity : 1
Remove Areas Seed : 2
Remove Areas Pm patch : 6457E94ABB44058EB8987098213C31F2
Remove Areas Pm remap info 0 : 0.063370720,0.070481420,0.000000000,1.000000000
Remove Areas Pm remap info 1 : 0.131517515,0.148256660,0.000000000,1.000000000
Remove Areas Pm remap info 2 : 0.113527119,0.127489135,0.000000000,1.000000000
Remove Areas Pm gamma type : 1
Remove Areas Pm whole image top : 8
Remove Areas Pm whole image left : 12
Remove Areas Pm whole image bottom : 4008
Remove Areas Pm whole image right : 6012
Remove Areas Pm target top : 239
Remove Areas Pm target left : 3558
Remove Areas Pm target bottom : 593
Remove Areas Pm target right : 3908
Remove Areas Pm search top : 0
Remove Areas Pm search left : 3029
Remove Areas Pm search bottom : 1406
Remove Areas Pm search right : 4437
Remove Areas Pm source type : full
Remove Areas Pm version : 327680
Remove Areas Pm black level : 2040
Remove Areas Masks What : Mask/Image
Remove Areas Masks Mask Active : true
Remove Areas Masks Mask Blend Mode : 0
Remove Areas Masks Mask Inverted : false
Remove Areas Masks Mask Sync ID : C9692FD5B8EBB04EBAA4EE6581A1B8B2
Remove Areas Masks Mask Value : 1
Remove Areas Masks Mask Version : 1
Remove Areas Masks Mask Sub Type : 0
Remove Areas Masks Reference Point : 0.619050 0.100690
Remove Areas Masks Whole Image Area : 0/1,0/1,1920/1,2880/1
Remove Areas Masks Origin : 1702,111
Remove Areas Masks Model Version : 234881976
Remove Areas Masks Gesture What : Mask/Paint
Remove Areas Masks Gesture Mask Active : true
Remove Areas Masks Gesture Mask Blend Mode : 0
Remove Areas Masks Gesture Mask Inverted : false
Remove Areas Masks Gesture Mask Sync ID : 4EB0489A95F16940B5ACDB4105F34F22
Remove Areas Masks Gesture Mask Value : 1
Remove Areas Masks Gesture Radius : 0
Remove Areas Masks Gesture Flow : 1
Remove Areas Masks Gesture Center Weight : 0
Remove Areas Masks Gesture Brush Gesture Interpretation : 0
Profile Description : sRGB IEC61966-2.1
Image Width : 400
Image Height : 267
Bits Per Sample : 8
Color Components : 3
Aperture : 8.0
Image Size : 400x267
Megapixels : 0.107
Scale Factor To 35 mm Equivalent : 1.0
Shutter Speed : 1/640
Create Date : 2025:03:18 15:09:27.529-05:00
Date/Time Original : 2025:03:18 15:09:27.529-05:00
Modify Date : 2025:03:19 23:39:55-04:00
Circle Of Confusion : 0.030 mm
Field Of View : 33.4 deg
Focal Length : 60.0 mm (35 mm equivalent: 60.0 mm)
Hyperfocal Distance : 14.98 m
Light Value : 15.3
Lens ID : LUMIX S 20-60mm F3.5-5.6