Uber Exif Photo
Photometric Interpretation : RGB
Make : FUJIFILM
Camera Model Name : X-H1
Orientation : Horizontal (normal)
Samples Per Pixel : 3
Software : Adobe Photoshop 26.2 (Windows)
Modify Date : 2025:01:20 15:58:33
Artist : JOHN ANGARONI
Copyright : JOHN ANGARONI
Exposure Time : 1/5
F Number : 11.0
Exposure Program : Aperture-priority AE
ISO : 1600
Sensitivity Type : Standard Output Sensitivity
Date/Time Original : 2025:01:20 07:02:21
Create Date : 2025:01:20 07:02:21
Shutter Speed Value : 1/5
Aperture Value : 11.0
Brightness Value : 0.47
Exposure Compensation : -0.33
Max Aperture Value : 4.0
Metering Mode : Multi-segment
Light Source : Unknown
Flash : No Flash
Focal Length : 67.5 mm
Color Space : sRGB
Exif Image Width : 3000
Exif Image Height : 2000
Sensing Method : One-chip color area
Scene Type : Directly photographed
Custom Rendered : Normal
Exposure Mode : Auto
White Balance : Auto
Focal Length In 35mm Format : 101 mm
Scene Capture Type : Standard
Sharpness : Soft
Subject Distance Range : Unknown
Serial Number : 82A52229
Lens Info : 16-80mm f/4
Lens Make : FUJIFILM
Lens Model : XF16-80mmF4 R OIS WR
Lens Serial Number : 3CA06177
JUMD Type : (c2pa)-0011-0010-800000aa00389b71
JUMD Label : c2pa
Actions Action : c2pa.edited
Actions Software Agent : Adobe Firefly
Actions Digital Source Type : http://cv.iptc.org/newscodes/digitalsourcetype/compositeWithTrainedAlgorithmicMedia
Exclusions Start : 6837
Exclusions Length : 13391
Name : jumbf manifest
Alg : sha256
Title : Generated image
Claim generator : Adobe_Photoshop/26.2.0 adobe_c2pa/0.12.2 c2pa-rs/0.32.5
Claim Generator Info Name : Adobe Photoshop
Claim Generator Info Version : 26.2.0
Signature : self#jumbf=c2pa.signature
Assertions Url : self#jumbf=c2pa.assertions/c2pa.actions, self#jumbf=c2pa.assertions/c2pa.hash.data
Item 2 : null
By-line : JOHN ANGARONI
Copyright Notice : JOHN ANGARONI
Creator Tool : Adobe Photoshop Lightroom Classic 14.1.1 (Windows)
Fuji Rating Already Applied : True
Lens : XF16-80mmF4 R OIS WR
Distortion Correction Already Applied : True
Lateral Chromatic Aberration Correction Already Applied : True
Vignette Correction Already Applied : True
Format : image/jpeg
Date Created : 2025:01:20 07:02:21
Color Mode : RGB
ICC Profile Name : sRGB IEC61966-2.1
Preserved File Name : JRA11502.RAF
Pick : 0
Raw File Name : JRA11502.RAF
Version : 17.1
Process Version : 15.4
Color Temperature : 5500
Tint : +10
Exposure 2012 : 0.00
Contrast 2012 : +4
Highlights 2012 : -7
Shadows 2012 : 0
Whites 2012 : -30
Blacks 2012 : -33
Texture : 0
Clarity 2012 : +19
Dehaze : 0
Vibrance : 0
Saturation : 0
Parametric Shadows : 0
Parametric Darks : 0
Parametric Lights : 0
Parametric Highlights : 0
Parametric Shadow Split : 25
Parametric Midtone Split : 50
Parametric Highlight Split : 75
Sharpen Radius : +1.0
Sharpen Detail : 25
Sharpen Edge Masking : 0
Luminance Smoothing : 0
Color Noise Reduction : 25
Color Noise Reduction Detail : 50
Color Noise Reduction Smoothness : 50
Hue Adjustment Red : 0
Hue Adjustment Orange : 0
Hue Adjustment Yellow : 0
Hue Adjustment Green : 0
Hue Adjustment Aqua : 0
Hue Adjustment Blue : 0
Hue Adjustment Purple : 0
Hue Adjustment Magenta : 0
Saturation Adjustment Red : 0
Saturation Adjustment Orange : 0
Saturation Adjustment Yellow : 0
Saturation Adjustment Green : 0
Saturation Adjustment Aqua : 0
Saturation Adjustment Blue : 0
Saturation Adjustment Purple : 0
Saturation Adjustment Magenta : 0
Luminance Adjustment Red : 0
Luminance Adjustment Orange : 0
Luminance Adjustment Yellow : 0
Luminance Adjustment Green : 0
Luminance Adjustment Aqua : 0
Luminance Adjustment Blue : 0
Luminance Adjustment Purple : 0
Luminance Adjustment Magenta : 0
Split Toning Shadow Hue : 0
Split Toning Shadow Saturation : 0
Split Toning Highlight Hue : 0
Split Toning Highlight Saturation : 0
Split Toning Balance : 0
Color Grade Midtone Hue : 0
Color Grade Midtone Sat : 0
Color Grade Shadow Lum : 0
Color Grade Midtone Lum : 0
Color Grade Highlight Lum : 0
Color Grade Blending : 50
Color Grade Global Hue : 0
Color Grade Global Sat : 0
Color Grade Global Lum : 0
Auto Lateral CA : 1
Lens Profile Enable : 0
Lens Manual Distortion Amount : 0
Vignette Amount : 0
Defringe Purple Amount : 0
Defringe Purple Hue Lo : 30
Defringe Purple Hue Hi : 70
Defringe Green Amount : 0
Defringe Green Hue Lo : 40
Defringe Green Hue Hi : 60
Perspective Upright : Auto
Perspective Vertical : 0
Perspective Horizontal : 0
Perspective Rotate : 0.0
Perspective Aspect : 0
Perspective Scale : 100
Perspective X : 0.00
Perspective Y : 0.00
Grain Amount : 0
Post Crop Vignette Amount : 0
Shadow Tint : 0
Red Hue : 0
Red Saturation : 0
Green Hue : 0
Green Saturation : 0
Blue Hue : 0
Blue Saturation : 0
HDR Edit Mode : 0
Convert To Grayscale : False
Override Look Vignette : False
Tone Curve Name 2012 : Linear
Camera Profile : Camera ASTIA/SOFT
Has Settings : True
Crop Top : 0.04777
Crop Left : 0
Crop Bottom : 0.994017
Crop Right : 0.954889
Crop Angle : -0.24
Crop Constrain To Warp : 1
Has Crop : True
Already Applied : True
Creator : JOHN ANGARONI
Rights : JOHN ANGARONI
Tone Curve PV2012 : 0, 0, 255, 255
Tone Curve PV2012 Red : 0, 0, 255, 255
Tone Curve PV2012 Green : 0, 0, 255, 255
Tone Curve PV2012 Blue : 0, 0, 255, 255
Point Colors : -1.000000, -1.000000, -1.000000, -1.000000, -1.000000, -1.000000, -1.000000, -1.000000, -1.000000, -1.000000, -1.000000, -1.000000, -1.000000, -1.000000, -1.000000, -1.000000, -1.000000, -1.000000, -1.000000
Profile Description : sRGB IEC61966-2.1
Image Width : 400
Image Height : 267
Bits Per Sample : 8
Color Components : 3
Aperture : 11.0
Image Size : 400x267
Megapixels : 0.107
Scale Factor To 35 mm Equivalent : 1.5
Shutter Speed : 1/5
Modify Date : 2025:01:20 15:58:33-05:00
Circle Of Confusion : 0.020 mm
Field Of View : 20.2 deg
Focal Length : 67.5 mm (35 mm equivalent: 101.0 mm)
Hyperfocal Distance : 20.63 m
Light Value : 5.2
Lens ID : XF16-80mm F4 R OIS WR