Uber Exif Photo
Photometric Interpretation : RGB
Make : FUJIFILM
Camera Model Name : X-H1
Orientation : Horizontal (normal)
Samples Per Pixel : 3
Software : Adobe Photoshop 25.7 (Windows)
Modify Date : 2024:05:13 19:03:30
Artist : JOHN ANGARONI
Copyright : JOHN ANGARONI
Exposure Time : 1/8
F Number : 16.0
Exposure Program : Aperture-priority AE
ISO : 100
Sensitivity Type : Standard Output Sensitivity
Date/Time Original : 2024:05:13 14:29:43
Create Date : 2024:05:13 14:29:43
Shutter Speed Value : 1/8
Aperture Value : 16.0
Brightness Value : 6.15
Exposure Compensation : -0.67
Max Aperture Value : 2.0
Metering Mode : Multi-segment
Light Source : Unknown
Flash : No Flash
Focal Length : 90.0 mm
Color Space : Uncalibrated
Exif Image Width : 2550
Exif Image Height : 1700
Sensing Method : One-chip color area
Scene Type : Directly photographed
Custom Rendered : Normal
Exposure Mode : Auto
White Balance : Auto
Focal Length In 35mm Format : 135 mm
Scene Capture Type : Standard
Sharpness : Soft
Subject Distance Range : Unknown
Serial Number : 82A52229
Lens Info : 90mm f/2
Lens Make : FUJIFILM
Lens Model : XF90mmF2 R LM WR
Lens Serial Number : 85B01532
By-line : JOHN ANGARONI
Copyright Notice : JOHN ANGARONI
Creator Tool : Adobe Photoshop Lightroom Classic 13.2 (Windows)
Fuji Rating Already Applied : True
Lens : XF90mmF2 R LM WR
Format : image/jpeg
Date Created : 2024:05:13 14:29:43
Color Mode : RGB
ICC Profile Name : Adobe RGB (1998)
Preserved File Name : JRA19420.JPG
Pick : 0
Raw File Name : JRA19420.JPG
Version : 16.2
Process Version : 15.4
Incremental Temperature : 0
Incremental Tint : 0
Shadows : 5
Brightness : +50
Contrast : +25
Exposure 2012 : +0.09
Contrast 2012 : +6
Highlights 2012 : -44
Shadows 2012 : +18
Whites 2012 : +50
Blacks 2012 : -18
Texture : 0
Clarity 2012 : +16
Dehaze : 0
Vibrance : +16
Saturation : +2
Parametric Shadows : 0
Parametric Darks : 0
Parametric Lights : 0
Parametric Highlights : 0
Parametric Shadow Split : 25
Parametric Midtone Split : 50
Parametric Highlight Split : 75
Luminance Smoothing : 0
Color Noise Reduction : 0
Hue Adjustment Red : 0
Hue Adjustment Orange : 0
Hue Adjustment Yellow : 0
Hue Adjustment Green : 0
Hue Adjustment Aqua : 0
Hue Adjustment Blue : 0
Hue Adjustment Purple : 0
Hue Adjustment Magenta : 0
Saturation Adjustment Red : +22
Saturation Adjustment Orange : +16
Saturation Adjustment Yellow : +71
Saturation Adjustment Green : +38
Saturation Adjustment Aqua : 0
Saturation Adjustment Blue : +37
Saturation Adjustment Purple : 0
Saturation Adjustment Magenta : 0
Luminance Adjustment Red : 0
Luminance Adjustment Orange : 0
Luminance Adjustment Yellow : 0
Luminance Adjustment Green : 0
Luminance Adjustment Aqua : 0
Luminance Adjustment Blue : 0
Luminance Adjustment Purple : 0
Luminance Adjustment Magenta : 0
Split Toning Shadow Hue : 0
Split Toning Shadow Saturation : 0
Split Toning Highlight Hue : 0
Split Toning Highlight Saturation : 0
Split Toning Balance : 0
Color Grade Midtone Hue : 0
Color Grade Midtone Sat : 0
Color Grade Shadow Lum : 0
Color Grade Midtone Lum : 0
Color Grade Highlight Lum : 0
Color Grade Blending : 50
Color Grade Global Hue : 0
Color Grade Global Sat : 0
Color Grade Global Lum : 0
Auto Lateral CA : 0
Lens Profile Enable : 0
Lens Manual Distortion Amount : 0
Vignette Amount : 0
Defringe Purple Amount : 0
Defringe Purple Hue Lo : 30
Defringe Purple Hue Hi : 70
Defringe Green Amount : 0
Defringe Green Hue Lo : 40
Defringe Green Hue Hi : 60
Perspective Upright : Off
Perspective Vertical : 0
Perspective Horizontal : 0
Perspective Rotate : 0.0
Perspective Aspect : 0
Perspective Scale : 100
Perspective X : 0.00
Perspective Y : 0.00
Grain Amount : 0
Post Crop Vignette Amount : 0
Shadow Tint : 0
Red Hue : 0
Red Saturation : 0
Green Hue : 0
Green Saturation : 0
Blue Hue : 0
Blue Saturation : 0
HDR Edit Mode : 0
Convert To Grayscale : False
Override Look Vignette : False
Tone Curve Name 2012 : Linear
Camera Profile : Embedded
Has Settings : True
Crop Top : 0.124157
Crop Left : 0.04769
Crop Bottom : 1
Crop Right : 0.923534
Crop Angle : 0
Crop Constrain To Warp : 0
Has Crop : True
Already Applied : True
Creator : JOHN ANGARONI
Rights : JOHN ANGARONI
Tone Curve PV2012 : 0, 0, 255, 255
Tone Curve PV2012 Red : 0, 0, 255, 255
Tone Curve PV2012 Green : 0, 0, 255, 255
Tone Curve PV2012 Blue : 0, 0, 255, 255
Point Colors : -1.000000, -1.000000, -1.000000, -1.000000, -1.000000, -1.000000, -1.000000, -1.000000, -1.000000, -1.000000, -1.000000, -1.000000, -1.000000, -1.000000, -1.000000, -1.000000, -1.000000, -1.000000, -1.000000
Profile Description : Adobe RGB (1998)
Image Width : 400
Image Height : 267
Bits Per Sample : 8
Color Components : 3
Aperture : 16.0
Image Size : 400x267
Megapixels : 0.107
Scale Factor To 35 mm Equivalent : 1.5
Shutter Speed : 1/8
Modify Date : 2024:05:13 19:03:30-04:00
Circle Of Confusion : 0.020 mm
Field Of View : 15.2 deg
Focal Length : 90.0 mm (35 mm equivalent: 135.0 mm)
Hyperfocal Distance : 25.27 m
Light Value : 11.0
Lens ID : XF90mm F2 R LM WR