Uber Exif Photo
Photometric Interpretation : RGB
Make : LEICA CAMERA AG
Camera Model Name : D-Lux 7
Orientation : Horizontal (normal)
Samples Per Pixel : 3
Software : Adobe Photoshop 23.1 (Windows)
Modify Date : 2022:02:03 17:41:39
Exposure Time : 1/500
F Number : 5.6
Exposure Program : Aperture-priority AE
ISO : 200
Date/Time Original : 2021:11:04 08:46:18
Create Date : 2021:11:04 08:46:18
Shutter Speed Value : 1/500
Aperture Value : 5.6
Exposure Compensation : -0.33
Max Aperture Value : 2.3
Metering Mode : Multi-segment
Light Source : Unknown
Flash : Off, Did not fire
Focal Length : 16.1 mm
Color Space : sRGB
Exif Image Width : 4736
Exif Image Height : 3552
Sensing Method : One-chip color area
Scene Type : Directly photographed
Custom Rendered : Custom
Exposure Mode : Auto
White Balance : Auto
Digital Zoom Ratio : 0
Focal Length In 35mm Format : 36 mm
Scene Capture Type : Standard
Gain Control : Low gain up
Contrast : Normal
Saturation : Normal
Sharpness : Normal
Profile Description : sRGB IEC61966-2.1
Creator Tool : Adobe Photoshop Lightroom Classic 11.1 (Windows)
Preserved File Name : L1013236.RWL
Date Created : 2021:11:04 08:46:18.562-08:00
Color Mode : RGB
ICC Profile Name : sRGB IEC61966-2.1
Format : image/jpeg
Raw File Name : L1013236.RWL
Version : 14.1
Process Version : 11.0
Color Temperature : 5750
Tint : +25
Exposure 2012 : 0.00
Contrast 2012 : 0
Highlights 2012 : 0
Shadows 2012 : 0
Whites 2012 : 0
Blacks 2012 : +7
Texture : 0
Clarity 2012 : +28
Dehaze : 0
Vibrance : 0
Parametric Shadows : 0
Parametric Darks : 0
Parametric Lights : 0
Parametric Highlights : 0
Parametric Shadow Split : 25
Parametric Midtone Split : 50
Parametric Highlight Split : 75
Sharpen Radius : +1.0
Sharpen Detail : 25
Sharpen Edge Masking : 0
Luminance Smoothing : 0
Color Noise Reduction : 25
Color Noise Reduction Detail : 50
Color Noise Reduction Smoothness : 50
Hue Adjustment Red : 0
Hue Adjustment Orange : 0
Hue Adjustment Yellow : 0
Hue Adjustment Green : 0
Hue Adjustment Aqua : 0
Hue Adjustment Blue : 0
Hue Adjustment Purple : 0
Hue Adjustment Magenta : 0
Saturation Adjustment Red : 0
Saturation Adjustment Orange : 0
Saturation Adjustment Yellow : 0
Saturation Adjustment Green : 0
Saturation Adjustment Aqua : 0
Saturation Adjustment Blue : 0
Saturation Adjustment Purple : 0
Saturation Adjustment Magenta : 0
Luminance Adjustment Red : 0
Luminance Adjustment Orange : +23
Luminance Adjustment Yellow : 0
Luminance Adjustment Green : +23
Luminance Adjustment Aqua : -10
Luminance Adjustment Blue : -38
Luminance Adjustment Purple : -68
Luminance Adjustment Magenta : 0
Split Toning Shadow Hue : 0
Split Toning Shadow Saturation : 0
Split Toning Highlight Hue : 0
Split Toning Highlight Saturation : 0
Split Toning Balance : 0
Color Grade Midtone Hue : 0
Color Grade Midtone Sat : 0
Color Grade Shadow Lum : 0
Color Grade Midtone Lum : 0
Color Grade Highlight Lum : 0
Color Grade Blending : 50
Color Grade Global Hue : 0
Color Grade Global Sat : 0
Color Grade Global Lum : 0
Auto Lateral CA : 0
Lens Profile Enable : 0
Lens Manual Distortion Amount : 0
Vignette Amount : 0
Defringe Purple Amount : 0
Defringe Purple Hue Lo : 30
Defringe Purple Hue Hi : 70
Defringe Green Amount : 0
Defringe Green Hue Lo : 40
Defringe Green Hue Hi : 60
Perspective Upright : Off
Perspective Vertical : 0
Perspective Horizontal : 0
Perspective Rotate : 0.0
Perspective Aspect : 0
Perspective Scale : 100
Perspective X : 0.00
Perspective Y : 0.00
Grain Amount : 0
Post Crop Vignette Amount : 0
Shadow Tint : 0
Red Hue : 0
Red Saturation : 0
Green Hue : 0
Green Saturation : 0
Blue Hue : 0
Blue Saturation : 0
Override Look Vignette : False
Tone Curve Name 2012 : Linear
Camera Profile : Adobe Standard v2
Has Settings : True
Crop Top : 0
Crop Left : 0
Crop Bottom : 1
Crop Right : 1
Crop Angle : 0
Crop Constrain To Warp : 0
Has Crop : False
Already Applied : True
Distortion Correction Already Applied : True
Lateral Chromatic Aberration Correction Already Applied : True
Tone Curve PV2012 : 0, 0, 255, 255
Tone Curve PV2012 Red : 0, 0, 255, 255
Tone Curve PV2012 Green : 0, 0, 255, 255
Tone Curve PV2012 Blue : 0, 0, 255, 255
Look Name : Adobe Landscape
Look Amount : 1
Look Supports Amount : false
Look Supports Monochrome : false
Look Supports Output Referred : false
Look Group : Profiles
Look Parameters Version : 14.1
Look Parameters Process Version : 11.0
Look Parameters Highlights 2012 : -12
Look Parameters Shadows 2012 : +12
Look Parameters Clarity 2012 : +10
Look Parameters Convert To Grayscale : False
Look Parameters Camera Profile : Adobe Standard
Look Parameters Look Table : 0B3BFB5CFB7DBF7FF175E98F24D316B0
Look Parameters Tone Curve PV2012 : 0, 0, 64, 60, 128, 128, 192, 196, 255, 255
Image Width : 400
Image Height : 300
Bits Per Sample : 8
Color Components : 1
Aperture : 5.6
Image Size : 400x300
Megapixels : 0.120
Scale Factor To 35 mm Equivalent : 2.2
Shutter Speed : 1/500
Create Date : 2021:11:04 08:46:18.562-08:00
Date/Time Original : 2021:11:04 08:46:18.562-08:00
Modify Date : 2022:02:03 17:41:39-05:00
Circle Of Confusion : 0.013 mm
Field Of View : 53.1 deg
Focal Length : 16.1 mm (35 mm equivalent: 36.0 mm)
Hyperfocal Distance : 3.44 m
Light Value : 12.9