Uber Exif Photo
Photometric Interpretation : RGB
Make : Panasonic
Camera Model Name : DMC-G1
Orientation : Horizontal (normal)
Samples Per Pixel : 3
Software : Adobe Photoshop 22.4 (Windows)
Modify Date : 2021:07:01 15:59:27
Exposure Time : 1/125
F Number : 4.0
Exposure Program : Aperture-priority AE
ISO : 400
Date/Time Original : 2010:09:29 17:00:01
Create Date : 2010:09:29 17:00:01
Shutter Speed Value : 1/125
Aperture Value : 4.0
Exposure Compensation : +0.33
Max Aperture Value : 2.8
Metering Mode : Multi-segment
Flash : Off, Did not fire
Focal Length : 45.0 mm
Color Space : sRGB
Exif Image Width : 1200
Exif Image Height : 1500
Lens Model : LEICA DG MACRO-ELMARIT 45/F2.8
Lens Serial Number : 09110090478
Profile Description : sRGB IEC61966-2.1
Creator Tool : Adobe Photoshop Lightroom Classic 10.3 (Windows)
Lens : LEICA DG MACRO-ELMARIT 45/F2.8
Format : image/jpeg
Date Created : 2010:09:29 17:00:01-04:00
Color Mode : RGB
ICC Profile Name : sRGB IEC61966-2.1
Preserved File Name : P1060138.jpg
Raw File Name : Version : 13.3
Process Version : 11.0
White Balance : As Shot
Incremental Temperature : 0
Incremental Tint : 0
Exposure 2012 : 0.00
Contrast 2012 : 0
Highlights 2012 : -11
Shadows 2012 : +14
Whites 2012 : -18
Blacks 2012 : -16
Texture : +19
Clarity 2012 : +9
Dehaze : 0
Vibrance : +40
Saturation : +16
Parametric Shadows : 0
Parametric Darks : 0
Parametric Lights : 0
Parametric Highlights : 0
Parametric Shadow Split : 25
Parametric Midtone Split : 50
Parametric Highlight Split : 75
Sharpness : 0
Luminance Smoothing : 0
Color Noise Reduction : 0
Gray Mixer Red : +8
Hue Adjustment Red : 0
Hue Adjustment Orange : 0
Hue Adjustment Yellow : 0
Hue Adjustment Green : 0
Hue Adjustment Aqua : 0
Hue Adjustment Blue : 0
Hue Adjustment Purple : 0
Hue Adjustment Magenta : 0
Saturation Adjustment Red : +33
Saturation Adjustment Orange : +42
Saturation Adjustment Yellow : 0
Saturation Adjustment Green : +67
Saturation Adjustment Aqua : +15
Saturation Adjustment Blue : 0
Saturation Adjustment Purple : 0
Saturation Adjustment Magenta : 0
Luminance Adjustment Red : 0
Luminance Adjustment Orange : 0
Luminance Adjustment Yellow : 0
Luminance Adjustment Green : 0
Luminance Adjustment Aqua : 0
Luminance Adjustment Blue : 0
Luminance Adjustment Purple : 0
Luminance Adjustment Magenta : 0
Split Toning Shadow Hue : 0
Split Toning Shadow Saturation : 0
Split Toning Highlight Hue : 0
Split Toning Highlight Saturation : 0
Split Toning Balance : 0
Color Grade Midtone Hue : 0
Color Grade Midtone Sat : 0
Color Grade Shadow Lum : 0
Color Grade Midtone Lum : 0
Color Grade Highlight Lum : 0
Color Grade Blending : 50
Color Grade Global Hue : 0
Color Grade Global Sat : 0
Color Grade Global Lum : 0
Auto Lateral CA : 0
Lens Profile Enable : 0
Lens Manual Distortion Amount : 0
Vignette Amount : 0
Defringe Purple Amount : 0
Defringe Purple Hue Lo : 30
Defringe Purple Hue Hi : 70
Defringe Green Amount : 0
Defringe Green Hue Lo : 40
Defringe Green Hue Hi : 60
Perspective Upright : Off
Perspective Vertical : 0
Perspective Horizontal : 0
Perspective Rotate : 0.0
Perspective Aspect : 0
Perspective Scale : 100
Perspective X : 0.00
Perspective Y : 0.00
Grain Amount : 0
Post Crop Vignette Amount : 0
Shadow Tint : 0
Red Hue : 0
Red Saturation : 0
Green Hue : 0
Green Saturation : 0
Blue Hue : 0
Blue Saturation : 0
Override Look Vignette : False
Tone Curve Name 2012 : Linear
Camera Profile : Embedded
Has Settings : True
Crop Top : 0.001782
Crop Left : 0.060001
Crop Bottom : 0.919786
Crop Right : 0.978005
Crop Angle : 0
Crop Constrain To Warp : 0
Has Crop : True
Already Applied : True
Tone Curve PV2012 : 0, 0, 255, 255
Tone Curve PV2012 Red : 0, 0, 255, 255
Tone Curve PV2012 Green : 0, 0, 255, 255
Tone Curve PV2012 Blue : 0, 0, 255, 255
Look Name : Artistic 03
Look Amount : 1.000000
Look Cluster : Adobe
Look Supports Monochrome : false
Look Group : Artistic
Look Parameters Version : 13.3
Look Parameters Process Version : 11.0
Look Parameters Convert To Grayscale : False
Look Parameters Look Table : E1095149FDB39D7A057BAB208837E2E1
Look Parameters RGB Table : F048E7203370BB21B3D98B7EFE6BEE4E
Look Parameters RGB Table Amount : 0.5
Image Width : 400
Image Height : 500
Bits Per Sample : 8
Color Components : 3
Aperture : 4.0
Image Size : 400x500
Megapixels : 0.200
Shutter Speed : 1/125
Create Date : 2010:09:29 17:00:01-04:00
Date/Time Original : 2010:09:29 17:00:01-04:00
Modify Date : 2021:07:01 15:59:27-04:00
Light Value : 9.0
Lens ID : LEICA DG MACRO-ELMARIT 45mm F2.8