Uber Exif Photo
Photometric Interpretation : RGB
Make : LEICA CAMERA AG
Camera Model Name : D-Lux 7
Orientation : Horizontal (normal)
Samples Per Pixel : 3
Software : Adobe Photoshop 22.4 (Windows)
Modify Date : 2021:06:28 21:22:48
Exposure Time : 1/2000
F Number : 4.0
Exposure Program : Aperture-priority AE
ISO : 200
Date/Time Original : 2021:06:26 10:30:15
Create Date : 2021:06:26 10:30:15
Shutter Speed Value : 1/2000
Aperture Value : 4.0
Exposure Compensation : -0.33
Max Aperture Value : 2.6
Metering Mode : Multi-segment
Light Source : Unknown
Flash : Off, Did not fire
Focal Length : 20.8 mm
Color Space : sRGB
Exif Image Width : 4040
Exif Image Height : 3030
Sensing Method : One-chip color area
Scene Type : Directly photographed
Custom Rendered : Custom
Exposure Mode : Auto
White Balance : Auto
Digital Zoom Ratio : 0
Focal Length In 35mm Format : 46 mm
Scene Capture Type : Standard
Gain Control : Low gain up
Contrast : Normal
Saturation : Normal
Sharpness : Normal
Profile Description : sRGB IEC61966-2.1
Creator Tool : Adobe Photoshop Lightroom Classic 10.3 (Windows)
Preserved File Name : L1013022.RWL
Date Created : 2021:06:26 10:30:15.391-08:00
Color Mode : RGB
ICC Profile Name : sRGB IEC61966-2.1
Format : image/jpeg
Raw File Name : L1013022.RWL
Version : 13.3
Process Version : 11.0
Color Temperature : 5400
Tint : +14
Exposure 2012 : 0.00
Contrast 2012 : 0
Highlights 2012 : 0
Shadows 2012 : +49
Whites 2012 : -9
Blacks 2012 : -9
Texture : 0
Clarity 2012 : +16
Dehaze : 0
Parametric Shadows : 0
Parametric Darks : 0
Parametric Lights : 0
Parametric Highlights : 0
Parametric Shadow Split : 25
Parametric Midtone Split : 50
Parametric Highlight Split : 75
Sharpen Radius : +1.0
Sharpen Detail : 25
Sharpen Edge Masking : 0
Luminance Smoothing : 0
Color Noise Reduction : 25
Color Noise Reduction Detail : 50
Color Noise Reduction Smoothness : 50
Gray Mixer Red : +35
Gray Mixer Orange : -10
Gray Mixer Yellow : +62
Gray Mixer Green : +57
Gray Mixer Aqua : 0
Gray Mixer Blue : +40
Gray Mixer Purple : -13
Gray Mixer Magenta : 0
Split Toning Shadow Hue : 0
Split Toning Shadow Saturation : 0
Split Toning Highlight Hue : 0
Split Toning Highlight Saturation : 0
Split Toning Balance : 0
Color Grade Midtone Hue : 0
Color Grade Midtone Sat : 0
Color Grade Shadow Lum : 0
Color Grade Midtone Lum : 0
Color Grade Highlight Lum : 0
Color Grade Blending : 50
Color Grade Global Hue : 0
Color Grade Global Sat : 0
Color Grade Global Lum : 0
Auto Lateral CA : 0
Lens Profile Enable : 0
Lens Manual Distortion Amount : 0
Vignette Amount : 0
Perspective Upright : Off
Perspective Vertical : 0
Perspective Horizontal : 0
Perspective Rotate : 0.0
Perspective Aspect : 0
Perspective Scale : 100
Perspective X : 0.00
Perspective Y : 0.00
Grain Amount : 0
Post Crop Vignette Amount : 0
Shadow Tint : 0
Red Hue : 0
Red Saturation : 0
Green Hue : 0
Green Saturation : 0
Blue Hue : 0
Blue Saturation : 0
Override Look Vignette : False
Tone Curve Name 2012 : Linear
Camera Profile : Adobe Standard v2
Has Settings : True
Crop Top : 0.050357
Crop Left : 0
Crop Bottom : 0.903298
Crop Right : 0.852941
Crop Angle : 0
Crop Constrain To Warp : 0
Has Crop : True
Already Applied : True
Distortion Correction Already Applied : True
Lateral Chromatic Aberration Correction Already Applied : True
Tone Curve PV2012 : 0, 0, 255, 255
Tone Curve PV2012 Red : 0, 0, 255, 255
Tone Curve PV2012 Green : 0, 0, 255, 255
Tone Curve PV2012 Blue : 0, 0, 255, 255
Paint Correction Range Mask Version : +2, +2
Paint Correction Range Mask Type : 0, 0
Paint Correction Range Mask Color Amount : 0.500000, 0.500000
Paint Correction Range Mask Lum Min : 0.000000, 0.000000
Paint Correction Range Mask Lum Max : 1.000000, 1.000000
Paint Correction Range Mask Lum Feather : 0.500000, 0.500000
Paint Correction Range Mask Depth Min : 0.000000, 0.000000
Paint Correction Range Mask Depth Max : 1.000000, 1.000000
Paint Correction Range Mask Depth Feather : 0.500000, 0.500000
Paint Correction What : Correction
Paint Correction Amount : 1.000000
Paint Correction Active : true
Paint Correction Hue : 0.000000
Paint Correction Saturation : 0.000000
Paint Correction Sharpness : 0.000000
Paint Correction Brightness : 0.000000
Paint Correction Toning Hue : 0.000000
Paint Correction Toning Saturation : 0.000000
Paint Correction Exposure 2012 : -0.058750
Paint Correction Contrast 2012 : 0.000000
Paint Correction Highlights 2012 : 0.000000
Paint Correction Shadows 2012 : 0.000000
Paint Correction Whites 2012 : 0.000000
Paint Correction Blacks 2012 : 0.000000
Paint Correction Clarity 2012 : 0.000000
Paint Correction Dehaze : 0.000000
Paint Correction Luminance Noise : 0.000000
Paint Correction Moire : 0.000000
Paint Correction Defringe : 0.000000
Paint Correction Temperature : 0.000000
Paint Correction Tint : 0.000000
Paint Correction Texture : 0.000000
Paint Correction Mask What : Mask/Paint
Paint Correction Mask Value : 0.713000
Paint Correction Mask Radius : 0.042934
Paint Correction Mask Flow : 1.000000
Paint Correction Mask Center Weight : 0.129896
Look Name : B&W 10
Look Amount : 1.000000
Look Cluster : Adobe
Look Supports Monochrome : false
Look Sort Name : B&W 10
Look Group : B&W
Look Parameters Version : 13.3
Look Parameters Process Version : 11.0
Look Parameters Contrast 2012 : +8
Look Parameters Clarity 2012 : +8
Look Parameters Convert To Grayscale : True
Look Parameters Look Table : AC0E24EFC658D3BD29B430044AE2FB7C
Look Parameters Tone Curve PV2012 : 0, 0, 64, 75, 192, 175, 255, 255
Look Parameters Tone Curve PV2012 Red : 0, 0, 255, 255
Look Parameters Tone Curve PV2012 Green : 0, 0, 255, 255
Look Parameters Tone Curve PV2012 Blue : 0, 0, 255, 255
Image Width : 400
Image Height : 300
Bits Per Sample : 8
Color Components : 1
Aperture : 4.0
Image Size : 400x300
Megapixels : 0.120
Scale Factor To 35 mm Equivalent : 2.2
Shutter Speed : 1/2000
Create Date : 2021:06:26 10:30:15.391-08:00
Date/Time Original : 2021:06:26 10:30:15.391-08:00
Modify Date : 2021:06:28 21:22:48-04:00
Circle Of Confusion : 0.014 mm
Field Of View : 42.7 deg
Focal Length : 20.8 mm (35 mm equivalent: 46.0 mm)
Hyperfocal Distance : 7.96 m
Light Value : 14.0