Uber Exif Photo
Photometric Interpretation : RGB
Make : LEICA CAMERA AG
Camera Model Name : LEICA X VARIO (Typ 107)
Orientation : Horizontal (normal)
Samples Per Pixel : 3
Software : Adobe Photoshop 22.4 (Windows)
Modify Date : 2021:06:07 14:02:19
Exposure Time : 1/160
F Number : 11.0
Exposure Program : Aperture-priority AE
ISO : 800
Date/Time Original : 2021:06:04 18:21:58
Create Date : 2021:06:04 18:21:58
Shutter Speed Value : 1/160
Aperture Value : 11.0
Exposure Compensation : -0.3
Max Aperture Value : 3.5
Metering Mode : Multi-segment
Light Source : Unknown
Flash : Off, Did not fire
Focal Length : 46.0 mm
Color Space : sRGB
Exif Image Width : 1800
Exif Image Height : 1200
Sensing Method : One-chip color area
Custom Rendered : Custom
White Balance : Auto
Digital Zoom Ratio : 1
Focal Length In 35mm Format : 70 mm
Scene Capture Type : Landscape
Contrast : High
Saturation : Normal
Sharpness : Normal
Serial Number : 000004704722
Lens Info : 18-46mm f/3.5-6.4
Lens Model : 18.0-46.0 mm f/3.5-6.4
Profile Description : sRGB IEC61966-2.1
Creator Tool : Adobe Photoshop Lightroom Classic 10.2 (Windows)
Lens : 18.0-46.0 mm f/3.5-6.4
Distortion Correction Already Applied : True
Lateral Chromatic Aberration Correction Already Applied : True
Date Created : 2021:06:04 18:21:58
Color Mode : RGB
ICC Profile Name : sRGB IEC61966-2.1
Preserved File Name : L9610886.DNG
Format : image/jpeg
Raw File Name : Version : 13.2
Process Version : 11.0
Color Temperature : 6000
Tint : +32
Exposure 2012 : 0.00
Contrast 2012 : +21
Highlights 2012 : -70
Shadows 2012 : +60
Whites 2012 : -16
Blacks 2012 : -20
Texture : +5
Clarity 2012 : +12
Dehaze : 0
Vibrance : +20
Parametric Shadows : 0
Parametric Darks : 0
Parametric Lights : 0
Parametric Highlights : 0
Parametric Shadow Split : 25
Parametric Midtone Split : 50
Parametric Highlight Split : 75
Sharpen Radius : +1.0
Sharpen Detail : 25
Sharpen Edge Masking : 0
Luminance Smoothing : 0
Color Noise Reduction : 25
Color Noise Reduction Detail : 50
Color Noise Reduction Smoothness : 50
Hue Adjustment Red : 0
Hue Adjustment Orange : 0
Hue Adjustment Yellow : 0
Hue Adjustment Green : 0
Hue Adjustment Aqua : 0
Hue Adjustment Blue : 0
Hue Adjustment Purple : 0
Hue Adjustment Magenta : 0
Saturation Adjustment Red : 0
Saturation Adjustment Orange : 0
Saturation Adjustment Yellow : 0
Saturation Adjustment Green : 0
Saturation Adjustment Aqua : 0
Saturation Adjustment Blue : 0
Saturation Adjustment Purple : 0
Saturation Adjustment Magenta : 0
Luminance Adjustment Red : 0
Luminance Adjustment Orange : 0
Luminance Adjustment Yellow : 0
Luminance Adjustment Green : 0
Luminance Adjustment Aqua : 0
Luminance Adjustment Blue : 0
Luminance Adjustment Purple : 0
Luminance Adjustment Magenta : 0
Split Toning Shadow Hue : 0
Split Toning Shadow Saturation : 0
Split Toning Highlight Hue : 0
Split Toning Highlight Saturation : 0
Split Toning Balance : 0
Color Grade Midtone Hue : 0
Color Grade Midtone Sat : 0
Color Grade Shadow Lum : 0
Color Grade Midtone Lum : 0
Color Grade Highlight Lum : 0
Color Grade Blending : 50
Color Grade Global Hue : 0
Color Grade Global Sat : 0
Color Grade Global Lum : 0
Auto Lateral CA : 1
Lens Profile Enable : 0
Lens Manual Distortion Amount : 0
Vignette Amount : 0
Defringe Purple Amount : 0
Defringe Purple Hue Lo : 30
Defringe Purple Hue Hi : 70
Defringe Green Amount : 0
Defringe Green Hue Lo : 40
Defringe Green Hue Hi : 60
Perspective Upright : Off
Perspective Vertical : 0
Perspective Horizontal : 0
Perspective Rotate : 0.0
Perspective Aspect : 0
Perspective Scale : 100
Perspective X : 0.00
Perspective Y : 0.00
Grain Amount : 0
Post Crop Vignette Amount : 0
Shadow Tint : 0
Red Hue : 0
Red Saturation : 0
Green Hue : 0
Green Saturation : 0
Blue Hue : 0
Blue Saturation : 0
Override Look Vignette : False
Tone Curve Name 2012 : Linear
Camera Profile : Adobe Standard
Has Settings : True
Crop Top : 0
Crop Left : 0
Crop Bottom : 1
Crop Right : 1
Crop Angle : 0
Crop Constrain To Warp : 0
Has Crop : False
Already Applied : True
Tone Curve PV2012 : 0, 0, 255, 255
Tone Curve PV2012 Red : 0, 0, 255, 255
Tone Curve PV2012 Green : 0, 0, 255, 255
Tone Curve PV2012 Blue : 0, 0, 255, 255
Paint Correction Range Mask Version : +2, +2
Paint Correction Range Mask Type : 0, 0
Paint Correction Range Mask Color Amount : 0.500000, 0.500000
Paint Correction Range Mask Lum Min : 0.000000, 0.000000
Paint Correction Range Mask Lum Max : 1.000000, 1.000000
Paint Correction Range Mask Lum Feather : 0.500000, 0.500000
Paint Correction Range Mask Depth Min : 0.000000, 0.000000
Paint Correction Range Mask Depth Max : 1.000000, 1.000000
Paint Correction Range Mask Depth Feather : 0.500000, 0.500000
Paint Correction What : Correction
Paint Correction Amount : 1.000000
Paint Correction Active : true
Paint Correction Hue : 0.000000
Paint Correction Saturation : 0.000000
Paint Correction Sharpness : 0.000000
Paint Correction Brightness : 0.000000
Paint Correction Toning Hue : 0.000000
Paint Correction Toning Saturation : 0.000000
Paint Correction Exposure 2012 : 0.142750
Paint Correction Contrast 2012 : 0.092440
Paint Correction Highlights 2012 : 0.000000
Paint Correction Shadows 2012 : 0.000000
Paint Correction Whites 2012 : 0.000000
Paint Correction Blacks 2012 : -0.109240
Paint Correction Clarity 2012 : 0.000000
Paint Correction Dehaze : 0.000000
Paint Correction Luminance Noise : 0.000000
Paint Correction Moire : 0.000000
Paint Correction Defringe : 0.000000
Paint Correction Temperature : 0.000000
Paint Correction Tint : 0.000000
Paint Correction Texture : 0.000000
Paint Correction Mask What : Mask/Paint
Paint Correction Mask Value : 0.713000
Paint Correction Mask Radius : 0.036050
Paint Correction Mask Flow : 1.000000
Paint Correction Mask Center Weight : 0.129896
Look Name : Modern 06
Look Amount : 1.500000
Look Cluster : Adobe
Look Supports Monochrome : false
Look Group : Modern
Look Parameters Version : 13.2
Look Parameters Process Version : 11.0
Look Parameters Convert To Grayscale : False
Look Parameters Look Table : E1095149FDB39D7A057BAB208837E2E1
Look Parameters RGB Table : AE4BEAA9E0477C9F0DFABEDD7B4D558A
Look Parameters RGB Table Amount : 0.5
Image Width : 400
Image Height : 267
Bits Per Sample : 8
Color Components : 3
Aperture : 11.0
Image Size : 400x267
Megapixels : 0.107
Scale Factor To 35 mm Equivalent : 1.5
Shutter Speed : 1/160
Modify Date : 2021:06:07 14:02:19-04:00
Circle Of Confusion : 0.020 mm
Field Of View : 28.8 deg
Focal Length : 46.0 mm (35 mm equivalent: 70.0 mm)
Hyperfocal Distance : 9.74 m
Light Value : 11.2
Lens ID : 18.0-46.0mm f/3.5-6.4