Uber Exif Photo
By-line : Laurent CRIQUI
Copyright Notice : Info
Make : LEICA CAMERA AG
Camera Model Name : LEICA SL (Typ 601)
Software : Photoshop Express 21.25.0.3746
Modify Date : 2021:07:09 16:29:54
Artist : Laurent CRIQUI
Copyright : Info
Exposure Time : 1/400
F Number : 6.8
Exposure Program : Aperture-priority AE
ISO : 400
Sensitivity Type : Standard Output Sensitivity
Date/Time Original : 2021:07:07 15:04:17
Create Date : 2021:07:07 15:04:17
Shutter Speed Value : 1/400
Aperture Value : 6.8
Exposure Compensation : +0.3
Max Aperture Value : 2.0
Metering Mode : Multi-segment
Light Source : Shade
Flash : Off, Did not fire
Focal Length : 50.0 mm
Color Space : sRGB
Sensing Method : One-chip color area
Custom Rendered : Normal
White Balance : Manual
Focal Length In 35mm Format : 50 mm
Scene Capture Type : Standard
Contrast : Normal
Saturation : Normal
Sharpness : Normal
Lens Info : 50mm f/2
Lens Make : N/A
Lens Model : Summicron-M 1:2/50
Lens Serial Number : N/A
Profile Description : sRGB IEC61966-2.1
Lens : Summicron-M 1:2/50
Lateral Chromatic Aberration Correction Already Applied : True
Date Created : 2021:07:07 15:04:17
Creator Tool : Photoshop Express 21.25.0.3746
Format : image/jpeg
Version : 13.3
Process Version : 11.0
Incremental Temperature : +6
Incremental Tint : +25
Exposure 2012 : -0.10
Contrast 2012 : +7
Highlights 2012 : -2
Shadows 2012 : +26
Whites 2012 : +3
Blacks 2012 : -6
Texture : +5
Clarity 2012 : +18
Dehaze : +47
Vibrance : +20
Parametric Shadows : 0
Parametric Darks : 0
Parametric Lights : 0
Parametric Highlights : 0
Parametric Shadow Split : 25
Parametric Midtone Split : 50
Parametric Highlight Split : 75
Sharpen Radius : +1.0
Sharpen Detail : 25
Sharpen Edge Masking : 0
Luminance Smoothing : 0
Color Noise Reduction : 0
Gray Mixer Red : -9
Gray Mixer Orange : -19
Gray Mixer Yellow : -22
Gray Mixer Green : -27
Gray Mixer Aqua : -18
Gray Mixer Blue : +9
Gray Mixer Purple : +15
Gray Mixer Magenta : +4
Split Toning Shadow Hue : 0
Split Toning Shadow Saturation : 0
Split Toning Highlight Hue : 0
Split Toning Highlight Saturation : 0
Split Toning Balance : 0
Color Grade Midtone Hue : 0
Color Grade Midtone Sat : 0
Color Grade Shadow Lum : 0
Color Grade Midtone Lum : 0
Color Grade Highlight Lum : 0
Color Grade Blending : 50
Color Grade Global Hue : 0
Color Grade Global Sat : 0
Color Grade Global Lum : 0
Auto Lateral CA : 1
Lens Profile Enable : 1
Lens Manual Distortion Amount : 0
Vignette Amount : 0
Perspective Upright : Off
Perspective Vertical : 0
Perspective Horizontal : 0
Perspective Rotate : 0.0
Perspective Aspect : 0
Perspective Scale : 100
Perspective X : 0.00
Perspective Y : 0.00
Grain Amount : 0
Post Crop Vignette Amount : +13
Post Crop Vignette Midpoint : 50
Post Crop Vignette Feather : 67
Post Crop Vignette Roundness : +10
Post Crop Vignette Style : Highlight Priority
Shadow Tint : 0
Red Hue : 0
Red Saturation : 0
Green Hue : 0
Green Saturation : 0
Blue Hue : 0
Blue Saturation : 0
Convert To Grayscale : True
Override Look Vignette : False
Tone Curve Name 2012 : Linear
Camera Profile : Embedded
Lens Profile Setup : LensDefaults
Has Settings : True
Crop Top : 0
Crop Left : 0
Crop Bottom : 1
Crop Right : 1
Crop Angle : 0
Crop Constrain To Warp : 0
Has Crop : False
Already Applied : True
Creator : Laurent CRIQUI
Rights : Info
Rights (en-US) : Info
Tone Curve PV2012 : 0, 0, 255, 255
Tone Curve PV2012 Red : 0, 0, 255, 255
Tone Curve PV2012 Green : 0, 0, 255, 255
Tone Curve PV2012 Blue : 0, 0, 255, 255
Image Width : 400
Image Height : 400
Bits Per Sample : 8
Color Components : 1
Aperture : 6.8
Image Size : 400x400
Megapixels : 0.160
Scale Factor To 35 mm Equivalent : 1.0
Shutter Speed : 1/400
Modify Date : 2021:07:09 16:29:54+02:00
Circle Of Confusion : 0.030 mm
Field Of View : 39.6 deg
Focal Length : 50.0 mm (35 mm equivalent: 50.0 mm)
Hyperfocal Distance : 12.24 m
Light Value : 12.2
Lens ID : Summicron-M 1:2/50