Uber Exif Photo
Keywords : Gerardmer
Make : LEICA CAMERA AG
Camera Model Name : D-Lux 7
Software : Adobe Photoshop Lightroom Classic 9.4 (Macintosh)
Modify Date : 2020:09:13 16:42:39
Exposure Time : 1/60
F Number : 16.0
Exposure Program : Manual
ISO : 400
Date/Time Original : 2019:01:01 13:54:37
Create Date : 2019:01:01 13:54:37
Shutter Speed Value : 1/60
Aperture Value : 16.0
Exposure Compensation : 0
Max Aperture Value : 2.8
Metering Mode : Multi-segment
Light Source : Unknown
Flash : Off, Did not fire
Focal Length : 25.4 mm
Color Space : sRGB
Sensing Method : One-chip color area
Scene Type : Directly photographed
Custom Rendered : Normal
Exposure Mode : Manual
White Balance : Auto
Digital Zoom Ratio : 0
Focal Length In 35mm Format : 56 mm
Scene Capture Type : Standard
Gain Control : High gain up
Contrast : Normal
Saturation : Normal
Sharpness : Normal
Profile Description : sRGB IEC61966-2.1
Creator Tool : Adobe Photoshop Lightroom Classic 9.4 (Macintosh)
Date Created : 2019:01:01 13:54:37.290
Format : image/jpeg
Raw File Name : L1030611.RWL
Version : 12.4
Process Version : 11.0
Color Temperature : 5900
Tint : +22
Luminance Smoothing : 0
Color Noise Reduction : 25
Vignette Amount : 0
Shadow Tint : 0
Red Hue : 0
Red Saturation : 0
Green Hue : 0
Green Saturation : 0
Blue Hue : 0
Blue Saturation : 0
Gray Mixer Red : 0
Gray Mixer Orange : 0
Gray Mixer Yellow : 0
Gray Mixer Green : 0
Gray Mixer Aqua : 0
Gray Mixer Blue : 0
Gray Mixer Purple : 0
Gray Mixer Magenta : 0
Split Toning Shadow Hue : 0
Split Toning Shadow Saturation : 0
Split Toning Highlight Hue : 0
Split Toning Highlight Saturation : 0
Split Toning Balance : 0
Parametric Shadows : 0
Parametric Darks : 0
Parametric Lights : 0
Parametric Highlights : 0
Parametric Shadow Split : 25
Parametric Midtone Split : 50
Parametric Highlight Split : 75
Sharpen Radius : +1.0
Sharpen Detail : 25
Sharpen Edge Masking : 0
Post Crop Vignette Amount : 0
Grain Amount : 0
Color Noise Reduction Detail : 50
Color Noise Reduction Smoothness : 50
Lens Profile Enable : 0
Lens Manual Distortion Amount : 0
Perspective Vertical : 0
Perspective Horizontal : 0
Perspective Rotate : 0.0
Perspective Scale : 100
Perspective Aspect : 0
Perspective Upright : Off
Perspective X : 0.00
Perspective Y : 0.00
Auto Lateral CA : 0
Exposure 2012 : 0.00
Contrast 2012 : 0
Highlights 2012 : -9
Shadows 2012 : 0
Whites 2012 : 0
Blacks 2012 : 0
Clarity 2012 : 0
Dehaze : +3
Texture : 0
Tone Map Strength : 0
Convert To Grayscale : True
Override Look Vignette : False
Tone Curve Name : Linear
Tone Curve Name 2012 : Linear
Camera Profile : Adobe Standard v2
Lens Profile Setup : LensDefaults
Has Settings : True
Has Crop : False
Already Applied : True
Distortion Correction Already Applied : True
Lateral Chromatic Aberration Correction Already Applied : True
Subject : Gerardmer
Tone Curve : 0, 0, 255, 255
Tone Curve Red : 0, 0, 255, 255
Tone Curve Green : 0, 0, 255, 255
Tone Curve Blue : 0, 0, 255, 255
Tone Curve PV2012 : 0, 0, 255, 255
Tone Curve PV2012 Red : 0, 0, 255, 255
Tone Curve PV2012 Green : 0, 0, 255, 255
Tone Curve PV2012 Blue : 0, 0, 255, 255
Look Name : Adobe Monochrome
Look Amount : 1.000000
Look Supports Amount : false
Look Supports Monochrome : false
Look Supports Output Referred : false
Look Group : Profiles
Look Parameters Version : 12.4
Look Parameters Process Version : 11.0
Look Parameters Clarity 2012 : +8
Look Parameters Convert To Grayscale : True
Look Parameters Camera Profile : Adobe Standard
Look Parameters Look Table : 73ED6C18DDE909DD7EA2D771F5AC282D
Look Parameters Tone Curve PV2012 : 0, 0, 64, 56, 128, 128, 192, 197, 255, 255
Look Parameters Tone Curve PV2012 Red : 0, 0, 255, 255
Look Parameters Tone Curve PV2012 Green : 0, 0, 255, 255
Look Parameters Tone Curve PV2012 Blue : 0, 0, 255, 255
Image Width : 400
Image Height : 267
Bits Per Sample : 8
Color Components : 1
Aperture : 16.0
Image Size : 400x267
Megapixels : 0.107
Scale Factor To 35 mm Equivalent : 2.2
Shutter Speed : 1/60
Create Date : 2019:01:01 13:54:37.290
Date/Time Original : 2019:01:01 13:54:37.29
Modify Date : 2020:09:13 16:42:39+02:00
Circle Of Confusion : 0.014 mm
Field Of View : 35.6 deg
Focal Length : 25.4 mm (35 mm equivalent: 56.0 mm)
Hyperfocal Distance : 2.96 m
Light Value : 11.9