Uber Exif Photo
By-line : Phillip Ferreira
Province-State : Oregon
Country-Primary Location Code : US
Country-Primary Location Name : United States
Copyright Notice : NWPHIL.pf65@comcast.net
Make : Canon
Camera Model Name : Canon EOS-1D X
Software : Adobe Photoshop Lightroom 6.9 (Windows)
Modify Date : 2017:04:16 23:41:54
Artist : Phillip Ferreira
Copyright : NWPHIL.pf65@comcast.net
Exposure Time : 1/60
F Number : 5.6
Exposure Program : Manual
ISO : 50
Sensitivity Type : Recommended Exposure Index
Recommended Exposure Index : 50
Date/Time Original : 2017:04:15 11:28:39
Create Date : 2017:04:15 11:28:39
Shutter Speed Value : 1/60
Aperture Value : 5.6
Exposure Compensation : 0
Max Aperture Value : 2.0
Metering Mode : Spot
Flash : Off, Did not fire
Focal Length : 135.0 mm
Color Space : sRGB
Custom Rendered : Normal
Exposure Mode : Manual
White Balance : Auto
Scene Capture Type : Standard
Serial Number : 052011001639
Lens Info : 135mm f/?
Lens Model : Zeiss Apo Sonnar T* 2/135 ZE
Lens Serial Number : 0000000000
GPS Version ID : 2.3.0.0
GPS Latitude Ref : North
GPS Longitude Ref : West
GPS Altitude Ref : Above Sea Level
GPS Time Stamp : 19:25:50.535
GPS Satellites : 9
GPS Status : Measurement Active
GPS Measure Mode : 3-Dimensional Measurement
GPS Dilution Of Precision : 5
GPS Speed : 0
GPS Track : 0
GPS Img Direction Ref : Magnetic North
GPS Img Direction : 102
GPS Map Datum : WGS-84
GPS Dest Bearing : 0
GPS Dest Distance : 0
GPS Date Stamp : 2017:04:15
GPS Differential : No Correction
Profile Description : sRGB IEC61966-2.1
Rating : 3
Creator Tool : Adobe Photoshop Lightroom 6.9 (Windows)
Format : image/jpeg
Lens : Zeiss Apo Sonnar T* 2/135 ZE
Image Number : 0
Flash Compensation : 0
Firmware : 2.0.8
Date Created : 2017:04:15 11:28:39.80
City : Portland
State : Oregon
Country : United States
Country Code : US
Version : 9.9
Process Version : 6.7
Auto White Version : 134348800
Color Temperature : 4650
Tint : +20
Saturation : 0
Sharpness : 18
Luminance Smoothing : 13
Color Noise Reduction : 25
Vignette Amount : 0
Shadow Tint : 0
Red Hue : 0
Red Saturation : 0
Green Hue : 0
Green Saturation : 0
Blue Hue : 0
Blue Saturation : 0
Vibrance : 0
Hue Adjustment Red : 0
Hue Adjustment Orange : 0
Hue Adjustment Yellow : 0
Hue Adjustment Green : 0
Hue Adjustment Aqua : 0
Hue Adjustment Blue : 0
Hue Adjustment Purple : 0
Hue Adjustment Magenta : 0
Saturation Adjustment Red : 0
Saturation Adjustment Orange : 0
Saturation Adjustment Yellow : 0
Saturation Adjustment Green : 0
Saturation Adjustment Aqua : 0
Saturation Adjustment Blue : 0
Saturation Adjustment Purple : 0
Saturation Adjustment Magenta : 0
Luminance Adjustment Red : 0
Luminance Adjustment Orange : 0
Luminance Adjustment Yellow : 0
Luminance Adjustment Green : 0
Luminance Adjustment Aqua : 0
Luminance Adjustment Blue : 0
Luminance Adjustment Purple : 0
Luminance Adjustment Magenta : 0
Split Toning Shadow Hue : 0
Split Toning Shadow Saturation : 0
Split Toning Highlight Hue : 0
Split Toning Highlight Saturation : 0
Split Toning Balance : 0
Parametric Shadows : 0
Parametric Darks : -14
Parametric Lights : 0
Parametric Highlights : +12
Parametric Shadow Split : 25
Parametric Midtone Split : 50
Parametric Highlight Split : 75
Sharpen Radius : +1.1
Sharpen Detail : 25
Sharpen Edge Masking : 39
Post Crop Vignette Amount : 0
Grain Amount : 0
Luminance Noise Reduction Detail : 50
Color Noise Reduction Detail : 50
Luminance Noise Reduction Contrast : 1
Color Noise Reduction Smoothness : 50
Lens Profile Enable : 1
Lens Manual Distortion Amount : 0
Perspective Vertical : 0
Perspective Horizontal : 0
Perspective Rotate : 0.0
Perspective Scale : 100
Perspective Aspect : 0
Perspective Upright : Off
Perspective X : 0.00
Perspective Y : 0.00
Auto Lateral CA : 1
Exposure 2012 : -0.36
Contrast 2012 : 0
Highlights 2012 : -88
Shadows 2012 : -21
Whites 2012 : 0
Blacks 2012 : 0
Clarity 2012 : 0
Defringe Purple Amount : 0
Defringe Purple Hue Lo : 30
Defringe Purple Hue Hi : 70
Defringe Green Amount : 0
Defringe Green Hue Lo : 40
Defringe Green Hue Hi : 60
Dehaze : 0
Tone Map Strength : 0
Convert To Grayscale : False
Tone Curve Name : Linear
Tone Curve Name 2012 : Linear
Camera Profile : Adobe Standard
Lens Profile Setup : LensDefaults
Lens Profile Name : Adobe (Zeiss Apo Sonnar T* 2/135 ZE)
Lens Profile Filename : Canon (Zeiss Apo Sonnar T 135 f2 ZE) - RAW.lcp
Lens Profile Distortion Scale : 100
Lens Profile Chromatic Aberration Scale : 100
Lens Profile Vignetting Scale : 100
Has Settings : True
Crop Top : 0.051948
Crop Left : 0
Crop Bottom : 0.917749
Crop Right : 0.865801
Crop Angle : 0
Crop Constrain To Warp : 0
Has Crop : True
Already Applied : True
Creator : Phillip Ferreira
Rights : NWPHIL.pf65@comcast.net
Tone Curve : 0, 0, 255, 255
Tone Curve Red : 0, 0, 255, 255
Tone Curve Green : 0, 0, 255, 255
Tone Curve Blue : 0, 0, 255, 255
Tone Curve PV2012 : 0, 0, 255, 255
Tone Curve PV2012 Red : 0, 0, 255, 255
Tone Curve PV2012 Green : 0, 0, 255, 255
Tone Curve PV2012 Blue : 0, 0, 255, 255
Image Width : 308
Image Height : 458
Bits Per Sample : 8
Color Components : 3
Aperture : 5.6
Image Size : 308x458
Megapixels : 0.141
Scale Factor To 35 mm Equivalent : 11.3
Shutter Speed : 1/60
Create Date : 2017:04:15 11:28:39.80
Date/Time Original : 2017:04:15 11:28:39.80
GPS Altitude : 79.7 m Above Sea Level
GPS Date/Time : 2017:04:15 19:25:50.535Z
GPS Latitude : 45 deg 28' 26.39" N
GPS Longitude : 122 deg 32' 3.16" W
Circle Of Confusion : 0.003 mm
Field Of View : 1.4 deg
Focal Length : 135.0 mm (35 mm equivalent: 1523.9 mm)
GPS Position : 45 deg 28' 26.39" N, 122 deg 32' 3.16" W
Hyperfocal Distance : 1222.70 m
Light Value : 11.9
Lens ID : Carl Zeiss Apo-Sonnar T* 135mm f/2 ZE