Uber Exif Photo
Make : Leica Camera AG
Camera Model Name : M8 Digital Camera
Orientation : Horizontal (normal)
Software : Adobe Photoshop CC 2015 (Macintosh)
Modify Date : 2016:08:28 23:27:17
Exposure Time : 1/45
F Number : 4.0
Exposure Program : Aperture-priority AE
ISO : 160
Date/Time Original : 2008:09:15 03:21:42
Create Date : 2008:09:15 03:21:42
Shutter Speed Value : 1/45
Aperture Value : 4.0
Exposure Compensation : 0
Max Aperture Value : 4.0
Metering Mode : Center-weighted average
Light Source : Unknown
Flash : Auto, Did not fire
Color Space : Uncalibrated
Exif Image Width : 556
Exif Image Height : 768
Scene Type : Directly photographed
White Balance : Auto
Digital Zoom Ratio : 0
Scene Capture Type : Standard
Serial Number : 3110403
Lens Model : Leica Tri-Elmar-M 16-18-21mm f/4 ASPH.
Profile Description : Adobe RGB (1998)
Creator Tool : 2.000
Rating : 0
Lens : Leica Tri-Elmar-M 16-18-21mm f/4 ASPH.
Date Created : 2008:09:15 03:21:42
Color Mode : RGB
ICC Profile Name : Adobe RGB (1998)
Format : image/jpeg
Photographic Sensitivity : 160
Raw File Name : L1040602 copy.DNG
Version : 9.6.1
Process Version : 6.7
Auto White Version : 134348800
Color Temperature : 5850
Tint : +29
Saturation : 0
Sharpness : 25
Luminance Smoothing : 0
Color Noise Reduction : 25
Vignette Amount : 0
Shadow Tint : 0
Red Hue : 0
Red Saturation : 0
Green Hue : 0
Green Saturation : 0
Blue Hue : 0
Blue Saturation : 0
Vibrance : 0
Hue Adjustment Red : 0
Hue Adjustment Orange : 0
Hue Adjustment Yellow : 0
Hue Adjustment Green : 0
Hue Adjustment Aqua : 0
Hue Adjustment Blue : 0
Hue Adjustment Purple : 0
Hue Adjustment Magenta : 0
Saturation Adjustment Red : 0
Saturation Adjustment Orange : 0
Saturation Adjustment Yellow : 0
Saturation Adjustment Green : 0
Saturation Adjustment Aqua : 0
Saturation Adjustment Blue : 0
Saturation Adjustment Purple : 0
Saturation Adjustment Magenta : 0
Luminance Adjustment Red : 0
Luminance Adjustment Orange : 0
Luminance Adjustment Yellow : 0
Luminance Adjustment Green : 0
Luminance Adjustment Aqua : 0
Luminance Adjustment Blue : 0
Luminance Adjustment Purple : 0
Luminance Adjustment Magenta : 0
Split Toning Shadow Hue : 0
Split Toning Shadow Saturation : 0
Split Toning Highlight Hue : 0
Split Toning Highlight Saturation : 0
Split Toning Balance : 0
Parametric Shadows : 0
Parametric Darks : 0
Parametric Lights : 0
Parametric Highlights : 0
Parametric Shadow Split : 25
Parametric Midtone Split : 50
Parametric Highlight Split : 75
Sharpen Radius : +1.0
Sharpen Detail : 25
Sharpen Edge Masking : 0
Post Crop Vignette Amount : 0
Grain Amount : 0
Color Noise Reduction Detail : 50
Color Noise Reduction Smoothness : 50
Lens Profile Enable : 0
Lens Manual Distortion Amount : 0
Perspective Vertical : 0
Perspective Horizontal : 0
Perspective Rotate : 0.0
Perspective Scale : 100
Perspective Aspect : 0
Perspective Upright : Off
Perspective X : 0.00
Perspective Y : 0.00
Auto Lateral CA : 0
Exposure 2012 : -0.35
Contrast 2012 : 0
Highlights 2012 : 0
Shadows 2012 : 0
Whites 2012 : 0
Blacks 2012 : 0
Clarity 2012 : 0
Defringe Purple Amount : 0
Defringe Purple Hue Lo : 30
Defringe Purple Hue Hi : 70
Defringe Green Amount : 0
Defringe Green Hue Lo : 40
Defringe Green Hue Hi : 60
Dehaze : 0
Tone Map Strength : 0
Convert To Grayscale : False
Tone Curve Name : Medium Contrast
Tone Curve Name 2012 : Linear
Camera Profile : Adobe Standard
Lens Profile Setup : LensDefaults
Has Settings : True
Has Crop : False
Already Applied : True
Tone Curve : 0, 0, 32, 22, 64, 56, 128, 128, 192, 196, 255, 255
Tone Curve Red : 0, 0, 255, 255
Tone Curve Green : 0, 0, 255, 255
Tone Curve Blue : 0, 0, 255, 255
Tone Curve PV2012 : 0, 0, 255, 255
Tone Curve PV2012 Red : 0, 0, 255, 255
Tone Curve PV2012 Green : 0, 0, 255, 255
Tone Curve PV2012 Blue : 0, 0, 255, 255
Image Width : 308
Image Height : 422
Bits Per Sample : 8
Color Components : 3
Aperture : 4.0
Image Size : 308x422
Megapixels : 0.130
Scale Factor To 35 mm Equivalent : 6.7
Shutter Speed : 1/45
Circle Of Confusion : 0.004 mm
Light Value : 8.8
Lens ID : Tri-Elmar-M 16-18-21mm f/4 ASPH.