Uber Exif Photo
Keywords : Morocco
By-line : Bijan Seyfzadeh
Copyright Notice : BIjan Seyfzadeh
Copyright Flag : True
Make : FUJIFILM
Camera Model Name : X-T1
Software : Adobe Photoshop Lightroom 5.7 (Macintosh)
Modify Date : 2015:12:17 15:47:28
Artist : Bijan Seyfzadeh
Copyright : BIjan Seyfzadeh
Exposure Time : 1/250
F Number : 1.0
Exposure Program : Manual
ISO : 320
Sensitivity Type : Standard Output Sensitivity
Date/Time Original : 2015:05:14 13:08:56
Create Date : 2015:05:14 13:08:56
Shutter Speed Value : 1/250
Aperture Value : 1.0
Brightness Value : 1.29
Exposure Compensation : 0
Metering Mode : Multi-segment
Light Source : Shade
Flash : Off, Did not fire
Focal Length : 90.0 mm
Color Space : sRGB
Sensing Method : One-chip color area
Scene Type : Directly photographed
Custom Rendered : Normal
Exposure Mode : Manual
White Balance : Manual
Focal Length In 35mm Format : 135 mm
Scene Capture Type : Standard
Sharpness : Normal
Subject Distance Range : Unknown
Lens Info : 90mm f/?
Lens Model : 90.0 mm
Profile Description : sRGB IEC61966-2.1
Creator Tool : Adobe Photoshop Lightroom 5.7 (Macintosh)
Label : Yellow
Rating : 3
Lens : 90.0 mm
Date Created : 2015:05:14 13:08:56
Format : image/jpeg
Marked : True
Version : 8.7
Process Version : 6.7
Auto White Version : 134348800
Incremental Temperature : -10
Incremental Tint : 0
Saturation : +17
Luminance Smoothing : 8
Color Noise Reduction : 0
Vignette Amount : 0
Shadow Tint : 0
Red Hue : 0
Red Saturation : 0
Green Hue : 0
Green Saturation : 0
Blue Hue : 0
Blue Saturation : 0
Vibrance : +59
Hue Adjustment Red : 0
Hue Adjustment Orange : 0
Hue Adjustment Yellow : 0
Hue Adjustment Green : 0
Hue Adjustment Aqua : 0
Hue Adjustment Blue : 0
Hue Adjustment Purple : 0
Hue Adjustment Magenta : 0
Saturation Adjustment Red : 0
Saturation Adjustment Orange : 0
Saturation Adjustment Yellow : 0
Saturation Adjustment Green : 0
Saturation Adjustment Aqua : 0
Saturation Adjustment Blue : 0
Saturation Adjustment Purple : 0
Saturation Adjustment Magenta : 0
Luminance Adjustment Red : 0
Luminance Adjustment Orange : +7
Luminance Adjustment Yellow : 0
Luminance Adjustment Green : 0
Luminance Adjustment Aqua : 0
Luminance Adjustment Blue : 0
Luminance Adjustment Purple : 0
Luminance Adjustment Magenta : 0
Split Toning Shadow Hue : 239
Split Toning Shadow Saturation : 17
Split Toning Highlight Hue : 43
Split Toning Highlight Saturation : 0
Split Toning Balance : -35
Parametric Shadows : 0
Parametric Darks : 0
Parametric Lights : 0
Parametric Highlights : 0
Parametric Shadow Split : 25
Parametric Midtone Split : 50
Parametric Highlight Split : 75
Sharpen Radius : +0.9
Sharpen Detail : 61
Sharpen Edge Masking : 48
Post Crop Vignette Amount : 0
Grain Amount : 0
Luminance Noise Reduction Detail : 96
Luminance Noise Reduction Contrast : 78
Lens Profile Enable : 0
Lens Manual Distortion Amount : 0
Perspective Vertical : 0
Perspective Horizontal : 0
Perspective Rotate : 0.0
Perspective Scale : 100
Perspective Aspect : 0
Perspective Upright : Off
Auto Lateral CA : 1
Exposure 2012 : +0.20
Contrast 2012 : +73
Highlights 2012 : -50
Shadows 2012 : -91
Whites 2012 : +43
Blacks 2012 : -90
Clarity 2012 : +54
Defringe Purple Amount : 0
Defringe Purple Hue Lo : 30
Defringe Purple Hue Hi : 70
Defringe Green Amount : 0
Defringe Green Hue Lo : 40
Defringe Green Hue Hi : 60
Convert To Grayscale : False
Tone Curve Name : Linear
Tone Curve Name 2012 : Linear
Camera Profile : Embedded
Lens Profile Setup : LensDefaults
Has Settings : True
Crop Top : 0.122484
Crop Left : 0.094649
Crop Bottom : 1
Crop Right : 0.972165
Crop Angle : 0
Crop Constrain To Warp : 0
Has Crop : True
Already Applied : True
Creator : Bijan Seyfzadeh
Rights : BIjan Seyfzadeh
Subject : Morocco
Creator Work Email : bijan_s@hotmail.com
Tone Curve : 0, 0, 255, 255
Tone Curve Red : 0, 0, 255, 255
Tone Curve Green : 0, 0, 255, 255
Tone Curve Blue : 0, 0, 255, 255
Tone Curve PV2012 : 0, 0, 255, 255
Tone Curve PV2012 Red : 0, 0, 255, 255
Tone Curve PV2012 Green : 0, 0, 255, 255
Tone Curve PV2012 Blue : 0, 0, 255, 255
Image Width : 263
Image Height : 391
Bits Per Sample : 8
Color Components : 3
Aperture : 1.0
Image Size : 263x391
Megapixels : 0.103
Scale Factor To 35 mm Equivalent : 1.5
Shutter Speed : 1/250
Circle Of Confusion : 0.020 mm
Field Of View : 15.2 deg
Focal Length : 90.0 mm (35 mm equivalent: 135.0 mm)
Hyperfocal Distance : 404.38 m
Light Value : 6.3
Lens ID : 90.0mm