Uber Exif Photo
Keywords : Las Vegas, Luxor
Make : Leica Camera AG
Camera Model Name : M8 Digital Camera
Software : Adobe Photoshop Lightroom 3.4.1
Modify Date : 2011:08:03 19:37:40
Exposure Time : 1/30
F Number : 2.4
Exposure Program : Aperture-priority AE
ISO : 1250
Date/Time Original : 2011:06:23 16:58:46
Create Date : 2011:06:23 16:58:46
Shutter Speed Value : 1/30
Aperture Value : 2.4
Exposure Compensation : 0
Max Aperture Value : 2.0
Metering Mode : Center-weighted average
Light Source : Unknown
Flash : Auto, Did not fire
Focal Length : 28.0 mm
Scene Type : Directly photographed
White Balance : Auto
Digital Zoom Ratio : 0
Focal Length In 35mm Format : 38 mm
Scene Capture Type : Standard
Serial Number : 3107522
Lens Model : Leica Summicron-M 28mm f/2 ASPH.
Orientation : Horizontal (normal)
Profile Description : Adobe RGB (1998)
Creator Tool : Adobe Photoshop Lightroom 3.4.1
Rating : 1
Lens : Leica Summicron-M 28mm f/2 ASPH.
Date Created : 2011:06:23
Version : 6.4.1
Process Version : 5.7
Color Temperature : 2950
Tint : +12
Exposure : +0.25
Shadows : 7
Brightness : +35
Contrast : +65
Saturation : +15
Sharpness : 25
Luminance Smoothing : 10
Color Noise Reduction : 35
Chromatic Aberration R : 0
Chromatic Aberration B : 0
Vignette Amount : 0
Shadow Tint : 0
Red Hue : 0
Red Saturation : 0
Green Hue : 0
Green Saturation : 0
Blue Hue : 0
Blue Saturation : 0
Fill Light : 30
Vibrance : +25
Highlight Recovery : 50
Clarity : +25
Defringe : 2
Hue Adjustment Red : 0
Hue Adjustment Orange : 0
Hue Adjustment Yellow : 0
Hue Adjustment Green : 0
Hue Adjustment Aqua : 0
Hue Adjustment Blue : 0
Hue Adjustment Purple : 0
Hue Adjustment Magenta : 0
Saturation Adjustment Red : 0
Saturation Adjustment Orange : 0
Saturation Adjustment Yellow : 0
Saturation Adjustment Green : 0
Saturation Adjustment Aqua : 0
Saturation Adjustment Blue : 0
Saturation Adjustment Purple : 0
Saturation Adjustment Magenta : 0
Luminance Adjustment Red : 0
Luminance Adjustment Orange : 0
Luminance Adjustment Yellow : 0
Luminance Adjustment Green : 0
Luminance Adjustment Aqua : 0
Luminance Adjustment Blue : 0
Luminance Adjustment Purple : 0
Luminance Adjustment Magenta : 0
Split Toning Shadow Hue : 0
Split Toning Shadow Saturation : 0
Split Toning Highlight Hue : 0
Split Toning Highlight Saturation : 0
Split Toning Balance : 0
Parametric Shadows : 0
Parametric Darks : 0
Parametric Lights : 0
Parametric Highlights : 0
Parametric Shadow Split : 25
Parametric Midtone Split : 50
Parametric Highlight Split : 75
Sharpen Radius : +1.0
Sharpen Detail : 25
Sharpen Edge Masking : 0
Post Crop Vignette Amount : 0
Grain Amount : 0
Luminance Noise Reduction Detail : 50
Color Noise Reduction Detail : 50
Luminance Noise Reduction Contrast : 0
Lens Profile Enable : 0
Lens Manual Distortion Amount : 0
Perspective Vertical : 0
Perspective Horizontal : 0
Perspective Rotate : 0.0
Perspective Scale : 100
Convert To Grayscale : False
Tone Curve Name : Medium Contrast
Tone Curve : 0, 0, 32, 22, 64, 56, 128, 128, 192, 196, 255, 255
Camera Profile : Adobe Standard
Lens Profile Setup : LensDefaults
Has Settings : True
Has Crop : False
Already Applied : True
Date/Time Digitized : 2011:06:23 16:58:46
Subject : Las Vegas, Luxor
Image Width : 202
Image Height : 300
Bits Per Sample : 8
Color Components : 3
Aperture : 2.4
Image Size : 202x300
Megapixels : 0.061
Scale Factor To 35 mm Equivalent : 1.4
Shutter Speed : 1/30
Circle Of Confusion : 0.022 mm
Field Of View : 50.7 deg
Focal Length : 28.0 mm (35 mm equivalent: 38.0 mm)
Hyperfocal Distance : 14.76 m
Light Value : 3.8
Lens ID : Summicron-M 28mm f/2 ASPH.