Uber Exif Photo
Keywords : Sedona
Make : Leica Camera AG
Camera Model Name : Leica S2
Software : Adobe Photoshop Lightroom 3.4.1
Modify Date : 2011:07:09 17:14:45
Exposure Time : 1/60
F Number : 2.8
Exposure Program : Aperture-priority AE
ISO : 640
Date/Time Original : 2011:06:26 17:51:04
Create Date : 2011:06:26 17:51:04
Shutter Speed Value : 1/60
Aperture Value : 2.8
Exposure Compensation : 0
Max Aperture Value : 1.0
Metering Mode : Multi-spot
Light Source : Unknown
Flash : No Flash
Scene Type : Directly photographed
Custom Rendered : Normal
White Balance : Auto
Digital Zoom Ratio : 0
Scene Capture Type : Standard
Contrast : Normal
Saturation : Normal
Sharpness : Normal
Serial Number : 3800658
Orientation : Horizontal (normal)
Profile Description : Adobe RGB (1998)
Creator Tool : Adobe Photoshop Lightroom 3.4.1
Rating : 1
Approximate Focus Distance : 4294967295
Date Created : 2011:06:26
Version : 6.4.1
Process Version : 5.7
Color Temperature : 6700
Tint : +21
Exposure : 0.00
Shadows : 1
Brightness : +63
Luminance Smoothing : 0
Color Noise Reduction : 25
Chromatic Aberration R : -18
Chromatic Aberration B : 0
Vignette Amount : 0
Shadow Tint : 0
Red Hue : 0
Red Saturation : 0
Green Hue : 0
Green Saturation : 0
Blue Hue : 0
Blue Saturation : 0
Fill Light : 20
Vibrance : +25
Highlight Recovery : 35
Clarity : +25
Defringe : 2
Hue Adjustment Red : 0
Hue Adjustment Orange : 0
Hue Adjustment Yellow : 0
Hue Adjustment Green : 0
Hue Adjustment Aqua : 0
Hue Adjustment Blue : 0
Hue Adjustment Purple : 0
Hue Adjustment Magenta : 0
Saturation Adjustment Red : 0
Saturation Adjustment Orange : 0
Saturation Adjustment Yellow : 0
Saturation Adjustment Green : 0
Saturation Adjustment Aqua : 0
Saturation Adjustment Blue : 0
Saturation Adjustment Purple : 0
Saturation Adjustment Magenta : 0
Luminance Adjustment Red : 0
Luminance Adjustment Orange : 0
Luminance Adjustment Yellow : 0
Luminance Adjustment Green : 0
Luminance Adjustment Aqua : 0
Luminance Adjustment Blue : 0
Luminance Adjustment Purple : 0
Luminance Adjustment Magenta : 0
Split Toning Shadow Hue : 0
Split Toning Shadow Saturation : 0
Split Toning Highlight Hue : 0
Split Toning Highlight Saturation : 0
Split Toning Balance : 0
Parametric Shadows : 0
Parametric Darks : 0
Parametric Lights : 0
Parametric Highlights : 0
Parametric Shadow Split : 25
Parametric Midtone Split : 50
Parametric Highlight Split : 75
Sharpen Radius : +1.0
Sharpen Detail : 25
Sharpen Edge Masking : 0
Post Crop Vignette Amount : 0
Grain Amount : 0
Color Noise Reduction Detail : 50
Lens Profile Enable : 0
Lens Manual Distortion Amount : +5
Perspective Vertical : 0
Perspective Horizontal : 0
Perspective Rotate : 0.0
Perspective Scale : 100
Convert To Grayscale : False
Tone Curve Name : Medium Contrast
Tone Curve : 0, 0, 32, 22, 64, 56, 128, 128, 192, 196, 255, 255
Camera Profile : Adobe Standard
Lens Profile Setup : LensDefaults
Has Settings : True
Crop Top : 0.006924
Crop Left : 0.006924
Crop Bottom : 0.993076
Crop Right : 0.993076
Crop Angle : 0
Crop Constrain To Warp : 1
Crop Width : 7408
Crop Height : 4923
Crop Unit : pixels
Has Crop : True
Already Applied : True
Date/Time Digitized : 2011:06:26 17:51:04
Subject : Sedona
Image Width : 300
Image Height : 199
Bits Per Sample : 8
Color Components : 3
Aperture : 2.8
Image Size : 300x199
Megapixels : 0.060
Shutter Speed : 1/60
Light Value : 6.2