Uber Exif Photo
By-line : Leica Camera AG
Keywords : Leica Roadshow, Seattle
Copyright Notice : Leica Camera AG
Make : Leica Camera AG
Camera Model Name : f
Software : Adobe Photoshop Lightroom 3.4
Modify Date : 2011:05:13 19:08:40
Artist : Leica Camera AG
Exposure Time : 1/250
F Number : 4.0
Exposure Program : Manual
ISO : 160
Date/Time Original : 2010:04:21 16:26:48
Create Date : 2010:04:21 16:26:48
Shutter Speed Value : 1/250
Aperture Value : 4.0
Exposure Compensation : 0
Max Aperture Value : 2.5
Metering Mode : Multi-spot
Light Source : Unknown
Flash : No Flash
Focal Length : 70.0 mm
Scene Type : Directly photographed
Custom Rendered : Normal
White Balance : Auto
Digital Zoom Ratio : 0
Scene Capture Type : Standard
Contrast : Normal
Saturation : Normal
Sharpness : Normal
Serial Number : 00225
Lens Model : Summarit-S 70
Orientation : Horizontal (normal)
Profile Description : Adobe RGB (1998)
Creator Tool : Adobe Photoshop Lightroom 3.4
Rating : 3
Creator : Leica Camera AG
Subject : Leica Roadshow, Seattle
Rights : Leica Camera AG
Lens : Summarit-S 70
Firmware : 1.0.0.13
Version : 6.4
Process Version : 5.7
Color Temperature : 4800
Tint : +19
Exposure : 0.00
Shadows : 8
Brightness : +30
Luminance Smoothing : 0
Color Noise Reduction : 25
Chromatic Aberration R : 0
Chromatic Aberration B : 0
Vignette Amount : 0
Shadow Tint : 0
Red Hue : 0
Red Saturation : 0
Green Hue : 0
Green Saturation : 0
Blue Hue : 0
Blue Saturation : 0
Fill Light : 0
Vibrance : +35
Highlight Recovery : 25
Clarity : +34
Defringe : 2
Hue Adjustment Red : 0
Hue Adjustment Orange : 0
Hue Adjustment Yellow : +20
Hue Adjustment Green : +20
Hue Adjustment Aqua : 0
Hue Adjustment Blue : 0
Hue Adjustment Purple : 0
Hue Adjustment Magenta : 0
Saturation Adjustment Red : 0
Saturation Adjustment Orange : 0
Saturation Adjustment Yellow : 0
Saturation Adjustment Green : 0
Saturation Adjustment Aqua : 0
Saturation Adjustment Blue : 0
Saturation Adjustment Purple : 0
Saturation Adjustment Magenta : 0
Luminance Adjustment Red : 0
Luminance Adjustment Orange : +10
Luminance Adjustment Yellow : 0
Luminance Adjustment Green : 0
Luminance Adjustment Aqua : 0
Luminance Adjustment Blue : 0
Luminance Adjustment Purple : 0
Luminance Adjustment Magenta : 0
Split Toning Shadow Hue : 0
Split Toning Shadow Saturation : 0
Split Toning Highlight Hue : 0
Split Toning Highlight Saturation : 0
Split Toning Balance : 0
Parametric Shadows : 0
Parametric Darks : 0
Parametric Lights : 0
Parametric Highlights : 0
Parametric Shadow Split : 25
Parametric Midtone Split : 50
Parametric Highlight Split : 75
Sharpen Radius : +1.0
Sharpen Detail : 25
Sharpen Edge Masking : 0
Post Crop Vignette Amount : 0
Grain Amount : 0
Color Noise Reduction Detail : 50
Lens Profile Enable : 0
Lens Manual Distortion Amount : 0
Perspective Vertical : 0
Perspective Horizontal : -2
Perspective Rotate : 0.0
Perspective Scale : 100
Convert To Grayscale : False
Tone Curve Name : Medium Contrast
Tone Curve : 0, 0, 32, 22, 64, 56, 128, 128, 192, 196, 255, 255
Camera Profile : Adobe Standard
Lens Profile Setup : LensDefaults
Paint Correction What : Correction
Paint Correction Amount : 1.000000
Paint Correction Active : true
Paint Correction Exposure : -0.119617
Paint Correction Saturation : 0.000000
Paint Correction Contrast : 0.000000
Paint Correction Clarity : 0.000000
Paint Correction Sharpness : 0.000000
Paint Correction Brightness : 0.000000
Paint Correction Toning Hue : 354.000000
Paint Correction Toning Saturation : 0.000000
Paint Correction Mask What : Mask/Paint
Paint Correction Mask Value : 1.000000
Paint Correction Mask Radius : 0.083643
Paint Correction Mask Flow : 1.000000
Paint Correction Mask Center Weight : 0.000000
Gradient Based Corr What : Correction
Gradient Based Corr Amount : 1.000000
Gradient Based Corr Active : true
Gradient Based Corr Exposure : 0.000000
Gradient Based Corr Saturation : 0.000000
Gradient Based Corr Contrast : 0.000000
Gradient Based Corr Clarity : 0.000000
Gradient Based Corr Sharpness : 0.000000
Gradient Based Corr Brightness : 0.138756
Gradient Based Corr Toning Hue : 354.000000
Gradient Based Corr Toning Saturation : 0.000000
Gradient Based Corr Mask What : Mask/Gradient
Gradient Based Corr Mask Value : 1.000000
Gradient Based Corr Mask Zero X : 0.768289
Gradient Based Corr Mask Zero Y : 0.595323
Gradient Based Corr Mask Full X : 1.002660
Gradient Based Corr Mask Full Y : 0.593816
Has Settings : True
Crop Top : 0
Crop Left : 0.017557
Crop Bottom : 1
Crop Right : 0.98242
Crop Angle : 0.955699
Crop Constrain To Warp : 0
Crop Width : 7330
Crop Height : 4871
Crop Unit : pixels
Has Crop : True
Already Applied : True
Date Created : 2010:04:21
Date/Time Digitized : 2010:04:21 16:26:48
Image Width : 199
Image Height : 300
Bits Per Sample : 8
Color Components : 3
Aperture : 4.0
Image Size : 199x300
Megapixels : 0.060
Shutter Speed : 1/250
Light Value : 11.3
Lens ID : Summarit-S 70