Uber Exif Photo
Make : SONY
Camera Model Name : ILCE-7R
Orientation : Horizontal (normal)
Software : Adobe Photoshop Lightroom 5.7 (Macintosh)
Modify Date : 2014:11:25 18:01:51
Exposure Time : 1/60
Exposure Program : Aperture-priority AE
ISO : 2000
Sensitivity Type : Recommended Exposure Index
Recommended Exposure Index : 2000
Date/Time Original : 2014:11:23 17:07:56
Create Date : 2014:11:23 17:07:56
Shutter Speed Value : 1/60
Brightness Value : -2.44375
Exposure Compensation : 0
Max Aperture Value : 1.0
Metering Mode : Multi-segment
Light Source : Unknown
Flash : Off, Did not fire
Color Space : sRGB
Exif Image Width : 2208
Exif Image Height : 1474
Scene Type : Directly photographed
Custom Rendered : Normal
Exposure Mode : Auto
White Balance : Auto
Digital Zoom Ratio : 1
Scene Capture Type : Standard
Contrast : Normal
Saturation : Normal
Sharpness : Normal
Lens Model : ----
Profile Description : sRGB IEC61966-2.1
Sharpen Detail : 25
Blacks 2012 : -6
Luminance Adjustment Orange : 0
Hue Adjustment Yellow : 0
Saturation Adjustment Blue : 0
Parametric Highlight Split : 75
Lens Profile Enable : 1
Lens Profile Distortion Scale : 100
Split Toning Shadow Saturation : 12
Convert To Grayscale : False
Contrast 2012 : +17
Highlights 2012 : 0
Split Toning Highlight Hue : 227
Saturation Adjustment Aqua : 0
Perspective Scale : 100
Perspective Vertical : 0
Parametric Shadow Split : 25
Luminance Adjustment Green : 0
Perspective Rotate : 0.0
Split Toning Shadow Hue : 215
Luminance Adjustment Yellow : 0
Shadows 2012 : 0
Lens Profile Setup : Custom
Whites 2012 : -24
Perspective Horizontal : 0
Lens Profile Filename : Leica Camera AG (Leica SUMMILUX-M 50 mm f1.4 ASPH.) - RAW.lcp
Camera Profile : Adobe Standard
Saturation Adjustment Yellow : 0
Parametric Midtone Split : 50
Parametric Highlights : 0
Defringe Green Amount : 0
Parametric Darks : 0
Sharpen Radius : +1.0
Vibrance : 0
Lens Profile Vignetting Scale : 100
Shadow Tint : 0
Has Crop : False
Luminance Smoothing : 0
Tone Curve Name 2012 : Linear
Split Toning Highlight Saturation : 0
Defringe Purple Hue Hi : 70
Saturation Adjustment Orange : 0
Sharpen Edge Masking : 0
Color Temperature : 3050
Blue Saturation : 0
Hue Adjustment Green : 0
Vignette Amount : 0
Red Saturation : 0
Red Hue : 0
Parametric Lights : 0
Split Toning Balance : 0
Hue Adjustment Purple : 0
Exposure 2012 : 0.00
Tone Curve Name : Linear
Color Noise Reduction Smoothness : 50
Color Noise Reduction Detail : 50
Saturation Adjustment Green : 0
Hue Adjustment Blue : 0
Luminance Adjustment Purple : 0
Perspective Aspect : 0
Perspective Upright : Auto
Parametric Shadows : 0
Post Crop Vignette Amount : 0
Blue Hue : 0
Clarity 2012 : 0
Grain Amount : 0
Auto Lateral CA : 1
Hue Adjustment Aqua : 0
Process Version : 6.7
Tint : +14
Already Applied : True
Auto White Version : 134348800
Lens Profile Name : Adobe (Leica SUMMILUX-M 50 mm f/1.4 ASPH.)
Luminance Adjustment Blue : 0
Lens Profile Chromatic Aberration Scale : 100
Luminance Adjustment Red : 0
Color Noise Reduction : 25
Green Hue : 0
Hue Adjustment Magenta : 0
Has Settings : True
Saturation Adjustment Red : 0
Hue Adjustment Red : 0
Hue Adjustment Orange : 0
Lens Manual Distortion Amount : 0
Green Saturation : 0
Defringe Purple Hue Lo : 30
Defringe Green Hue Hi : 60
Saturation Adjustment Purple : 0
Saturation Adjustment Magenta : 0
Luminance Adjustment Aqua : 0
Version : 8.7
Defringe Green Hue Lo : 40
Defringe Purple Amount : 0
Luminance Adjustment Magenta : 0
Creator Tool : Adobe Photoshop Lightroom 5.7 (Macintosh)
Rating : 3
Lens : ----
Format : image/jpeg
Date Created : 2014:11:23 17:07:56
Tone Curve Blue : 0, 0, 255, 255
Tone Curve Green : 0, 0, 255, 255
Tone Curve PV2012 Red : 0, 0, 255, 255
Tone Curve PV2012 : 0, 0, 255, 255
Tone Curve : 0, 0, 255, 255
Tone Curve Red : 0, 0, 255, 255
Tone Curve PV2012 Green : 0, 0, 255, 255
Tone Curve PV2012 Blue : 0, 0, 255, 255
Image Width : 255
Image Height : 170
Bits Per Sample : 8
Color Components : 3
Image Size : 255x170
Megapixels : 0.043
Scale Factor To 35 mm Equivalent : 3.3
Shutter Speed : 1/60
Circle Of Confusion : 0.009 mm