Uber Exif Photo
Photometric Interpretation : RGB
Make : Leica Camera AG
Camera Model Name : LEICA M (Typ 240)
Orientation : Horizontal (normal)
Samples Per Pixel : 3
Software : Adobe Photoshop CC (Macintosh)
Modify Date : 2017:11:18 23:23:43
Exposure Time : 1/125
F Number : 9.5
Exposure Program : Manual
ISO : 2500
Date/Time Original : 2017:11:18 16:43:42
Create Date : 2017:11:18 16:43:42
Shutter Speed Value : 1/125
Aperture Value : 9.5
Exposure Compensation : 0
Max Aperture Value : 2.8
Metering Mode : Center-weighted average
Light Source : Unknown
Flash : No Flash
Focal Length : 28.0 mm
Color Space : sRGB
Exif Image Width : 3174
Exif Image Height : 3968
Scene Type : Directly photographed
Custom Rendered : Normal
Exposure Mode : Manual
White Balance : Auto
Digital Zoom Ratio : 0
Scene Capture Type : Standard
Contrast : Normal
Saturation : Normal
Sharpness : Normal
Lens Info : 28mm f/2.8-22
Lens Make : Leica Camera AG
Lens Model : Elmarit-M 1:2.8/28 ASPH.
Lens Serial Number : -------
GPS Version ID : 2.2.0.0
GPS Altitude Ref : Above Sea Level
GPS Status : Measurement Void
GPS Dilution Of Precision : 0
GPS Speed : 0
GPS Track : 0
Profile Description : sRGB IEC61966-2.1
Creator Tool : Adobe Photoshop CC (Macintosh)
Rating : 5
Lens : Elmarit-M 1:2.8/28 ASPH.
Date Created : 2017:11:18 16:43:42
Color Mode : RGB
ICC Profile Name : sRGB IEC61966-2.1
Format : image/jpeg
Version : 9.12
Process Version : 6.7
Auto White Version : 134348800
Incremental Temperature : 0
Incremental Tint : 0
Luminance Smoothing : 0
Color Noise Reduction : 0
Vignette Amount : 0
Shadow Tint : 0
Red Hue : 0
Red Saturation : 0
Green Hue : 0
Green Saturation : 0
Blue Hue : 0
Blue Saturation : 0
Vibrance : +97
Hue Adjustment Red : 0
Hue Adjustment Orange : -6
Hue Adjustment Yellow : -42
Hue Adjustment Green : -31
Hue Adjustment Aqua : 0
Hue Adjustment Blue : -17
Hue Adjustment Purple : 0
Hue Adjustment Magenta : 0
Saturation Adjustment Red : -17
Saturation Adjustment Orange : +36
Saturation Adjustment Yellow : 0
Saturation Adjustment Green : -29
Saturation Adjustment Aqua : -40
Saturation Adjustment Blue : -42
Saturation Adjustment Purple : 0
Saturation Adjustment Magenta : 0
Luminance Adjustment Red : 0
Luminance Adjustment Orange : +50
Luminance Adjustment Yellow : 0
Luminance Adjustment Green : +33
Luminance Adjustment Aqua : -25
Luminance Adjustment Blue : -9
Luminance Adjustment Purple : +16
Luminance Adjustment Magenta : 0
Split Toning Shadow Hue : 197
Split Toning Shadow Saturation : 15
Split Toning Highlight Hue : 37
Split Toning Highlight Saturation : 10
Split Toning Balance : 0
Parametric Shadows : -5
Parametric Darks : -10
Parametric Lights : +10
Parametric Highlights : +5
Parametric Shadow Split : 25
Parametric Midtone Split : 50
Parametric Highlight Split : 75
Sharpen Radius : +1.0
Sharpen Detail : 40
Sharpen Edge Masking : 25
Post Crop Vignette Amount : -25
Post Crop Vignette Midpoint : 0
Post Crop Vignette Feather : 30
Post Crop Vignette Roundness : 0
Post Crop Vignette Style : Color Priority
Post Crop Vignette Highlight Contrast : 100
Grain Amount : 0
Lens Profile Enable : 0
Lens Manual Distortion Amount : 0
Perspective Vertical : 0
Perspective Horizontal : 0
Perspective Rotate : 0.0
Perspective Scale : 100
Perspective Aspect : 0
Perspective Upright : Off
Perspective X : 0.00
Perspective Y : 0.00
Auto Lateral CA : 0
Exposure 2012 : -0.20
Contrast 2012 : +24
Highlights 2012 : -22
Shadows 2012 : +22
Whites 2012 : -8
Blacks 2012 : -12
Clarity 2012 : +3
Defringe Purple Amount : 0
Defringe Purple Hue Lo : 30
Defringe Purple Hue Hi : 70
Defringe Green Amount : 0
Defringe Green Hue Lo : 40
Defringe Green Hue Hi : 60
Dehaze : 0
Tone Map Strength : 0
Convert To Grayscale : False
Tone Curve Name : Linear
Tone Curve Name 2012 : Custom
Camera Profile : Embedded
Lens Profile Setup : LensDefaults
Has Settings : True
Crop Top : 0
Crop Left : 0.257051
Crop Bottom : 1
Crop Right : 0.790384
Crop Angle : 0
Crop Constrain To Warp : 0
Has Crop : True
Already Applied : True
Tone Curve : 0, 0, 255, 255
Tone Curve Red : 0, 0, 255, 255
Tone Curve Green : 0, 0, 255, 255
Tone Curve Blue : 0, 0, 255, 255
Tone Curve PV2012 : 0, 19, 75, 65, 167, 177, 255, 234
Tone Curve PV2012 Red : 0, 0, 83, 81, 192, 192, 255, 255
Tone Curve PV2012 Green : 0, 0, 255, 255
Tone Curve PV2012 Blue : 0, 0, 45, 45, 102, 102, 255, 252
Image Width : 300
Image Height : 375
Bits Per Sample : 8
Color Components : 3
Aperture : 9.5
Image Size : 300x375
Megapixels : 0.113
Shutter Speed : 1/125
GPS Altitude : 0 m Above Sea Level
Light Value : 8.8