Uber Exif Photo
Photometric Interpretation : RGB
Make : Leica Camera AG
Camera Model Name : LEICA M (Typ 240)
Orientation : Horizontal (normal)
Samples Per Pixel : 3
Software : Adobe Photoshop CC 2017 (Macintosh)
Modify Date : 2017:08:25 16:58:17
Exposure Time : 1/180
F Number : 6.8
Exposure Program : Aperture-priority AE
ISO : 200
Date/Time Original : 2017:08:24 19:21:48
Create Date : 2017:08:24 19:21:48
Shutter Speed Value : 1/180
Aperture Value : 6.8
Exposure Compensation : 0
Max Aperture Value : 2.8
Metering Mode : Center-weighted average
Light Source : Unknown
Flash : No Flash
Focal Length : 28.0 mm
Color Space : sRGB
Exif Image Width : 4768
Exif Image Height : 3179
Scene Type : Directly photographed
Custom Rendered : Normal
Exposure Mode : Auto
White Balance : Auto
Digital Zoom Ratio : 0
Scene Capture Type : Standard
Contrast : Normal
Saturation : Normal
Sharpness : Normal
Lens Info : 28mm f/2.8-22
Lens Make : Leica Camera AG
Lens Model : Elmarit-M 1:2.8/28 ASPH.
Lens Serial Number : -------
Profile Description : sRGB IEC61966-2.1
Rating : 3
Creator Tool : Adobe Photoshop Lightroom 6.12 (Macintosh)
Lens : Elmarit-M 1:2.8/28 ASPH.
Date Created : 2017:08:24 19:21:48
Color Mode : RGB
ICC Profile Name : sRGB IEC61966-2.1
Format : image/jpeg
Version : 9.12
Process Version : 6.7
Auto White Version : 134348800
Incremental Temperature : 0
Incremental Tint : 0
Luminance Smoothing : 0
Color Noise Reduction : 0
Vignette Amount : 0
Shadow Tint : 0
Red Hue : 0
Red Saturation : 0
Green Hue : 0
Green Saturation : 0
Blue Hue : 0
Blue Saturation : 0
Vibrance : 0
Hue Adjustment Red : 0
Hue Adjustment Orange : -19
Hue Adjustment Yellow : -15
Hue Adjustment Green : 0
Hue Adjustment Aqua : 0
Hue Adjustment Blue : 0
Hue Adjustment Purple : 0
Hue Adjustment Magenta : 0
Saturation Adjustment Red : 0
Saturation Adjustment Orange : 0
Saturation Adjustment Yellow : 0
Saturation Adjustment Green : 0
Saturation Adjustment Aqua : 0
Saturation Adjustment Blue : 0
Saturation Adjustment Purple : 0
Saturation Adjustment Magenta : 0
Luminance Adjustment Red : 0
Luminance Adjustment Orange : 0
Luminance Adjustment Yellow : 0
Luminance Adjustment Green : 0
Luminance Adjustment Aqua : 0
Luminance Adjustment Blue : 0
Luminance Adjustment Purple : 0
Luminance Adjustment Magenta : 0
Split Toning Shadow Hue : 0
Split Toning Shadow Saturation : 0
Split Toning Highlight Hue : 0
Split Toning Highlight Saturation : 0
Split Toning Balance : 0
Parametric Shadows : 0
Parametric Darks : 0
Parametric Lights : 0
Parametric Highlights : 0
Parametric Shadow Split : 25
Parametric Midtone Split : 50
Parametric Highlight Split : 75
Sharpen Radius : +1.0
Sharpen Detail : 25
Sharpen Edge Masking : 0
Post Crop Vignette Amount : 0
Grain Amount : 0
Lens Profile Enable : 0
Lens Manual Distortion Amount : 0
Perspective Vertical : 0
Perspective Horizontal : 0
Perspective Rotate : 0.0
Perspective Scale : 100
Perspective Aspect : 0
Perspective Upright : Off
Perspective X : 0.00
Perspective Y : 0.00
Auto Lateral CA : 0
Exposure 2012 : 0.00
Contrast 2012 : 0
Highlights 2012 : 0
Shadows 2012 : 0
Whites 2012 : 0
Blacks 2012 : 0
Clarity 2012 : 0
Defringe Purple Amount : 0
Defringe Purple Hue Lo : 30
Defringe Purple Hue Hi : 70
Defringe Green Amount : 0
Defringe Green Hue Lo : 40
Defringe Green Hue Hi : 60
Dehaze : 0
Tone Map Strength : 0
Convert To Grayscale : False
Tone Curve Name : Linear
Tone Curve Name 2012 : Linear
Camera Profile : Embedded
Lens Profile Setup : LensDefaults
Has Settings : True
Crop Top : 0.000137
Crop Left : 0.036594
Crop Bottom : 0.895342
Crop Right : 0.926701
Crop Angle : 0.151204
Crop Constrain To Warp : 0
Has Crop : True
Already Applied : True
Tone Curve : 0, 0, 255, 255
Tone Curve Red : 0, 0, 255, 255
Tone Curve Green : 0, 0, 255, 255
Tone Curve Blue : 0, 0, 255, 255
Tone Curve PV2012 : 0, 0, 255, 255
Tone Curve PV2012 Red : 0, 0, 255, 255
Tone Curve PV2012 Green : 0, 0, 255, 255
Tone Curve PV2012 Blue : 0, 0, 255, 255
Image Width : 300
Image Height : 200
Bits Per Sample : 8
Color Components : 3
Aperture : 6.8
Image Size : 300x200
Megapixels : 0.060
Shutter Speed : 1/180
Light Value : 12.0