Uber Exif Photo
Photometric Interpretation : RGB
Make : LEICA CAMERA AG
Camera Model Name : LEICA X2
Orientation : Horizontal (normal)
Software : Adobe Photoshop CS5 Windows
Modify Date : 2014:02:28 19:03:01
Exposure Time : 1/200
F Number : 5.0
Exposure Program : Program AE
ISO : 100
Date/Time Original : 2014:02:28 16:25:51
Create Date : 2014:02:28 16:25:51
Shutter Speed Value : 1/200
Aperture Value : 5.0
Exposure Compensation : 0
Max Aperture Value : 2.8
Metering Mode : Multi-segment
Light Source : Unknown
Flash : Off, Did not fire
Focal Length : 24.0 mm
Color Space : sRGB
Exif Image Width : 1920
Exif Image Height : 1272
Sensing Method : One-chip color area
Custom Rendered : Custom
White Balance : Auto
Digital Zoom Ratio : 1
Focal Length In 35mm Format : 36 mm
Scene Capture Type : Landscape
Contrast : Normal
Saturation : Normal
Sharpness : Normal
Creator Tool : Adobe Photoshop CS5 Windows
Approximate Focus Distance : 4
Date Created : 2014:02:28 16:25:51
Color Mode : RGB
ICC Profile Name : sRGB IEC61966-2.1
Format : image/jpeg
Version : 7.3
Process Version : 6.7
Incremental Temperature : 0
Incremental Tint : 0
Luminance Smoothing : 0
Color Noise Reduction : 0
Vignette Amount : 0
Shadow Tint : 0
Red Hue : +10
Red Saturation : +5
Green Hue : +10
Green Saturation : -10
Blue Hue : 0
Blue Saturation : 0
Vibrance : 0
Hue Adjustment Red : +10
Hue Adjustment Orange : +5
Hue Adjustment Yellow : -5
Hue Adjustment Green : +12
Hue Adjustment Aqua : 0
Hue Adjustment Blue : +10
Hue Adjustment Purple : +30
Hue Adjustment Magenta : +15
Saturation Adjustment Red : -10
Saturation Adjustment Orange : -5
Saturation Adjustment Yellow : 0
Saturation Adjustment Green : -30
Saturation Adjustment Aqua : 0
Saturation Adjustment Blue : +10
Saturation Adjustment Purple : -10
Saturation Adjustment Magenta : -20
Luminance Adjustment Red : -15
Luminance Adjustment Orange : -8
Luminance Adjustment Yellow : 0
Luminance Adjustment Green : -25
Luminance Adjustment Aqua : -15
Luminance Adjustment Blue : -12
Luminance Adjustment Purple : -10
Luminance Adjustment Magenta : +5
Split Toning Shadow Hue : 0
Split Toning Shadow Saturation : 0
Split Toning Highlight Hue : 220
Split Toning Highlight Saturation : 0
Split Toning Balance : 0
Parametric Shadows : -5
Parametric Darks : +5
Parametric Lights : +5
Parametric Highlights : 0
Parametric Shadow Split : 20
Parametric Midtone Split : 40
Parametric Highlight Split : 75
Sharpen Radius : +1.2
Sharpen Detail : 25
Sharpen Edge Masking : 0
Post Crop Vignette Amount : 0
Grain Amount : 25
Grain Size : 30
Grain Frequency : 35
Lens Profile Enable : 0
Lens Manual Distortion Amount : 0
Perspective Vertical : 0
Perspective Horizontal : 0
Perspective Rotate : 0.0
Perspective Scale : 100
Auto Lateral CA : 0
Exposure 2012 : 0.00
Contrast 2012 : 0
Highlights 2012 : -30
Shadows 2012 : +15
Whites 2012 : -10
Blacks 2012 : +5
Clarity 2012 : 0
Defringe Purple Amount : 0
Defringe Purple Hue Lo : 30
Defringe Purple Hue Hi : 70
Defringe Green Amount : 0
Defringe Green Hue Lo : 40
Defringe Green Hue Hi : 60
Convert To Grayscale : False
Tone Curve Name 2012 : Custom
Camera Profile : Embedded
Lens Profile Setup : LensDefaults
Has Settings : True
Has Crop : False
Already Applied : True
Tone Curve PV2012 : 0, 0, 27, 23, 125, 124, 255, 255
Tone Curve PV2012 Red : 0, 0, 48, 17, 115, 122, 178, 203, 235, 242, 255, 255
Tone Curve PV2012 Green : 0, 0, 44, 18, 114, 121, 176, 204, 255, 255
Tone Curve PV2012 Blue : 0, 0, 43, 17, 114, 122, 175, 207, 255, 255
Image Width : 300
Image Height : 199
Bits Per Sample : 8
Color Components : 1
Aperture : 5.0
Image Size : 300x199
Megapixels : 0.060
Scale Factor To 35 mm Equivalent : 1.5
Shutter Speed : 1/200
Circle Of Confusion : 0.020 mm
Depth Of Field : 10.59 m (2.36 - 12.96 m)
Field Of View : 53.1 deg
Focal Length : 24.0 mm (35 mm equivalent: 36.0 mm)
Hyperfocal Distance : 5.75 m
Light Value : 12.3