Uber Exif Photo
Photometric Interpretation : RGB
Make : LEICA CAMERA AG
Camera Model Name : LEICA X2
Orientation : Horizontal (normal)
Software : Adobe Photoshop CS5 Windows
Modify Date : 2014:01:27 23:15:42
Exposure Time : 1/30
F Number : 2.8
Exposure Program : Program AE
ISO : 6400
Date/Time Original : 2014:01:26 17:55:27
Create Date : 2014:01:26 17:55:27
Shutter Speed Value : 1/30
Aperture Value : 2.8
Exposure Compensation : 0
Max Aperture Value : 2.8
Metering Mode : Multi-segment
Light Source : Unknown
Flash : Off, Did not fire
Focal Length : 24.0 mm
Color Space : sRGB
Exif Image Width : 1920
Exif Image Height : 1272
Sensing Method : One-chip color area
Custom Rendered : Normal
White Balance : Auto
Digital Zoom Ratio : 1
Focal Length In 35mm Format : 36 mm
Scene Capture Type : Landscape
Contrast : Normal
Saturation : Normal
Sharpness : Normal
Profile Description : sRGB IEC61966-2.1
Creator Tool : Adobe Photoshop CS5 Windows
Approximate Focus Distance : 0.3
Date Created : 2014:01:26 17:55:27
Color Mode : RGB
ICC Profile Name : sRGB IEC61966-2.1
Format : image/jpeg
Version : 7.3
Process Version : 6.7
Incremental Temperature : 0
Incremental Tint : 0
Luminance Smoothing : 40
Color Noise Reduction : 0
Vignette Amount : 0
Shadow Tint : 0
Red Hue : +10
Red Saturation : -15
Green Hue : -5
Green Saturation : 0
Blue Hue : 0
Blue Saturation : +12
Vibrance : 0
Hue Adjustment Red : +15
Hue Adjustment Orange : 0
Hue Adjustment Yellow : -5
Hue Adjustment Green : 0
Hue Adjustment Aqua : +25
Hue Adjustment Blue : -5
Hue Adjustment Purple : +30
Hue Adjustment Magenta : 0
Saturation Adjustment Red : -15
Saturation Adjustment Orange : -16
Saturation Adjustment Yellow : -38
Saturation Adjustment Green : -32
Saturation Adjustment Aqua : -20
Saturation Adjustment Blue : -30
Saturation Adjustment Purple : 0
Saturation Adjustment Magenta : -45
Luminance Adjustment Red : -25
Luminance Adjustment Orange : -10
Luminance Adjustment Yellow : -25
Luminance Adjustment Green : -30
Luminance Adjustment Aqua : -15
Luminance Adjustment Blue : -40
Luminance Adjustment Purple : 0
Luminance Adjustment Magenta : -20
Split Toning Shadow Hue : 0
Split Toning Shadow Saturation : 0
Split Toning Highlight Hue : 0
Split Toning Highlight Saturation : 0
Split Toning Balance : 0
Parametric Shadows : -32
Parametric Darks : -22
Parametric Lights : +10
Parametric Highlights : -13
Parametric Shadow Split : 18
Parametric Midtone Split : 50
Parametric Highlight Split : 80
Sharpen Radius : +1.0
Sharpen Detail : 25
Sharpen Edge Masking : 0
Post Crop Vignette Amount : 0
Grain Amount : 10
Grain Size : 10
Grain Frequency : 10
Luminance Noise Reduction Detail : 10
Luminance Noise Reduction Contrast : 0
Lens Profile Enable : 0
Lens Manual Distortion Amount : 0
Perspective Vertical : 0
Perspective Horizontal : 0
Perspective Rotate : 0.0
Perspective Scale : 100
Auto Lateral CA : 0
Exposure 2012 : 0.00
Contrast 2012 : 0
Highlights 2012 : -10
Shadows 2012 : +20
Whites 2012 : -10
Blacks 2012 : +5
Clarity 2012 : -10
Defringe Purple Amount : 0
Defringe Purple Hue Lo : 30
Defringe Purple Hue Hi : 70
Defringe Green Amount : 0
Defringe Green Hue Lo : 40
Defringe Green Hue Hi : 60
Convert To Grayscale : False
Tone Curve Name 2012 : Custom
Camera Profile : Adobe Standard
Lens Profile Setup : LensDefaults
Has Settings : True
Crop Top : 0.052816
Crop Left : 0.213313
Crop Bottom : 0.819436
Crop Right : 0.978268
Crop Angle : 0.057427
Crop Constrain To Warp : 0
Crop Width : 3772
Crop Height : 2498
Crop Unit : pixels
Has Crop : True
Already Applied : True
Tone Curve PV2012 : 0, 62, 29, 66, 56, 81, 135, 154, 201, 206, 255, 250
Tone Curve PV2012 Red : 0, 10, 35, 22, 120, 127, 219, 234, 255, 255
Tone Curve PV2012 Green : 0, 7, 44, 22, 123, 128, 166, 185, 220, 235, 255, 255
Tone Curve PV2012 Blue : 0, 1, 44, 14, 127, 129, 221, 236, 255, 255
Image Width : 300
Image Height : 199
Bits Per Sample : 8
Color Components : 3
Aperture : 2.8
Image Size : 300x199
Megapixels : 0.060
Scale Factor To 35 mm Equivalent : 1.5
Shutter Speed : 1/30
Circle Of Confusion : 0.020 mm
Depth Of Field : 0.016 m (0.292 - 0.308 m)
Field Of View : 53.1 deg
Focal Length : 24.0 mm (35 mm equivalent: 36.0 mm)
Hyperfocal Distance : 10.27 m
Light Value : 1.9