Uber Exif Photo
Make : Leica Camera AG
Camera Model Name : M9 Digital Camera
Software : Adobe Photoshop Lightroom 4.1 (Macintosh)
Modify Date : 2014:01:09 17:03:44
Exposure Time : 1/1000
F Number : 2.4
Exposure Program : Manual
ISO : 80
Date/Time Original : 2013:06:18 13:10:56
Create Date : 2013:06:18 13:10:56
Shutter Speed Value : 1/1000
Aperture Value : 2.4
Exposure Compensation : 0
Max Aperture Value : 2.0
Metering Mode : Center-weighted average
Light Source : Unknown
Flash : No Flash
Focal Length : 35.0 mm
Contrast : Normal
Sharpening : Normal
Saturation : Black & White
White Balance : Auto
JPEG Quality : Fine
WB RGB Levels : 0.5139272271 1 0.7182814555
User Profile : BW
JPEG Size : 5216x3472
Firmware Version : 1.196
Base ISO : 160
Sensor Width : 5270
Sensor Height : 3516
Sensor Bit Depth : 14
Camera Temperature : 34 C
Lens Type : Summicron-M 35mm f/2 ASPH.
Approximate F Number : 2.5
Measured LV : 7.23
External Sensor Brightness Value : 5.80
Scene Type : Directly photographed
Exposure Mode : Manual
Digital Zoom Ratio : 0
Focal Length In 35mm Format : 35 mm
Scene Capture Type : Standard
Serial Number : 3972134
Lens Model : Leica Summicron-M 35mm f/2 ASPH.
Maker Note Safety : Safe
Creator Tool : Adobe Photoshop Lightroom 4.1 (Macintosh)
Lens : Leica Summicron-M 35mm f/2 ASPH.
Date Created : 2013:06:18 13:10:56
Format : image/jpeg
Version : 7.1
Process Version : 6.7
Color Temperature : 7130
Tint : -10
Sharpness : 25
Luminance Smoothing : 0
Color Noise Reduction : 25
Vignette Amount : 0
Shadow Tint : 0
Red Hue : 0
Red Saturation : 0
Green Hue : 0
Green Saturation : 0
Blue Hue : 0
Blue Saturation : 0
Gray Mixer Red : -9
Gray Mixer Orange : -18
Gray Mixer Yellow : -22
Gray Mixer Green : -26
Gray Mixer Aqua : -18
Gray Mixer Blue : +9
Gray Mixer Purple : +15
Gray Mixer Magenta : +4
Split Toning Shadow Hue : 0
Split Toning Shadow Saturation : 0
Split Toning Highlight Hue : 0
Split Toning Highlight Saturation : 0
Split Toning Balance : 0
Parametric Shadows : 0
Parametric Darks : 0
Parametric Lights : 0
Parametric Highlights : 0
Parametric Shadow Split : 25
Parametric Midtone Split : 50
Parametric Highlight Split : 75
Sharpen Radius : +1.0
Sharpen Detail : 25
Sharpen Edge Masking : 0
Post Crop Vignette Amount : -11
Post Crop Vignette Midpoint : 50
Post Crop Vignette Feather : 50
Post Crop Vignette Roundness : 0
Post Crop Vignette Style : Highlight Priority
Post Crop Vignette Highlight Contrast : 0
Grain Amount : 0
Color Noise Reduction Detail : 50
Lens Profile Enable : 0
Lens Manual Distortion Amount : 0
Perspective Vertical : 0
Perspective Horizontal : 0
Perspective Rotate : 0.0
Perspective Scale : 100
Auto Lateral CA : 0
Exposure 2012 : +1.95
Contrast 2012 : +88
Highlights 2012 : -98
Shadows 2012 : 0
Whites 2012 : -72
Blacks 2012 : -41
Clarity 2012 : +90
Convert To Grayscale : True
Tone Curve Name 2012 : Linear
Camera Profile : Adobe Standard
Lens Profile Setup : LensDefaults
Has Settings : True
Crop Top : 0.111111
Crop Left : 0.33125
Crop Bottom : 1
Crop Right : 1
Crop Angle : 0
Crop Constrain To Warp : 0
Crop Width : 3486
Crop Height : 3083
Crop Unit : pixels
Has Crop : True
Already Applied : True
Tone Curve PV2012 : 0, 0, 255, 255
Tone Curve PV2012 Red : 0, 0, 255, 255
Tone Curve PV2012 Green : 0, 0, 255, 255
Tone Curve PV2012 Blue : 0, 0, 255, 255
Image Width : 300
Image Height : 265
Bits Per Sample : 8
Color Components : 1
Aperture : 2.4
Blue Balance : 0.718281
Image Size : 300x265
Lens ID : Leica Summicron-M 35mm f/2 ASPH.
Megapixels : 0.080
Red Balance : 0.513927
Scale Factor To 35 mm Equivalent : 1.0
Shutter Speed : 1/1000
Circle Of Confusion : 0.030 mm
Field Of View : 54.4 deg
Focal Length : 35.0 mm (35 mm equivalent: 35.0 mm)
Hyperfocal Distance : 16.99 m
Light Value : 12.8