Uber Exif Photo
Make : Leica Camera AG
Camera Model Name : M8 Digital Camera
Orientation : Horizontal (normal)
Software : Google Silver Efex Pro 2 2.2.20.456
Modify Date : 2015:01:02 00:26:52
Exposure Time : 1/90
F Number : 2.8
Exposure Program : Manual
ISO : 160
Date/Time Original : 2015:01:01 18:09:29
Shutter Speed Value : 1/90
Aperture Value : 2.8
Exposure Compensation : 0
Max Aperture Value : 2.0
Metering Mode : Center-weighted average
Light Source : Unknown
Flash : No Flash
Focal Length : 50.0 mm
Exif Image Width : 4000
Exif Image Height : 2209
Scene Type : Directly photographed
White Balance : Auto
Digital Zoom Ratio : 0
Focal Length In 35mm Format : 67 mm
Scene Capture Type : Standard
Serial Number : 3111683
Lens Model : Leica Summicron-M 50mm f/2 (IV, V)
Lens : Leica Summicron-M 50mm f/2 (IV, V)
Already Applied : True
Auto Lateral CA : 0
Blacks 2012 : +14
Blue Hue : 0
Blue Saturation : 0
Camera Profile : Camera Standard
Clarity 2012 : +37
Color Noise Reduction : 25
Color Noise Reduction Detail : 50
Contrast 2012 : +21
Convert To Grayscale : False
Crop Angle : -2.80721
Crop Bottom : 0.792535
Crop Constrain To Warp : 0
Crop Height : 2209
Crop Left : 0.181449
Crop Right : 1
Crop Top : 0.196378
Crop Unit : pixels
Crop Width : 4000
Defringe Green Amount : 0
Defringe Green Hue Hi : 60
Defringe Green Hue Lo : 40
Defringe Purple Amount : 0
Defringe Purple Hue Hi : 70
Defringe Purple Hue Lo : 30
Exposure 2012 : +0.95
Grain Amount : 0
Green Hue : 0
Green Saturation : 0
Has Crop : True
Has Settings : True
Highlights 2012 : -75
Hue Adjustment Aqua : 0
Hue Adjustment Blue : 0
Hue Adjustment Green : 0
Hue Adjustment Magenta : 0
Hue Adjustment Orange : 0
Hue Adjustment Purple : 0
Hue Adjustment Red : 0
Hue Adjustment Yellow : 0
Lens Manual Distortion Amount : 0
Lens Profile Enable : 0
Lens Profile Setup : LensDefaults
Luminance Adjustment Aqua : 0
Luminance Adjustment Blue : 0
Luminance Adjustment Green : 0
Luminance Adjustment Magenta : 0
Luminance Adjustment Orange : 0
Luminance Adjustment Purple : 0
Luminance Adjustment Red : 0
Luminance Adjustment Yellow : 0
Luminance Noise Reduction Contrast : 0
Luminance Noise Reduction Detail : 50
Luminance Smoothing : 37
Parametric Darks : +10
Parametric Highlight Split : 75
Parametric Highlights : 0
Parametric Lights : +18
Parametric Midtone Split : 50
Parametric Shadow Split : 25
Parametric Shadows : 0
Perspective Horizontal : 0
Perspective Rotate : 0.0
Perspective Scale : 100
Perspective Vertical : 0
Post Crop Vignette Amount : -12
Post Crop Vignette Feather : 50
Post Crop Vignette Highlight Contrast : 0
Post Crop Vignette Midpoint : 50
Post Crop Vignette Roundness : 0
Post Crop Vignette Style : Highlight Priority
Process Version : 6.7
Red Hue : 0
Red Saturation : 0
Saturation : 0
Saturation Adjustment Aqua : 0
Saturation Adjustment Blue : 0
Saturation Adjustment Green : 0
Saturation Adjustment Magenta : 0
Saturation Adjustment Orange : 0
Saturation Adjustment Purple : 0
Saturation Adjustment Red : 0
Saturation Adjustment Yellow : 0
Shadow Tint : 0
Shadows 2012 : -10
Sharpen Detail : 25
Sharpen Edge Masking : 0
Sharpen Radius : +1.0
Sharpness : 25
Split Toning Balance : 0
Split Toning Highlight Hue : 0
Split Toning Highlight Saturation : 0
Split Toning Shadow Hue : 0
Split Toning Shadow Saturation : 0
Color Temperature : 8700
Tint : +16
Tone Curve Name 2012 : Linear
Version : 7.4
Vibrance : 0
Vignette Amount : 0
Whites 2012 : +32
Format : image/jpeg
Create Date : 2015:01:01 18:09:29
Creator Tool : Google Silver Efex Pro 2 2.2.20.456
Date Created : 2015:01:01 18:09:29
Photographic Sensitivity : 160
Tone Curve PV2012 : 0, 0, 255, 255
Tone Curve PV2012 Blue : 0, 0, 255, 255
Tone Curve PV2012 Green : 0, 0, 255, 255
Tone Curve PV2012 Red : 0, 0, 255, 255
Image Width : 255
Image Height : 141
Bits Per Sample : 8
Color Components : 1
Aperture : 2.8
Image Size : 255x141
Megapixels : 0.036
Scale Factor To 35 mm Equivalent : 1.3
Shutter Speed : 1/90
Circle Of Confusion : 0.022 mm
Field Of View : 30.1 deg
Focal Length : 50.0 mm (35 mm equivalent: 67.0 mm)
Hyperfocal Distance : 39.82 m
Light Value : 8.8
Lens ID : Summicron-M 50mm f/2 (IV, V)