Uber Exif Photo
By-line : cedric muscat'12
Object Name : Reeds_503
Copyright Flag : True
Make : Leica Camera AG
Camera Model Name : M9 Digital Camera
Orientation : Horizontal (normal)
Software : Adobe Photoshop CS5 Macintosh
Modify Date : 2014:08:13 00:47:17
Artist : cedric muscat'12
Maker Note Safety : Safe
Exposure Time : 1/500
F Number : 8.0
Exposure Program : Manual
ISO : 400
Date/Time Original : 2012:04:14 15:06:17
Create Date : 2012:04:14 15:06:17
Shutter Speed Value : 1/500
Aperture Value : 8.0
Exposure Compensation : 0
Max Aperture Value : 2.0
Metering Mode : Center-weighted average
Light Source : Other
Flash : No Flash
Focal Length : 90.0 mm
Color Space : Uncalibrated
Exif Image Width : 1920
Exif Image Height : 1432
Scene Type : Directly photographed
Exposure Mode : Manual
White Balance : Manual
Digital Zoom Ratio : 0
Focal Length In 35mm Format : 90 mm
Scene Capture Type : Standard
Serial Number : 4254831
Lens Model : Leica Apo-Summicron-M 90mm f/2 ASPH.
Creator Tool : Adobe Photoshop CS5 Macintosh
Rating : 0
Lens : Leica Apo-Summicron-M 90mm f/2 ASPH.
Date Created : 2012:04:14 15:06:17
Color Mode : RGB
ICC Profile Name : eciRGB v2 ICCv4
Format : image/jpeg
Raw File Name : L1000503.DNG
Version : 6.7
Process Version : 5.7
Color Temperature : 5150
Tint : 0
Exposure : +1.10
Shadows : 15
Brightness : +25
Contrast : +85
Saturation : -100
Sharpness : 0
Luminance Smoothing : 10
Color Noise Reduction : 30
Vignette Amount : 0
Shadow Tint : +5
Red Hue : +5
Red Saturation : -5
Green Hue : +5
Green Saturation : -5
Blue Hue : -5
Blue Saturation : -10
Fill Light : 10
Vibrance : +40
Highlight Recovery : 0
Clarity : +45
Defringe : 2
Hue Adjustment Red : 0
Hue Adjustment Orange : 0
Hue Adjustment Yellow : 0
Hue Adjustment Green : 0
Hue Adjustment Aqua : 0
Hue Adjustment Blue : 0
Hue Adjustment Purple : 0
Hue Adjustment Magenta : 0
Saturation Adjustment Red : 0
Saturation Adjustment Orange : 0
Saturation Adjustment Yellow : 0
Saturation Adjustment Green : 0
Saturation Adjustment Aqua : 0
Saturation Adjustment Blue : 0
Saturation Adjustment Purple : 0
Saturation Adjustment Magenta : 0
Luminance Adjustment Red : 0
Luminance Adjustment Orange : 0
Luminance Adjustment Yellow : 0
Luminance Adjustment Green : 0
Luminance Adjustment Aqua : -3
Luminance Adjustment Blue : 0
Luminance Adjustment Purple : 0
Luminance Adjustment Magenta : 0
Split Toning Shadow Hue : 0
Split Toning Shadow Saturation : 0
Split Toning Highlight Hue : 0
Split Toning Highlight Saturation : 0
Split Toning Balance : 0
Parametric Shadows : 0
Parametric Darks : 0
Parametric Lights : 0
Parametric Highlights : +25
Parametric Shadow Split : 25
Parametric Midtone Split : 50
Parametric Highlight Split : 75
Sharpen Radius : +0.5
Sharpen Detail : 0
Sharpen Edge Masking : 1
Post Crop Vignette Amount : -25
Post Crop Vignette Midpoint : 70
Post Crop Vignette Feather : 100
Post Crop Vignette Roundness : -11
Post Crop Vignette Style : Highlight Priority
Post Crop Vignette Highlight Contrast : 5
Grain Amount : 0
Luminance Noise Reduction Detail : 50
Color Noise Reduction Detail : 30
Luminance Noise Reduction Contrast : 5
Lens Profile Enable : 1
Lens Manual Distortion Amount : 0
Perspective Vertical : 0
Perspective Horizontal : 0
Perspective Rotate : 0.0
Perspective Scale : 100
Auto Lateral CA : 1
Exposure 2012 : -0.25
Contrast 2012 : +47
Highlights 2012 : 0
Shadows 2012 : 0
Whites 2012 : -40
Blacks 2012 : -1
Clarity 2012 : +5
Convert To Grayscale : False
Tone Curve Name : Custom
Tone Curve Name 2012 : Custom
Camera Profile : Embedded
Lens Profile Setup : Custom
Lens Profile Name : Adobe (Leica SUMMARIT-S 1:2.5/35mm ASPH.)
Lens Profile Filename : Leica SUMMARIT-S 2.5 35 mm ASPH.lcp
Lens Profile Distortion Scale : 100
Lens Profile Chromatic Aberration Scale : 100
Lens Profile Vignetting Scale : 100
Has Settings : True
Crop Top : 0.114352
Crop Left : 0.118012
Crop Bottom : 0.894983
Crop Right : 0.814441
Crop Angle : 0
Crop Constrain To Warp : 1
Has Crop : True
Already Applied : True
Marked : True
Title : Reeds_503
Creator : cedric muscat'12
Tone Curve : 0, 0, 32, 16, 74, 52, 139, 130, 190, 197, 230, 244, 255, 255
Tone Curve Red : 0, 0, 255, 255
Tone Curve Green : 0, 0, 255, 255
Tone Curve Blue : 0, 0, 255, 255
Tone Curve PV2012 : 0, 0, 17, 18, 34, 34, 51, 48, 68, 62, 85, 78, 102, 94, 119, 112, 136, 130, 153, 149, 170, 168, 187, 187, 204, 205, 221, 222, 238, 239, 255, 255
Tone Curve PV2012 Red : 0, 0, 255, 255
Tone Curve PV2012 Green : 0, 0, 255, 255
Tone Curve PV2012 Blue : 0, 0, 255, 255
Image Width : 300
Image Height : 224
Bits Per Sample : 8
Color Components : 1
Aperture : 8.0
Image Size : 300x224
Megapixels : 0.067
Scale Factor To 35 mm Equivalent : 1.0
Shutter Speed : 1/500
Circle Of Confusion : 0.030 mm
Field Of View : 22.6 deg
Focal Length : 90.0 mm (35 mm equivalent: 90.0 mm)
Hyperfocal Distance : 33.70 m
Light Value : 13.0
Lens ID : Apo-Summicron-M 90mm f/2 ASPH.