Uber Exif Photo
Photometric Interpretation : RGB
Make : Leica Camera AG
Camera Model Name : M9 Digital Camera
Orientation : Horizontal (normal)
Planar Configuration : Chunky
Software : Adobe Photoshop CS5 Macintosh
Modify Date : 2013:04:09 22:48:31
Exposure Time : 1/1000
F Number : 4.0
Exposure Program : Aperture-priority AE
ISO : 160
Date/Time Original : 2013:04:07 11:52:57
Create Date : 2013:04:07 11:52:57
Shutter Speed Value : 1/1000
Aperture Value : 4.0
Exposure Compensation : -0.332
Max Aperture Value : 2.5
Metering Mode : Center-weighted average
Light Source : Other
Flash : No Flash
Focal Length : 75.0 mm
Color Space : sRGB
Exif Image Width : 1042
Exif Image Height : 694
Scene Type : Directly photographed
Exposure Mode : Manual
White Balance : Manual
Digital Zoom Ratio : 0
Focal Length In 35mm Format : 75 mm
Scene Capture Type : Standard
Serial Number : 4254831
Lens Model : Leica Summarit-M 75mm f/2.5
Creator Tool : Adobe Photoshop Lightroom 4.4 (Macintosh)
Lens : Leica Summarit-M 75mm f/2.5
Date Created : 2013:04:07 11:52:57
Color Mode : RGB
ICC Profile Name : sRGB IEC61966-2.1
Format : image/jpeg
Version : 7.4
Process Version : 6.7
Color Temperature : 4600
Tint : +12
Sharpness : 25
Luminance Smoothing : 0
Color Noise Reduction : 25
Vignette Amount : -80
Vignette Midpoint : 0
Shadow Tint : 0
Red Hue : 0
Red Saturation : 0
Green Hue : 0
Green Saturation : 0
Blue Hue : 0
Blue Saturation : 0
Gray Mixer Red : +34
Gray Mixer Orange : +8
Gray Mixer Yellow : -17
Gray Mixer Green : -69
Gray Mixer Aqua : +2
Gray Mixer Blue : -100
Gray Mixer Purple : +25
Gray Mixer Magenta : 0
Split Toning Shadow Hue : 0
Split Toning Shadow Saturation : 0
Split Toning Highlight Hue : 0
Split Toning Highlight Saturation : 0
Split Toning Balance : 0
Parametric Shadows : -33
Parametric Darks : +62
Parametric Lights : +7
Parametric Highlights : +10
Parametric Shadow Split : 25
Parametric Midtone Split : 50
Parametric Highlight Split : 75
Sharpen Radius : +1.0
Sharpen Detail : 25
Sharpen Edge Masking : 0
Post Crop Vignette Amount : -10
Post Crop Vignette Midpoint : 50
Post Crop Vignette Feather : 50
Post Crop Vignette Roundness : 0
Post Crop Vignette Style : Highlight Priority
Post Crop Vignette Highlight Contrast : 0
Grain Amount : 0
Color Noise Reduction Detail : 50
Lens Profile Enable : 1
Lens Manual Distortion Amount : 0
Perspective Vertical : 0
Perspective Horizontal : 0
Perspective Rotate : 0.0
Perspective Scale : 100
Auto Lateral CA : 0
Exposure 2012 : 0.00
Contrast 2012 : 0
Highlights 2012 : 0
Shadows 2012 : +15
Whites 2012 : 0
Blacks 2012 : +26
Clarity 2012 : +21
Convert To Grayscale : True
Tone Curve Name 2012 : Linear
Camera Profile : Adobe Standard
Lens Profile Setup : LensDefaults
Lens Profile Name : Adobe (Leica SUMMARIT-M 75 mm f/2.5)
Lens Profile Filename : Leica Camera AG (Leica SUMMARIT-M 75 mm f2.5) - RAW.lcp
Lens Profile Distortion Scale : 100
Lens Profile Chromatic Aberration Scale : 100
Lens Profile Vignetting Scale : 100
Has Settings : True
Has Crop : False
Already Applied : True
Tone Curve PV2012 : 0, 0, 255, 255
Tone Curve PV2012 Red : 0, 0, 255, 255
Tone Curve PV2012 Green : 0, 0, 255, 255
Tone Curve PV2012 Blue : 0, 0, 255, 255
Image Width : 300
Image Height : 200
Bits Per Sample : 8
Color Components : 1
Aperture : 4.0
Image Size : 300x200
Megapixels : 0.060
Scale Factor To 35 mm Equivalent : 1.0
Shutter Speed : 1/1000
Circle Of Confusion : 0.030 mm
Field Of View : 27.0 deg
Focal Length : 75.0 mm (35 mm equivalent: 75.0 mm)
Hyperfocal Distance : 46.80 m
Light Value : 13.3
Lens ID : Summarit-M 75mm f/2.5