Uber Exif Photo
Photometric Interpretation : RGB
Make : Leica Camera AG
Camera Model Name : M9 Digital Camera
Orientation : Horizontal (normal)
Planar Configuration : Chunky
Software : Adobe Photoshop CS5 Macintosh
Modify Date : 2013:03:30 17:03:31
Exposure Time : 1/1000
F Number : 2.4
Exposure Program : Manual
ISO : 160
Date/Time Original : 2013:03:27 16:01:18
Create Date : 2013:03:27 16:01:18
Shutter Speed Value : 1/1000
Aperture Value : 2.4
Exposure Compensation : -0.332
Max Aperture Value : 1.0
Metering Mode : Center-weighted average
Light Source : Other
Flash : No Flash
Color Space : sRGB
Exif Image Width : 1024
Exif Image Height : 738
Scene Type : Directly photographed
Exposure Mode : Manual
White Balance : Manual
Digital Zoom Ratio : 0
Scene Capture Type : Standard
Serial Number : 4254831
Profile Description : sRGB IEC61966-2.1
Creator Tool : Adobe Photoshop CS5 Macintosh
Date Created : 2013:03:27 16:01:18
Color Mode : RGB
ICC Profile Name : sRGB IEC61966-2.1
Format : image/jpeg
Version : 7.3
Process Version : 5.7
Color Temperature : 5245
Tint : +8
Exposure : +0.30
Shadows : 39
Brightness : +50
Contrast : +61
Saturation : -22
Sharpness : 30
Luminance Smoothing : 0
Color Noise Reduction : 25
Vignette Amount : 0
Shadow Tint : 0
Red Hue : 0
Red Saturation : 0
Green Hue : 0
Green Saturation : 0
Blue Hue : 0
Blue Saturation : 0
Fill Light : 0
Vibrance : +31
Highlight Recovery : 0
Clarity : +30
Hue Adjustment Red : 0
Hue Adjustment Orange : 0
Hue Adjustment Yellow : 0
Hue Adjustment Green : 0
Hue Adjustment Aqua : 0
Hue Adjustment Blue : 0
Hue Adjustment Purple : 0
Hue Adjustment Magenta : 0
Saturation Adjustment Red : 0
Saturation Adjustment Orange : 0
Saturation Adjustment Yellow : 0
Saturation Adjustment Green : 0
Saturation Adjustment Aqua : 0
Saturation Adjustment Blue : 0
Saturation Adjustment Purple : 0
Saturation Adjustment Magenta : 0
Luminance Adjustment Red : 0
Luminance Adjustment Orange : 0
Luminance Adjustment Yellow : 0
Luminance Adjustment Green : 0
Luminance Adjustment Aqua : 0
Luminance Adjustment Blue : 0
Luminance Adjustment Purple : 0
Luminance Adjustment Magenta : 0
Split Toning Shadow Hue : 0
Split Toning Shadow Saturation : 0
Split Toning Highlight Hue : 0
Split Toning Highlight Saturation : 0
Split Toning Balance : 0
Parametric Shadows : 0
Parametric Darks : 0
Parametric Lights : 0
Parametric Highlights : 0
Parametric Shadow Split : 25
Parametric Midtone Split : 50
Parametric Highlight Split : 75
Sharpen Radius : +0.5
Sharpen Detail : 30
Sharpen Edge Masking : 0
Post Crop Vignette Amount : 0
Grain Amount : 0
Color Noise Reduction Detail : 50
Lens Profile Enable : 0
Lens Manual Distortion Amount : 0
Perspective Vertical : 0
Perspective Horizontal : 0
Perspective Rotate : 0.0
Perspective Scale : 100
Auto Lateral CA : 0
Defringe Purple Amount : 0
Defringe Purple Hue Lo : 30
Defringe Purple Hue Hi : 70
Defringe Green Amount : 0
Defringe Green Hue Lo : 40
Defringe Green Hue Hi : 60
Convert To Grayscale : False
Tone Curve Name : Medium Contrast
Camera Profile : Ced_Adobe PofEdit_1
Lens Profile Setup : LensDefaults
Has Settings : True
Crop Top : 0
Crop Left : 0.159123
Crop Bottom : 0.91075
Crop Right : 1
Crop Angle : 0
Crop Constrain To Warp : 0
Crop Width : 4383
Crop Height : 3158
Crop Unit : pixels
Has Crop : True
Already Applied : True
Tone Curve : 0, 0, 32, 22, 64, 56, 128, 128, 192, 196, 255, 255
Tone Curve Red : 0, 0, 255, 255
Tone Curve Green : 0, 0, 255, 255
Tone Curve Blue : 0, 0, 255, 255
Paint Correction What : Correction
Paint Correction Amount : 1.000000
Paint Correction Active : true
Paint Correction Exposure : -0.369853
Paint Correction Saturation : 0.000000
Paint Correction Contrast : 0.000000
Paint Correction Clarity : 0.000000
Paint Correction Sharpness : 0.000000
Paint Correction Brightness : 0.000000
Paint Correction Toning Hue : 280.000000
Paint Correction Toning Saturation : 0.000000
Paint Correction Mask What : Mask/Paint
Paint Correction Mask Value : 0.303341
Paint Correction Mask Radius : 0.068210
Paint Correction Mask Flow : 0.798995
Paint Correction Mask Center Weight : 0.107492
Image Width : 300
Image Height : 216
Bits Per Sample : 8
Color Components : 3
Aperture : 2.4
Image Size : 300x216
Megapixels : 0.065
Scale Factor To 35 mm Equivalent : 5.0
Shutter Speed : 1/1000
Circle Of Confusion : 0.006 mm
Light Value : 11.8