Uber Exif Photo
Photometric Interpretation : RGB
Make : Leica Camera AG
Camera Model Name : M9 Digital Camera
Orientation : Horizontal (normal)
Planar Configuration : Chunky
Software : Adobe Photoshop CS5 Macintosh
Modify Date : 2013:12:09 14:31:36
Exposure Time : 1/45
F Number : 2.4
Exposure Program : Manual
ISO : 80
Date/Time Original : 2013:12:06 16:43:16
Create Date : 2013:12:06 16:43:16
Shutter Speed Value : 1/45
Aperture Value : 2.4
Exposure Compensation : -1.33
Max Aperture Value : 1.0
Metering Mode : Center-weighted average
Light Source : Other
Flash : No Flash
Color Space : Uncalibrated
Exif Image Width : 1920
Exif Image Height : 1277
Scene Type : Directly photographed
Exposure Mode : Manual
White Balance : Manual
Digital Zoom Ratio : 0
Scene Capture Type : Standard
Serial Number : 4254831
Profile Description : eciRGB v2 ICCv4
Creator Tool : Adobe Photoshop Lightroom 4.4 (Macintosh)
Date Created : 2013:12:06 16:43:16
Color Mode : RGB
ICC Profile Name : eciRGB v2 ICCv4
Format : image/jpeg
Version : 7.4
Process Version : 6.7
Color Temperature : 4600
Tint : +15
Saturation : +10
Sharpness : 0
Luminance Smoothing : 0
Color Noise Reduction : 25
Vignette Amount : 0
Shadow Tint : 0
Red Hue : 0
Red Saturation : 0
Green Hue : 0
Green Saturation : 0
Blue Hue : 0
Blue Saturation : 0
Vibrance : +23
Hue Adjustment Red : 0
Hue Adjustment Orange : 0
Hue Adjustment Yellow : 0
Hue Adjustment Green : 0
Hue Adjustment Aqua : 0
Hue Adjustment Blue : 0
Hue Adjustment Purple : 0
Hue Adjustment Magenta : 0
Saturation Adjustment Red : 0
Saturation Adjustment Orange : 0
Saturation Adjustment Yellow : 0
Saturation Adjustment Green : 0
Saturation Adjustment Aqua : 0
Saturation Adjustment Blue : 0
Saturation Adjustment Purple : 0
Saturation Adjustment Magenta : 0
Luminance Adjustment Red : 0
Luminance Adjustment Orange : 0
Luminance Adjustment Yellow : 0
Luminance Adjustment Green : 0
Luminance Adjustment Aqua : 0
Luminance Adjustment Blue : 0
Luminance Adjustment Purple : 0
Luminance Adjustment Magenta : 0
Split Toning Shadow Hue : 0
Split Toning Shadow Saturation : 0
Split Toning Highlight Hue : 0
Split Toning Highlight Saturation : 0
Split Toning Balance : 0
Parametric Shadows : 0
Parametric Darks : 0
Parametric Lights : 0
Parametric Highlights : 0
Parametric Shadow Split : 25
Parametric Midtone Split : 50
Parametric Highlight Split : 75
Sharpen Radius : +0.5
Sharpen Detail : 0
Sharpen Edge Masking : 0
Post Crop Vignette Amount : 0
Grain Amount : 0
Color Noise Reduction Detail : 50
Lens Profile Enable : 1
Lens Manual Distortion Amount : 0
Perspective Vertical : 0
Perspective Horizontal : 0
Perspective Rotate : 0.0
Perspective Scale : 100
Auto Lateral CA : 1
Exposure 2012 : -0.45
Contrast 2012 : +100
Highlights 2012 : -68
Shadows 2012 : -100
Whites 2012 : 0
Blacks 2012 : 0
Clarity 2012 : +26
Defringe Purple Amount : 1
Defringe Purple Hue Lo : 30
Defringe Purple Hue Hi : 70
Defringe Green Amount : 1
Defringe Green Hue Lo : 40
Defringe Green Hue Hi : 60
Convert To Grayscale : False
Tone Curve Name 2012 : Medium Contrast
Camera Profile : Adobe Standard
Lens Profile Setup : Custom
Lens Profile Name : Adobe (Leica APO-SUMMICRON-M 50 mm f/2 ASPH.)
Lens Profile Filename : Leica Camera AG (Leica APO-SUMMICRON-M 50 mm f2 ASPH.) - RAW.lcp
Lens Profile Distortion Scale : 100
Lens Profile Chromatic Aberration Scale : 100
Lens Profile Vignetting Scale : 100
Has Settings : True
Crop Top : 0.078654
Crop Left : 0.083275
Crop Bottom : 0.986188
Crop Right : 0.990809
Crop Angle : 0
Crop Constrain To Warp : 0
Crop Width : 4730
Crop Height : 3147
Crop Unit : pixels
Has Crop : True
Already Applied : True
Tone Curve PV2012 : 0, 0, 32, 22, 64, 56, 128, 128, 192, 196, 255, 255
Tone Curve PV2012 Red : 0, 0, 255, 255
Tone Curve PV2012 Green : 0, 0, 255, 255
Tone Curve PV2012 Blue : 0, 0, 255, 255
Gradient Based Corr What : Correction
Gradient Based Corr Amount : 1.000000
Gradient Based Corr Active : true
Gradient Based Corr Saturation : -1.000000
Gradient Based Corr Sharpness : 0.000000
Gradient Based Corr Brightness : 1.000000
Gradient Based Corr Toning Hue : 302.000000
Gradient Based Corr Toning Saturation : 0.000000
Gradient Based Corr Exposure 2012 : -0.147243
Gradient Based Corr Contrast 2012 : 0.000000
Gradient Based Corr Highlights 2012 : -1.000000
Gradient Based Corr Shadows 2012 : 0.000000
Gradient Based Corr Clarity 2012 : 0.000000
Gradient Based Corr Luminance Noise : 0.000000
Gradient Based Corr Moire : 0.000000
Gradient Based Corr Defringe : 0.000000
Gradient Based Corr Temperature : -0.436489
Gradient Based Corr Tint : 0.000000
Gradient Based Corr Mask What : Mask/Gradient
Gradient Based Corr Mask Value : 1.000000
Gradient Based Corr Mask Zero X : 0.546886
Gradient Based Corr Mask Zero Y : 0.872062
Gradient Based Corr Mask Full X : 0.546889
Gradient Based Corr Mask Full Y : 0.984508
Image Width : 300
Image Height : 200
Bits Per Sample : 8
Color Components : 3
Aperture : 2.4
Image Size : 300x200
Megapixels : 0.060
Scale Factor To 35 mm Equivalent : 2.7
Shutter Speed : 1/45
Circle Of Confusion : 0.011 mm
Light Value : 8.3