Uber Exif Photo
Photometric Interpretation : RGB
Make : Leica Camera AG
Camera Model Name : M9 Digital Camera
Orientation : Horizontal (normal)
Planar Configuration : Chunky
Software : Adobe Photoshop CS5 Macintosh
Modify Date : 2013:10:13 22:05:57
Exposure Time : 1/250
F Number : 4.8
Exposure Program : Aperture-priority AE
ISO : 160
Date/Time Original : 2013:08:04 11:02:34
Create Date : 2013:08:04 11:02:34
Shutter Speed Value : 1/250
Aperture Value : 4.8
Exposure Compensation : -0.664
Max Aperture Value : 2.0
Metering Mode : Center-weighted average
Light Source : Other
Flash : No Flash
Focal Length : 35.0 mm
Color Space : Uncalibrated
Exif Image Width : 1200
Exif Image Height : 798
Scene Type : Directly photographed
Exposure Mode : Manual
White Balance : Manual
Digital Zoom Ratio : 0
Focal Length In 35mm Format : 35 mm
Scene Capture Type : Standard
Serial Number : 4254831
Lens Model : Leica Summicron-M 35mm f/2 ASPH.
Profile Description : eciRGB v2 ICCv4
Creator Tool : Adobe Photoshop Lightroom 4.4 (Macintosh)
Lens : Leica Summicron-M 35mm f/2 ASPH.
Date Created : 2013:08:04 11:02:34
Color Mode : RGB
ICC Profile Name : eciRGB v2 ICCv4
Format : image/jpeg
Version : 7.4
Process Version : 6.7
Color Temperature : 4800
Tint : +15
Saturation : +5
Sharpness : 10
Luminance Smoothing : 0
Color Noise Reduction : 25
Vignette Amount : 0
Shadow Tint : 0
Red Hue : 0
Red Saturation : -34
Green Hue : 0
Green Saturation : 0
Blue Hue : 0
Blue Saturation : +63
Vibrance : +31
Hue Adjustment Red : 0
Hue Adjustment Orange : 0
Hue Adjustment Yellow : 0
Hue Adjustment Green : 0
Hue Adjustment Aqua : 0
Hue Adjustment Blue : 0
Hue Adjustment Purple : 0
Hue Adjustment Magenta : 0
Saturation Adjustment Red : 0
Saturation Adjustment Orange : 0
Saturation Adjustment Yellow : 0
Saturation Adjustment Green : 0
Saturation Adjustment Aqua : 0
Saturation Adjustment Blue : 0
Saturation Adjustment Purple : 0
Saturation Adjustment Magenta : 0
Luminance Adjustment Red : 0
Luminance Adjustment Orange : 0
Luminance Adjustment Yellow : 0
Luminance Adjustment Green : 0
Luminance Adjustment Aqua : 0
Luminance Adjustment Blue : 0
Luminance Adjustment Purple : 0
Luminance Adjustment Magenta : 0
Split Toning Shadow Hue : 0
Split Toning Shadow Saturation : 0
Split Toning Highlight Hue : 0
Split Toning Highlight Saturation : 0
Split Toning Balance : 0
Parametric Shadows : 0
Parametric Darks : 0
Parametric Lights : 0
Parametric Highlights : 0
Parametric Shadow Split : 25
Parametric Midtone Split : 50
Parametric Highlight Split : 75
Sharpen Radius : +0.5
Sharpen Detail : 10
Sharpen Edge Masking : 0
Post Crop Vignette Amount : 0
Grain Amount : 0
Color Noise Reduction Detail : 50
Lens Profile Enable : 1
Lens Manual Distortion Amount : 0
Perspective Vertical : 0
Perspective Horizontal : 0
Perspective Rotate : 0.0
Perspective Scale : 100
Auto Lateral CA : 1
Exposure 2012 : +0.35
Contrast 2012 : +41
Highlights 2012 : 0
Shadows 2012 : +20
Whites 2012 : 0
Blacks 2012 : +20
Clarity 2012 : +30
Defringe Purple Amount : 0
Defringe Purple Hue Lo : 30
Defringe Purple Hue Hi : 70
Defringe Green Amount : 0
Defringe Green Hue Lo : 40
Defringe Green Hue Hi : 60
Convert To Grayscale : False
Tone Curve Name 2012 : Medium Contrast
Camera Profile : Embedded
Lens Profile Setup : Custom
Lens Profile Name : Adobe (Leica APO-SUMMICRON-M 50 mm f/2 ASPH.)
Lens Profile Filename : Leica Camera AG (Leica APO-SUMMICRON-M 50 mm f2 ASPH.) - RAW.lcp
Lens Profile Distortion Scale : 100
Lens Profile Chromatic Aberration Scale : 100
Lens Profile Vignetting Scale : 100
Has Settings : True
Has Crop : False
Already Applied : True
Tone Curve PV2012 : 0, 0, 32, 22, 64, 56, 128, 128, 192, 196, 255, 255
Tone Curve PV2012 Red : 0, 0, 255, 255
Tone Curve PV2012 Green : 0, 0, 255, 255
Tone Curve PV2012 Blue : 0, 0, 255, 255
Image Width : 300
Image Height : 200
Bits Per Sample : 8
Color Components : 3
Aperture : 4.8
Image Size : 300x200
Megapixels : 0.060
Scale Factor To 35 mm Equivalent : 1.0
Shutter Speed : 1/250
Circle Of Confusion : 0.030 mm
Field Of View : 54.4 deg
Focal Length : 35.0 mm (35 mm equivalent: 35.0 mm)
Hyperfocal Distance : 8.49 m
Light Value : 11.8
Lens ID : Summicron-M 35mm f/2 ASPH.