Uber Exif Photo
Object Name : Gegiebel - gableing
Keywords : Bensheim
By-line : Peter Conzelmann
Sub-location : Gerbergasse, Bensheim, Germany
Country-Primary Location Name : Germany
Copyright Notice : Peter Conzelmann 2021
Caption-Abstract : Hospitalkirche St. Joseph, Bensheim
Copyright Flag : True
Image Description : Hospitalkirche St. Joseph, Bensheim
Make : LEICA CAMERA AG
Camera Model Name : LEICA Q2
Software : Adobe Photoshop Lightroom Classic 9.4 (Macintosh)
Modify Date : 2021:05:26 14:53:07
Artist : Peter Conzelmann
Copyright : Peter Conzelmann 2021
Exposure Time : 1/640
F Number : 5.6
Exposure Program : Aperture-priority AE
ISO : 100
Sensitivity Type : Standard Output Sensitivity
Standard Output Sensitivity : 100
Date/Time Original : 2021:05:05 12:10:39
Create Date : 2021:05:05 12:10:39
Shutter Speed Value : 1/640
Aperture Value : 5.6
Exposure Compensation : -0.3
Max Aperture Value : 1.7
Metering Mode : Multi-segment
Light Source : Unknown
Flash : Off, Did not fire
Focal Length : 28.0 mm
Color Space : sRGB
Exif Image Width : 4334
Exif Image Height : 2700
Sensing Method : One-chip color area
Custom Rendered : Normal
White Balance : Auto
Digital Zoom Ratio : 1
Focal Length In 35mm Format : 28 mm
Scene Capture Type : Standard
Contrast : Normal
Saturation : Normal
Sharpness : Normal
Serial Number : 5355351
Lens Info : 28mm f/1.53125-2.97265625
Lens Model : SUMMILUX 1:1.7/28 ASPH.
Lens Serial Number : N/A
Profile Description : sRGB IEC61966-2.1
Creator Country : Germany
Creator Work Email : peterconzelmann@web.de
Location : Gerbergasse, Bensheim, Germany
Distortion Correction Already Applied : True
Lateral Chromatic Aberration Correction Already Applied : True
Lens : SUMMILUX 1:1.7/28 ASPH.
Creator : Peter Conzelmann
Description : Hospitalkirche St. Joseph, Bensheim
Format : image/jpeg
Rights : Peter Conzelmann 2021
Subject : Bensheim
Title : Gegiebel - gableing
City : Bensheim
Country : Germany
Date Created : 2021:05:05 12:10:39+02:00
Headline : A pit stop at Bensheim
Creator Tool : Adobe Photoshop Lightroom Classic 9.4 (Macintosh)
Label : Bensheim
Preserved File Name : L1000021.DNG
Marked : True
Already Applied : True
Auto Lateral CA : 0
Blacks 2012 : 0
Blue Hue : 0
Blue Saturation : 0
Camera Profile : Embedded
Clarity 2012 : +45
Color Noise Reduction : 0
Contrast 2012 : 0
Convert To Grayscale : False
Crop Angle : 0
Crop Bottom : 0.955078
Crop Constrain To Warp : 0
Crop Left : 0.067276
Crop Right : 0.976727
Crop Top : 0.044816
Defringe Green Amount : 0
Defringe Green Hue Hi : 60
Defringe Green Hue Lo : 40
Defringe Purple Amount : 0
Defringe Purple Hue Hi : 70
Defringe Purple Hue Lo : 30
Dehaze : +22
Exposure 2012 : 0.00
Grain Amount : 0
Green Hue : 0
Green Saturation : 0
Has Crop : True
Has Settings : True
Highlights 2012 : 0
Hue Adjustment Aqua : 0
Hue Adjustment Blue : 0
Hue Adjustment Green : 0
Hue Adjustment Magenta : 0
Hue Adjustment Orange : 0
Hue Adjustment Purple : 0
Hue Adjustment Red : 0
Hue Adjustment Yellow : 0
Incremental Temperature : 0
Incremental Tint : 0
Lens Manual Distortion Amount : 0
Lens Profile Enable : 0
Lens Profile Setup : LensDefaults
Look Name : Luminance Adjustment Aqua : 0
Luminance Adjustment Blue : 0
Luminance Adjustment Green : 0
Luminance Adjustment Magenta : 0
Luminance Adjustment Orange : 0
Luminance Adjustment Purple : 0
Luminance Adjustment Red : 0
Luminance Adjustment Yellow : 0
Luminance Noise Reduction Contrast : 0
Luminance Noise Reduction Detail : 50
Luminance Smoothing : 27
Override Look Vignette : False
Parametric Darks : +12
Parametric Highlight Split : 75
Parametric Highlights : 0
Parametric Lights : 0
Parametric Midtone Split : 50
Parametric Shadow Split : 25
Parametric Shadows : +11
Perspective Aspect : 0
Perspective Horizontal : 0
Perspective Rotate : +2.4
Perspective Scale : 100
Perspective Upright : Off
Perspective Vertical : 0
Perspective X : 0.00
Perspective Y : 0.00
Post Crop Vignette Amount : 0
Process Version : 11.0
Raw File Name : Red Hue : 0
Red Saturation : 0
Saturation Adjustment Aqua : -7
Saturation Adjustment Blue : -15
Saturation Adjustment Green : 0
Saturation Adjustment Magenta : 0
Saturation Adjustment Orange : +14
Saturation Adjustment Purple : 0
Saturation Adjustment Red : +15
Saturation Adjustment Yellow : 0
Shadow Tint : 0
Shadows 2012 : 0
Sharpen Detail : 25
Sharpen Edge Masking : 20
Sharpen Radius : +1.0
Split Toning Balance : 0
Split Toning Highlight Hue : 0
Split Toning Highlight Saturation : 0
Split Toning Shadow Hue : 0
Split Toning Shadow Saturation : 0
Texture : +8
Tone Curve : 0, 0, 255, 255
Tone Curve Blue : 0, 0, 255, 255
Tone Curve Green : 0, 0, 255, 255
Tone Curve Name : Linear
Tone Curve Name 2012 : Linear
Tone Curve PV2012 : 0, 0, 255, 255
Tone Curve PV2012 Blue : 0, 0, 255, 255
Tone Curve PV2012 Green : 0, 0, 255, 255
Tone Curve PV2012 Red : 0, 0, 255, 255
Tone Curve Red : 0, 0, 255, 255
Tone Map Strength : 0
Version : 12.4
Vibrance : +16
Vignette Amount : 0
Whites 2012 : 0
Image Width : 400
Image Height : 249
Bits Per Sample : 8
Color Components : 3
Aperture : 5.6
Image Size : 400x249
Megapixels : 0.100
Scale Factor To 35 mm Equivalent : 1.0
Shutter Speed : 1/640
Create Date : 2021:05:05 12:10:39+02:00
Modify Date : 2021:05:26 14:53:07+02:00
Circle Of Confusion : 0.030 mm
Field Of View : 65.5 deg
Focal Length : 28.0 mm (35 mm equivalent: 28.0 mm)
Hyperfocal Distance : 4.66 m
Light Value : 14.3