Uber Exif Photo
By-line : peterconzelmann@web.de
Object Name : crooked alley
Sub-location : untere Berggasse, Bad Bergzabern, Germany
Caption-Abstract : ver 1.bearbeitet mit Luminar 4
Copyright Notice : Peter Conzelmann 2020
Image Description : ver 1.bearbeitet mit Luminar 4
Make : LEICA CAMERA AG
Camera Model Name : LEICA Q2
Orientation : Horizontal (normal)
Software : Adobe Photoshop Lightroom Classic 9.4 (Macintosh)
Modify Date : 2020:10:18 14:37:04
Artist : peterconzelmann@web.de
Copyright : Peter Conzelmann 2020
Exposure Time : 1/80
F Number : 5.6
Exposure Program : Aperture-priority AE
ISO : 100
Sensitivity Type : Standard Output Sensitivity
Standard Output Sensitivity : 100
Date/Time Original : 2020:10:09 16:41:59
Create Date : 2020:10:09 16:41:59
Shutter Speed Value : 1/80
Aperture Value : 5.6
Exposure Compensation : -1.3
Max Aperture Value : 1.7
Metering Mode : Multi-segment
Light Source : Unknown
Flash : Off, Did not fire
Focal Length : 28.0 mm
Color Space : sRGB
Exif Image Width : 8218
Exif Image Height : 5501
Sensing Method : One-chip color area
Custom Rendered : Normal
White Balance : Auto
Digital Zoom Ratio : 1
Focal Length In 35mm Format : 28 mm
Scene Capture Type : Standard
Contrast : Normal
Saturation : Normal
Sharpness : Normal
Serial Number : 5355351
Lens Info : 28mm f/1.53125-2.97265625
Lens Model : SUMMILUX 1:1.7/28 ASPH.
Lens Serial Number : N/A
Perspective Y : 0.00
Hue Adjustment Yellow : 0
Hue Adjustment Purple : 0
Perspective X : 0.00
Camera Profile : Embedded
Color Noise Reduction : 0
Split Toning Highlight Saturation : 0
Clarity 2012 : +12
Perspective Aspect : 0
Grain Amount : 0
Saturation Adjustment Orange : 0
Incremental Tint : -11
Perspective Horizontal : 0
Saturation Adjustment Red : 0
Luminance Adjustment Magenta : 0
Sharpen Radius : +1.0
Split Toning Balance : 0
Green Hue : 0
Luminance Adjustment Blue : 0
Shadow Tint : 0
Luminance Noise Reduction Contrast : 0
Saturation Adjustment Purple : 0
Crop Angle : 0
Contrast 2012 : +25
Red Saturation : 0
Already Applied : True
Hue Adjustment Aqua : 0
Red Hue : 0
Defringe Purple Hue Hi : 70
Split Toning Shadow Hue : 0
Saturation Adjustment Yellow : 0
Crop Right : 0.991121
Defringe Purple Amount : 0
Defringe Green Hue Hi : 60
Has Crop : True
Tone Curve Name 2012 : Linear
Crop Bottom : 0.992335
Lens Profile Setup : LensDefaults
Blue Hue : 0
Override Look Vignette : False
Luminance Smoothing : 25
Perspective Scale : 100
Luminance Noise Reduction Detail : 50
Defringe Green Hue Lo : 40
Perspective Vertical : 0
Defringe Green Amount : 0
Blue Saturation : 0
Luminance Adjustment Green : 0
Green Saturation : 0
Tone Curve Name : Linear
Parametric Highlight Split : 75
Split Toning Shadow Saturation : 0
Hue Adjustment Green : 0
Tone Map Strength : 0
Luminance Adjustment Orange : 0
Saturation Adjustment Magenta : 0
Version : 12.4
Convert To Grayscale : False
Hue Adjustment Magenta : 0
Shadows 2012 : +42
Luminance Adjustment Red : 0
Perspective Upright : Off
Hue Adjustment Red : 0
Post Crop Vignette Amount : 0
Parametric Shadows : 0
Highlights 2012 : 0
Luminance Adjustment Aqua : 0
Luminance Adjustment Purple : 0
Saturation Adjustment Aqua : 0
Auto Lateral CA : 0
Sharpen Detail : 25
Saturation Adjustment Green : 0
Luminance Adjustment Yellow : 0
Dehaze : +45
Texture : +17
Hue Adjustment Orange : 0
Crop Constrain To Warp : 0
Defringe Purple Hue Lo : 30
Parametric Highlights : 0
Parametric Darks : 0
Has Settings : True
Vibrance : -1
Parametric Shadow Split : 25
Saturation Adjustment Blue : 0
Parametric Lights : 0
Lens Manual Distortion Amount : 0
Crop Top : 0.007223
Process Version : 11.0
Exposure 2012 : +0.15
Parametric Midtone Split : 50
Split Toning Highlight Hue : 0
Whites 2012 : 0
Lens Profile Enable : 0
Incremental Temperature : -11
Blacks 2012 : +28
Sharpen Edge Masking : 0
Hue Adjustment Blue : 0
Vignette Amount : 0
Perspective Rotate : +0.3
Crop Left : 0.009093
Date Created : 2020:10:09 16:41:59+02:00
Distortion Correction Already Applied : True
Lateral Chromatic Aberration Correction Already Applied : True
Lens : SUMMILUX 1:1.7/28 ASPH.
Format : image/jpeg
Preserved File Name : L1000933.DNG
Location : untere Berggasse, Bad Bergzabern, Germany
Creator Tool : Adobe Photoshop Lightroom Classic 9.4 (Macintosh)
Marked : True
Tone Curve Blue : 0, 0, 255, 255
Tone Curve Red : 0, 0, 255, 255
Look Name : Tone Curve PV2012 Blue : 0, 0, 255, 255
Tone Curve : 0, 0, 255, 255
Tone Curve Green : 0, 0, 255, 255
Tone Curve PV2012 Red : 0, 0, 255, 255
Tone Curve PV2012 Green : 0, 0, 255, 255
Tone Curve PV2012 : 0, 0, 255, 255
Title : crooked alley
Description : ver 1.bearbeitet mit Luminar 4
Rights : Peter Conzelmann 2020
Creator : peterconzelmann@web.de
Image Width : 400
Image Height : 268
Bits Per Sample : 8
Color Components : 3
Aperture : 5.6
Image Size : 400x268
Megapixels : 0.107
Scale Factor To 35 mm Equivalent : 1.0
Shutter Speed : 1/80
Create Date : 2020:10:09 16:41:59+02:00
Modify Date : 2020:10:18 14:37:04+02:00
Circle Of Confusion : 0.030 mm
Field Of View : 65.5 deg
Focal Length : 28.0 mm (35 mm equivalent: 28.0 mm)
Hyperfocal Distance : 4.66 m
Light Value : 11.3