Uber Exif Photo
Object Name : The Cool People
Sub-location : City Park
Province-State : Louisiana
Country-Primary Location Name : United States of America
Make : Zeiss
Camera Model Name : Zeiss Ikon
Software : Adobe Photoshop Lightroom 3.4.1
Modify Date : 2011:09:08 07:29:02
Exposure Time : 1/125
F Number : 8.0
ISO : 160
Create Date : 2010:10:23 13:00:00
Shutter Speed Value : 1/125
Aperture Value : 8.0
Flash : Off, Did not fire
Focal Length : 35.0 mm
Lens Model : Zeiss 35mm f/2.0 T* ZM Biogon
Profile Description : sRGB IEC61966-2.1
Lens : Zeiss 35mm f/2.0 T* ZM Biogon
Date Created : 2010:10:23
City : New Orleans
State : Louisiana
Country : United States of America
Source : Kodak Portra 160VC
Location : City Park
Creator Tool : Adobe Photoshop Lightroom 3.4.1
Rating : 1
Version : 6.4.1
Process Version : 5.7
White Balance : Auto
Incremental Temperature : -18
Incremental Tint : -12
Exposure : 0.00
Shadows : 0
Brightness : +25
Contrast : 0
Saturation : 0
Sharpness : 0
Luminance Smoothing : 0
Color Noise Reduction : 0
Chromatic Aberration R : 0
Chromatic Aberration B : 0
Vignette Amount : 0
Shadow Tint : 0
Red Hue : 0
Red Saturation : 0
Green Hue : 0
Green Saturation : 0
Blue Hue : 0
Blue Saturation : 0
Fill Light : 43
Vibrance : 0
Highlight Recovery : 69
Clarity : +29
Defringe : 0
Hue Adjustment Red : 0
Hue Adjustment Orange : 0
Hue Adjustment Yellow : 0
Hue Adjustment Green : 0
Hue Adjustment Aqua : 0
Hue Adjustment Blue : 0
Hue Adjustment Purple : 0
Hue Adjustment Magenta : 0
Saturation Adjustment Red : 0
Saturation Adjustment Orange : 0
Saturation Adjustment Yellow : 0
Saturation Adjustment Green : +14
Saturation Adjustment Aqua : 0
Saturation Adjustment Blue : 0
Saturation Adjustment Purple : 0
Saturation Adjustment Magenta : 0
Luminance Adjustment Red : 0
Luminance Adjustment Orange : 0
Luminance Adjustment Yellow : 0
Luminance Adjustment Green : 0
Luminance Adjustment Aqua : 0
Luminance Adjustment Blue : 0
Luminance Adjustment Purple : 0
Luminance Adjustment Magenta : 0
Split Toning Shadow Hue : 0
Split Toning Shadow Saturation : 0
Split Toning Highlight Hue : 0
Split Toning Highlight Saturation : 0
Split Toning Balance : 0
Parametric Shadows : 0
Parametric Darks : 0
Parametric Lights : 0
Parametric Highlights : 0
Parametric Shadow Split : 25
Parametric Midtone Split : 50
Parametric Highlight Split : 75
Sharpen Radius : +1.0
Sharpen Detail : 25
Sharpen Edge Masking : 0
Post Crop Vignette Amount : 0
Grain Amount : 0
Lens Profile Enable : 0
Lens Manual Distortion Amount : 0
Perspective Vertical : 0
Perspective Horizontal : 0
Perspective Rotate : 0.0
Perspective Scale : 100
Convert To Grayscale : False
Tone Curve Name : Linear
Camera Profile : Embedded
Lens Profile Setup : LensDefaults
Has Settings : True
Has Crop : False
Already Applied : True
Title : The Cool People
Tone Curve : 0, 0, 255, 255
Image Width : 300
Image Height : 199
Bits Per Sample : 8
Color Components : 3
Aperture : 8.0
Image Size : 300x199
Megapixels : 0.060
Shutter Speed : 1/125
Light Value : 12.3
Lens ID : Zeiss 35mm f/2.0 T* ZM Biogon