Uber Exif Photo
Make : LEICA CAMERA AG
Camera Model Name : LEICA Q (Typ 116)
Software : Adobe Photoshop Lightroom Classic 9.2.1 (Macintosh)
Modify Date : 2020:05:01 15:22:01
Artist : Francis DeRespinis
Copyright : © 2018 Francis DeRespinis. All Rights Reserved.
Exposure Time : 1/60
F Number : 3.5
Exposure Program : Aperture-priority AE
ISO : 1600
Date/Time Original : 2018:01:24 20:47:20
Create Date : 2018:01:24 20:47:20
Shutter Speed Value : 1/60
Aperture Value : 3.5
Exposure Compensation : -1.3
Max Aperture Value : 1.7
Metering Mode : Multi-segment
Light Source : Unknown
Flash : Off, Did not fire
Focal Length : 28.0 mm
User Comment : Silver Efex My preset Full Dyn Smooth Agfa 400 w 500 gr and w yellow filter BUT based on better color one
Color Space : sRGB
Sensing Method : One-chip color area
White Balance : Auto
Digital Zoom Ratio : 1
Focal Length In 35mm Format : 28 mm
Scene Capture Type : Standard
Contrast : Normal
Saturation : Normal
Sharpness : Normal
Serial Number : 4976914
Lens Info : 28mm f/1.53125
Lens Model : 28.0 mm f/1.7
Lens Serial Number : N/A
Keywords : B&W / Monochrome, Female, Leica, People, Travel, city, urban
Special Instructions : © 2018Francis DeRespinis. All Rights Reserved For Usage and fees, please email at franman (at) mindspring (dot) com or contact me at 1-919-233-1764 before 9:00 PM EST
By-line : Francis DeRespinis
Copyright Notice : © 2018 Francis DeRespinis. All Rights Reserved.
Copyright Flag : True
Profile Description : sRGB IEC61966-2.1
Distortion Correction Already Applied : True
Lateral Chromatic Aberration Correction Already Applied : True
Lens : 28.0 mm f/1.7
Format : image/jpeg
Creator Tool : Adobe Photoshop Lightroom Classic 9.2.1 (Macintosh)
Rating : 4
Photographic Sensitivity : 1600
Credit : © 2018 Francis DeRespinis. All Rights Reserved
Date Created : 2018:01:24 20:47:20
Instructions : © 2018Francis DeRespinis. All Rights Reserved For Usage and fees, please email at franman (at) mindspring (dot) com or contact me at 1-919-233-1764 before 9:00 PM EST
Source : Francis DeRespinis
Marked : True
Raw File Name : Version : 12.2.1
Process Version : 10.0
Incremental Temperature : 0
Incremental Tint : 0
Luminance Smoothing : 0
Color Noise Reduction : 0
Vignette Amount : 0
Shadow Tint : 0
Red Hue : 0
Red Saturation : 0
Green Hue : 0
Green Saturation : 0
Blue Hue : 0
Blue Saturation : 0
Gray Mixer Red : -9
Gray Mixer Orange : -19
Gray Mixer Yellow : -22
Gray Mixer Green : -27
Gray Mixer Aqua : -18
Gray Mixer Blue : +9
Gray Mixer Purple : +15
Gray Mixer Magenta : +4
Split Toning Shadow Hue : 0
Split Toning Shadow Saturation : 0
Split Toning Highlight Hue : 0
Split Toning Highlight Saturation : 0
Split Toning Balance : 0
Parametric Shadows : 0
Parametric Darks : 0
Parametric Lights : 0
Parametric Highlights : 0
Parametric Shadow Split : 25
Parametric Midtone Split : 50
Parametric Highlight Split : 75
Sharpen Radius : +1.0
Sharpen Detail : 25
Sharpen Edge Masking : 0
Post Crop Vignette Amount : 0
Grain Amount : 0
Lens Profile Enable : 0
Lens Manual Distortion Amount : 0
Perspective Vertical : 0
Perspective Horizontal : 0
Perspective Rotate : 0.0
Perspective Scale : 100
Perspective Aspect : 0
Perspective Upright : Off
Perspective X : 0.00
Perspective Y : 0.00
Auto Lateral CA : 0
Exposure 2012 : 0.00
Contrast 2012 : -39
Highlights 2012 : 0
Shadows 2012 : 0
Whites 2012 : 0
Blacks 2012 : 0
Clarity 2012 : 0
Dehaze : 0
Texture : 0
Tone Map Strength : 0
Convert To Grayscale : True
Override Look Vignette : False
Tone Curve Name : Linear
Tone Curve Name 2012 : Linear
Camera Profile : Embedded
Lens Profile Setup : LensDefaults
Has Settings : True
Has Crop : False
Already Applied : True
Creator : Francis DeRespinis
Rights : © 2018 Francis DeRespinis. All Rights Reserved.
Subject : B&W / Monochrome, Female, Leica, People, Travel, city, urban
Usage Terms : No rights granted without prior written permission
Creator City : Raleigh
Creator Country : USA
Creator Address : 5104 Pine Drive
Creator Postal Code : 27606
Creator Region : North Carolina
Creator Work Email : franman (at) mindspring (dot) com
Creator Work Telephone : 1-919-233-1764
Tone Curve : 0, 0, 255, 255
Tone Curve Red : 0, 0, 255, 255
Tone Curve Green : 0, 0, 255, 255
Tone Curve Blue : 0, 0, 255, 255
Tone Curve PV2012 : 0, 0, 255, 255
Tone Curve PV2012 Red : 0, 0, 255, 255
Tone Curve PV2012 Green : 0, 0, 255, 255
Tone Curve PV2012 Blue : 0, 0, 255, 255
Paint Correction Range Mask Version : +2, +2, +2, +2
Paint Correction Range Mask Type : 0, 0, 0, 0
Paint Correction Range Mask Color Amount : 0.500000, 0.500000, 0.500000, 0.500000
Paint Correction Range Mask Lum Min : 0.000000, 0.000000, 0.000000, 0.000000
Paint Correction Range Mask Lum Max : 1.000000, 1.000000, 1.000000, 1.000000
Paint Correction Range Mask Lum Feather : 0.500000, 0.500000, 0.500000, 0.500000
Paint Correction Range Mask Depth Min : 0.000000, 0.000000, 0.000000, 0.000000
Paint Correction Range Mask Depth Max : 1.000000, 1.000000, 1.000000, 1.000000
Paint Correction Range Mask Depth Feather : 0.500000, 0.500000, 0.500000, 0.500000
Paint Correction What : Correction
Paint Correction Amount : 1.000000
Paint Correction Active : true
Paint Correction Saturation : 0.000000
Paint Correction Sharpness : 0.000000
Paint Correction Brightness : 0.000000
Paint Correction Toning Hue : 240.000000
Paint Correction Toning Saturation : 0.000000
Paint Correction Exposure 2012 : -0.075000
Paint Correction Contrast 2012 : 0.000000
Paint Correction Highlights 2012 : 0.000000
Paint Correction Shadows 2012 : 0.000000
Paint Correction Whites 2012 : 0.000000
Paint Correction Blacks 2012 : 0.000000
Paint Correction Clarity 2012 : 0.000000
Paint Correction Dehaze : 0.000000
Paint Correction Luminance Noise : 0.000000
Paint Correction Moire : 0.000000
Paint Correction Defringe : 0.000000
Paint Correction Temperature : 0.000000
Paint Correction Tint : 0.000000
Paint Correction Mask What : Mask/Paint
Paint Correction Mask Value : 0.509446
Paint Correction Mask Radius : 0.075380
Paint Correction Mask Flow : 1.000000
Paint Correction Mask Center Weight : 0.161121
Circ Grad Based Corr What : Correction
Circ Grad Based Corr Amount : 1.000000
Circ Grad Based Corr Active : true
Circ Grad Based Corr Saturation : 0.000000
Circ Grad Based Corr Sharpness : 0.000000
Circ Grad Based Corr Brightness : 0.000000
Circ Grad Based Corr Toning Hue : 240.000000
Circ Grad Based Corr Toning Saturation : 0.000000
Circ Grad Based Corr Exposure 2012 : -0.428701
Circ Grad Based Corr Contrast 2012 : 0.000000
Circ Grad Based Corr Highlights 2012 : 0.000000
Circ Grad Based Corr Shadows 2012 : 0.000000
Circ Grad Based Corr Whites 2012 : 0.000000
Circ Grad Based Corr Blacks 2012 : 0.000000
Circ Grad Based Corr Clarity 2012 : 0.000000
Circ Grad Based Corr Dehaze : 0.000000
Circ Grad Based Corr Luminance Noise : 0.000000
Circ Grad Based Corr Moire : 0.000000
Circ Grad Based Corr Defringe : 0.000000
Circ Grad Based Corr Temperature : 0.000000
Circ Grad Based Corr Tint : 0.000000
Circ Grad Based Corr Mask What : Mask/CircularGradient
Circ Grad Based Corr Mask Value : 1.000000
Circ Grad Based Corr Mask Top : 0.301815
Circ Grad Based Corr Mask Left : 0.300056
Circ Grad Based Corr Mask Bottom : 0.441980
Circ Grad Based Corr Mask Right : 0.459413
Circ Grad Based Corr Mask Angle : 0.000000
Circ Grad Based Corr Mask Midpoint : +50
Circ Grad Based Corr Mask Roundness : 0
Circ Grad Based Corr Mask Feather : +50
Circ Grad Based Corr Mask Flipped : true
Circ Grad Based Corr Mask Version : +2
Circ Grad Based Corr Range Mask Version : +2
Circ Grad Based Corr Range Mask Type : 0
Circ Grad Based Corr Range Mask Color Amount : 0.500000
Circ Grad Based Corr Range Mask Lum Min : 0.000000
Circ Grad Based Corr Range Mask Lum Max : 1.000000
Circ Grad Based Corr Range Mask Lum Feather : 0.500000
Circ Grad Based Corr Range Mask Depth Min : 0.000000
Circ Grad Based Corr Range Mask Depth Max : 1.000000
Circ Grad Based Corr Range Mask Depth Feather : 0.500000
Look Name : B&W 01
Look Amount : 1.000000
Look Cluster : Adobe
Look Supports Monochrome : false
Look Sort Name : B&W 01
Look Group : B&W
Look Parameters Version : 12.2.1
Look Parameters Process Version : 11.0
Look Parameters Contrast 2012 : +33
Look Parameters Highlights 2012 : -40
Look Parameters Shadows 2012 : +45
Look Parameters Blacks 2012 : -10
Look Parameters Clarity 2012 : +8
Look Parameters Convert To Grayscale : True
Look Parameters Look Table : 62CE423BDCA099FE0B786CA01EB606B0
Look Parameters Tone Curve PV2012 : 0, 0, 17, 17, 34, 36, 51, 55, 68, 75, 85, 96, 102, 116, 119, 136, 136, 154, 153, 171, 170, 187, 187, 202, 204, 216, 221, 230, 238, 242, 255, 255
Look Parameters Tone Curve PV2012 Red : 0, 0, 255, 255
Look Parameters Tone Curve PV2012 Green : 0, 0, 255, 255
Look Parameters Tone Curve PV2012 Blue : 0, 0, 255, 255
Image Width : 300
Image Height : 400
Bits Per Sample : 8
Color Components : 3
Aperture : 3.5
Image Size : 300x400
Megapixels : 0.120
Scale Factor To 35 mm Equivalent : 1.0
Shutter Speed : 1/60
Modify Date : 2020:05:01 15:22:01-04:00
Circle Of Confusion : 0.030 mm
Field Of View : 65.5 deg
Focal Length : 28.0 mm (35 mm equivalent: 28.0 mm)
Hyperfocal Distance : 7.46 m
Light Value : 5.5
Lens ID : 28.0mm f/1.7