Uber Exif Photo
Copyright Flag : False
Make : Panasonic
Camera Model Name : DMC-FZ200
Orientation : Horizontal (normal)
Software : Adobe Photoshop CS3 Windows
Modify Date : 2014:01:22 21:09:41
Exposure Time : 1/160
F Number : 5.0
Exposure Program : Aperture-priority AE
ISO : 200
Date/Time Original : 2013:12:28 13:45:57
Create Date : 2013:12:28 13:45:57
Shutter Speed Value : 1/160
Aperture Value : 5.0
Exposure Compensation : 0
Max Aperture Value : 2.8
Metering Mode : Multi-segment
Light Source : Flash
Focal Length : 19.6 mm
Color Space : sRGB
Exif Image Width : 2000
Exif Image Height : 1505
Sensing Method : One-chip color area
Scene Type : Directly photographed
Custom Rendered : Normal
Exposure Mode : Auto
White Balance : Manual
Digital Zoom Ratio : 0
Focal Length In 35mm Format : 109 mm
Scene Capture Type : Standard
Gain Control : Low gain up
Contrast : High
Saturation : Normal
Sharpness : Soft
Date/Time Digitized : 2013:12:28 13:45:57+01:00
Creator Tool : Adobe Photoshop CS3 Windows
Rating : 0
Raw File Name : P1000156.JPG
Version : 4.4.1
Incremental Temperature : 0
Incremental Tint : 0
Exposure : 0.00
Shadows : 7
Brightness : +6
Luminance Smoothing : 0
Color Noise Reduction : 0
Chromatic Aberration R : 0
Chromatic Aberration B : 0
Vignette Amount : 0
Shadow Tint : 0
Red Hue : 0
Red Saturation : 0
Green Hue : 0
Green Saturation : 0
Blue Hue : 0
Blue Saturation : 0
Fill Light : 0
Vibrance : 0
Highlight Recovery : 39
Clarity : 23
Defringe : 0
Hue Adjustment Red : 0
Hue Adjustment Orange : 0
Hue Adjustment Yellow : 0
Hue Adjustment Green : 0
Hue Adjustment Aqua : 0
Hue Adjustment Blue : 0
Hue Adjustment Purple : 0
Hue Adjustment Magenta : 0
Saturation Adjustment Red : 0
Saturation Adjustment Orange : 0
Saturation Adjustment Yellow : 0
Saturation Adjustment Green : 0
Saturation Adjustment Aqua : 0
Saturation Adjustment Blue : 0
Saturation Adjustment Purple : 0
Saturation Adjustment Magenta : 0
Luminance Adjustment Red : 0
Luminance Adjustment Orange : 0
Luminance Adjustment Yellow : 0
Luminance Adjustment Green : 0
Luminance Adjustment Aqua : 0
Luminance Adjustment Blue : 0
Luminance Adjustment Purple : 0
Luminance Adjustment Magenta : 0
Split Toning Shadow Hue : 0
Split Toning Shadow Saturation : 0
Split Toning Highlight Hue : 0
Split Toning Highlight Saturation : 0
Split Toning Balance : 0
Parametric Shadows : 0
Parametric Darks : 0
Parametric Lights : 0
Parametric Highlights : 0
Parametric Shadow Split : 25
Parametric Midtone Split : 50
Parametric Highlight Split : 75
Sharpen Radius : +1.0
Sharpen Detail : 25
Sharpen Edge Masking : 0
Convert To Grayscale : False
Tone Curve Name : Linear
Camera Profile : Embedded
Has Settings : True
Has Crop : False
Already Applied : True
Format : image/jpeg
Color Mode : RGB
ICC Profile Name : sRGB IEC61966-2.1
Flash Fired : False
Flash Return : No return detection
Flash Mode : Off
Flash Function : False
Flash Red Eye Mode : False
Tone Curve : 0, 0, 255, 255
Derived From : Image Width : 300
Image Height : 226
Bits Per Sample : 8
Color Components : 1
Aperture : 5.0
Image Size : 300x226
Megapixels : 0.068
Scale Factor To 35 mm Equivalent : 5.6
Shutter Speed : 1/160
Flash : Off, Did not fire
Circle Of Confusion : 0.005 mm
Field Of View : 18.8 deg
Focal Length : 19.6 mm (35 mm equivalent: 109.0 mm)
Hyperfocal Distance : 14.22 m
Light Value : 11.0